{"text_format":"3","workbook":"xlsx","n_sheets":3,"sheets":["請求書（請求者控）","送付用）請求書①","送付用）請求書②"],"not_rendered":{"images":1,"macros":1,"external_links":1,"defined_names":3},"read":"whole","date_system":"1900"}

{"sheet":"請求書（請求者控）","index":0,"n_rows":50,"n_cols":95,"rows_kept":50,"merged":[[0,1,0,20],[0,34,1,58],[1,1,1,19],[1,21,1,23],[2,61,2,64],[2,65,5,90],[3,4,3,11],[3,17,3,18],[3,21,3,22],[3,25,3,26],[5,4,5,11],[7,34,11,36],[7,37,11,51],[7,61,7,66],[7,67,7,71],[7,72,7,73],[7,74,7,79],[7,80,7,81],[7,82,7,89],[9,61,9,66],[9,67,9,75],[9,76,9,78],[9,79,9,87],[9,88,9,90],[11,67,11,74],[11,75,11,77],[11,78,11,91],[13,4,13,11],[13,66,13,87],[15,1,41,29],[15,34,15,41],[15,43,15,48],[15,49,15,51],[15,53,15,61],[15,63,15,72],[15,74,15,82],[17,43,17,90],[19,31,21,32],[19,34,19,36],[19,37,19,41],[19,43,19,51],[19,53,19,61],[19,63,19,72],[19,74,19,82],[21,43,21,90],[23,31,25,32],[23,34,23,36],[23,37,23,41],[23,43,23,51],[23,53,23,61],[23,63,23,72],[23,74,23,82],[25,43,25,90],[27,31,29,32],[27,34,27,36],[27,37,27,41],[27,43,27,51],[27,53,27,61],[27,63,27,72],[27,74,27,82],[29,43,29,90],[31,31,33,32],[31,34,31,36],[31,37,31,41],[31,43,31,51],[31,53,31,61],[31,63,31,72],[31,74,31,82],[33,43,33,90],[35,31,37,32],[35,34,35,36],[35,37,35,41],[35,43,35,51],[35,53,35,61],[35,63,35,72],[35,74,35,82],[37,43,37,90],[39,31,41,32],[39,34,39,36],[39,37,39,41],[39,43,39,51],[39,53,39,61],[39,63,39,72],[39,74,39,82],[41,43,41,90],[43,56,44,61],[43,63,44,72],[43,74,44,82],[44,20,50,21],[44,22,50,27],[44,28,50,33],[44,34,50,39],[44,40,50,45],[44,46,50,51],[46,56,47,61],[46,63,47,72],[46,74,47,82],[49,56,50,61],[49,63,50,72],[49,74,50,77],[49,79,50,90],[49,93,50,94]]}
[null,"東亜道路工業株式会社",{"$nulls":32},"請　求　書（請求者控）",{"$nulls":40},"伝票№",{"$nulls":18}," 印刷される際はここのボタンを押してください。"]
[{"$nulls":21},"御中"]
[{"$nulls":61},"住所"]
[{"$nulls":4},"請求日",{"$nulls":8},2,0,null,null,"年",{"$nulls":3},"月",{"$nulls":3},"日",{"$nulls":35},"会社名"]
[]
[{"$nulls":4},"取引先コード"]
[]
[{"$nulls":34},"区　分\n消費税",null,null,"310 : 10％課税（税抜）\n908 : ８％軽減課税（税抜）\n610 : 非課税\n710 : 不課税",{"$nulls":23},"電話",{"$nulls":10},"－",{"$nulls":7},"－"]
[]
[{"$nulls":61},"取引銀行",{"$nulls":14},"銀行",{"$nulls":11},"支店"]
[]
[{"$nulls":67},"当座",{"$nulls":7},"№"]
[]
[{"$nulls":4},"工事コード",{"$nulls":56},"登録番号"]
[]
[null,"※作成にあたって\n１．毎月末日締切で翌月３日迄に必着するよう提出して下さい。\n２．当社の工事毎に作成し、内訳を添付して提出して下さい。\n３．担当者から工事コードの指定があった場合には、「工事コ\n　　ード」欄に記入して下さい。\n４．請求額は税抜き金額と消費税額に分けて記入し、消費税区分\n　　コードを「消費税区分」欄に記入して下さい。\n５．税率毎の税抜請求額及び消費税額を集計し、各税率の小計欄\n　　にその合計額を、又合計欄には合計請求額を記入して下さ\n　　い。\n６．請求者控(１枚目)を除いた、以下２枚(入力用及び請求書)に\n　　住所・会社名・電話番号・振込先口座を記入し、請求者印\n　　の押印したものを提出して下さい。\n７. 登録番号欄には、消費税法により適格請求書発行事業者とし\n　　て登録番号の通知を受けている場合、記載の登録番号※を記\n　　入して下さい。\n※ 番号の記入例”T9-9999-9999-9999”又は”T9999999999999”\n",{"$nulls":32},"消費税区分",{"$nulls":8},"数 量",{"$nulls":5},"少数",{"$nulls":3},"単 価",{"$nulls":9},"金額（税抜）",{"$nulls":10},"消費税額"]
[]
[{"$nulls":43},"摘　　　　　　　　　要",{"$nulls":49},"税率確認"]
[]
[{"$nulls":31},1,{"$nulls":5},{"$f":"IF(AI20=\"\",\"\",IF(AI20=310,\"10%課税\",IF(AI20=908,\"軽8％課税\",IF(AI20=610,\"非課税\",IF(AI20=710,\"不課税\",\"区分エラー\")))))","v":""},{"$nulls":15},{"$f":"IF(AR20=\"\",\"\",BL20/AR20)","v":""},{"$nulls":39},{"$f":"IF(BL20=\"\",\"\",BW20/BL20)","v":""}]
[]
[]
[]
[{"$nulls":31},2,{"$nulls":5},{"$f":"IF(AI24=\"\",\"\",IF(AI24=310,\"10%課税\",IF(AI24=908,\"軽8％課税\",IF(AI24=610,\"非課税\",IF(AI24=710,\"不課税\",\"区分エラー\")))))","v":""},{"$nulls":15},{"$f":"IF(AR24=\"\",\"\",BL24/AR24)","v":""},{"$nulls":39},{"$f":"IF(BL24=\"\",\"\",BW24/BL24)","v":""}]
[]
[]
[]
[{"$nulls":31},3,{"$nulls":5},{"$f":"IF(AI28=\"\",\"\",IF(AI28=310,\"10%課税\",IF(AI28=908,\"軽8％課税\",IF(AI28=610,\"非課税\",IF(AI28=710,\"不課税\",\"区分エラー\")))))","v":""},{"$nulls":15},{"$f":"IF(AR28=\"\",\"\",BL28/AR28)","v":""},{"$nulls":39},{"$f":"IF(BL28=\"\",\"\",BW28/BL28)","v":""}]
[]
[]
[]
[{"$nulls":31},4,{"$nulls":5},{"$f":"IF(AI32=\"\",\"\",IF(AI32=310,\"10%課税\",IF(AI32=908,\"軽8％課税\",IF(AI32=610,\"非課税\",IF(AI32=710,\"不課税\",\"区分エラー\")))))","v":""},{"$nulls":15},{"$f":"IF(AR32=\"\",\"\",BL32/AR32)","v":""},{"$nulls":39},{"$f":"IF(BL32=\"\",\"\",BW32/BL32)","v":""}]
[]
[]
[]
[{"$nulls":31},5,{"$nulls":5},{"$f":"IF(AI36=\"\",\"\",IF(AI36=310,\"10%課税\",IF(AI36=908,\"軽8％課税\",IF(AI36=610,\"非課税\",IF(AI36=710,\"不課税\",\"区分エラー\")))))","v":""},{"$nulls":15},{"$f":"IF(AR36=\"\",\"\",BL36/AR36)","v":""},{"$nulls":39},{"$f":"IF(BL36=\"\",\"\",BW36/BL36)","v":""}]
[]
[]
[]
[{"$nulls":31},6,{"$nulls":5},{"$f":"IF(AI40=\"\",\"\",IF(AI40=310,\"10%課税\",IF(AI40=908,\"軽8％課税\",IF(AI40=610,\"非課税\",IF(AI40=710,\"不課税\",\"区分エラー\")))))","v":""},{"$nulls":15},{"$f":"IF(AR40=\"\",\"\",BL40/AR40)","v":""},{"$nulls":39},{"$f":"IF(BL40=\"\",\"\",BW40/BL40)","v":""}]
[]
[]
[]
[{"$nulls":56},"10％対象計",{"$nulls":6},{"$f":"SUMIF(AI20:AI40,310,BL20:BL40)","v":{"v":0,"d":"0 "}},{"$nulls":10},{"$f":"SUMIF(AI20:AI40,310,BW20:BW40)","v":{"v":0,"d":"0 "}}]
[]
[]
[{"$nulls":56},"８％対象計",{"$nulls":6},{"$f":"SUMIF(AI20:AI40,908,BL20:BL40)","v":{"v":0,"d":"0 "}},{"$nulls":10},{"$f":"SUMIF(AI20:AI40,908,BW20:BW40)","v":{"v":0,"d":"0 "}}]
[]
[]
[{"$nulls":63},{"$f":"SUMIF(AI20:AI40,610,BL20:BL40)+SUMIF(AI20:AI40,710,BL20:BL40)","v":{"v":0,"d":"0 "}},{"$nulls":10},"合計",{"$nulls":4},{"$f":"BL44+BL47+BL50+BW44+BW47","v":{"v":0,"d":"0 "}},{"$nulls":13},{"$f":"IF(SUM(BL20,BL24,BL28,BL32,BL36,BL40,BW20,BW24,BW28,BW32,BW36,BW40)=CB50,\"\",\"税区分未記入があります\")","v":""}]

{"sheet":"送付用）請求書①","index":1,"n_rows":51,"n_cols":92,"rows_kept":51,"merged":[[0,1,0,20],[0,34,1,58],[1,1,1,19],[1,21,1,23],[2,61,2,64],[2,65,5,90],[3,4,3,11],[3,17,3,18],[3,21,3,22],[3,25,3,26],[3,34,3,40],[5,4,5,11],[5,34,5,40],[7,34,7,40],[7,61,7,66],[7,67,7,71],[7,72,7,73],[7,74,7,79],[7,80,7,81],[7,82,7,89],[9,4,9,11],[9,34,9,40],[9,61,9,66],[9,67,9,75],[9,76,9,78],[9,79,9,87],[9,88,9,90],[11,4,11,11],[11,13,11,23],[11,34,11,40],[11,67,11,74],[11,75,11,77],[11,78,11,91],[13,4,13,11],[13,66,13,87],[15,4,15,14],[15,16,15,32],[15,34,15,41],[15,43,15,48],[15,49,15,51],[15,53,15,61],[15,63,15,72],[15,74,15,82],[15,84,15,90],[17,4,17,14],[17,16,17,32],[17,34,17,41],[17,43,17,90],[19,1,21,2],[19,4,19,14],[19,16,19,23],[19,24,19,32],[19,34,19,36],[19,37,19,41],[19,43,19,51],[19,53,19,61],[19,63,19,72],[19,74,19,82],[19,86,19,90],[21,4,21,14],[21,16,21,23],[21,24,21,32],[21,36,21,41],[21,43,21,90],[23,1,25,2],[23,4,23,14],[23,16,23,23],[23,24,23,32],[23,34,23,36],[23,37,23,41],[23,43,23,51],[23,53,23,61],[23,63,23,72],[23,74,23,82],[23,86,23,90],[25,4,25,14],[25,16,25,23],[25,24,25,32],[25,36,25,41],[25,43,25,90],[27,1,29,2],[27,4,27,14],[27,16,27,23],[27,24,27,32],[27,34,27,36],[27,37,27,41],[27,43,27,51],[27,53,27,61],[27,63,27,72],[27,74,27,82],[27,86,27,90],[29,4,29,14],[29,16,29,23],[29,24,29,32],[29,36,29,41],[29,43,29,90],[31,1,33,2],[31,4,31,14],[31,16,31,23],[31,24,31,32],[31,34,31,36],[31,37,31,41],[31,43,31,51],[31,53,31,61],[31,63,31,72],[31,74,31,82],[31,86,31,90],[33,4,33,14],[33,16,33,23],[33,24,33,32],[33,36,33,41],[33,43,33,90],[35,1,37,2],[35,4,35,14],[35,16,35,23],[35,24,35,32],[35,34,35,36],[35,37,35,41],[35,43,35,51],[35,53,35,61],[35,63,35,72],[35,74,35,82],[35,86,35,90],[37,4,37,14],[37,16,37,23],[37,24,37,32],[37,36,37,41],[37,43,37,90],[39,1,41,2],[39,4,39,14],[39,16,39,23],[39,24,39,32],[39,34,39,36],[39,37,39,41],[39,43,39,51],[39,53,39,61],[39,63,39,72],[39,74,39,82],[39,86,39,90],[41,4,41,14],[41,16,41,23],[41,24,41,32],[41,36,41,41],[41,43,41,90],[43,56,44,61],[43,63,44,72],[43,74,44,82],[44,20,50,21],[44,22,50,27],[44,28,50,33],[44,34,50,39],[44,40,50,45],[44,46,50,51],[46,56,47,61],[46,63,47,72],[46,74,47,82],[49,56,50,61],[49,63,50,72],[49,74,50,77],[49,79,50,90]]}
[null,"東亜道路工業株式会社",{"$nulls":32},"請　求　書（入力用）",{"$nulls":40},"伝票№"]
[null,{"$f":"IF('請求書（請求者控）'!B2=\"\",\"\",'請求書（請求者控）'!B2)","v":""},{"$f":"IF('請求書（請求者控）'!C2=\"\",\"\",'請求書（請求者控）'!C2)","v":""},{"$f":"IF('請求書（請求者控）'!D2=\"\",\"\",'請求書（請求者控）'!D2)","v":""},{"$f":"IF('請求書（請求者控）'!E2=\"\",\"\",'請求書（請求者控）'!E2)","v":""},{"$f":"IF('請求書（請求者控）'!F2=\"\",\"\",'請求書（請求者控）'!F2)","v":""},{"$f":"IF('請求書（請求者控）'!G2=\"\",\"\",'請求書（請求者控）'!G2)","v":""},{"$f":"IF('請求書（請求者控）'!H2=\"\",\"\",'請求書（請求者控）'!H2)","v":""},{"$f":"IF('請求書（請求者控）'!I2=\"\",\"\",'請求書（請求者控）'!I2)","v":""},{"$f":"IF('請求書（請求者控）'!J2=\"\",\"\",'請求書（請求者控）'!J2)","v":""},{"$f":"IF('請求書（請求者控）'!K2=\"\",\"\",'請求書（請求者控）'!K2)","v":""},{"$f":"IF('請求書（請求者控）'!L2=\"\",\"\",'請求書（請求者控）'!L2)","v":""},{"$f":"IF('請求書（請求者控）'!M2=\"\",\"\",'請求書（請求者控）'!M2)","v":""},{"$f":"IF('請求書（請求者控）'!N2=\"\",\"\",'請求書（請求者控）'!N2)","v":""},{"$f":"IF('請求書（請求者控）'!O2=\"\",\"\",'請求書（請求者控）'!O2)","v":""},{"$f":"IF('請求書（請求者控）'!P2=\"\",\"\",'請求書（請求者控）'!P2)","v":""},{"$f":"IF('請求書（請求者控）'!Q2=\"\",\"\",'請求書（請求者控）'!Q2)","v":""},{"$f":"IF('請求書（請求者控）'!R2=\"\",\"\",'請求書（請求者控）'!R2)","v":""},{"$f":"IF('請求書（請求者控）'!S2=\"\",\"\",'請求書（請求者控）'!S2)","v":""},{"$f":"IF('請求書（請求者控）'!T2=\"\",\"\",'請求書（請求者控）'!T2)","v":""},null,"御中",{"$nulls":53},"(注文書№",{"$nulls":15},")"]
[{"$nulls":61},"住所",{"$nulls":3},{"$f":"IF('請求書（請求者控）'!BN3=\"\",\"\",'請求書（請求者控）'!BN3)","v":""},{"$f":"IF('請求書（請求者控）'!BO3=\"\",\"\",'請求書（請求者控）'!BO3)","v":""},{"$f":"IF('請求書（請求者控）'!BP3=\"\",\"\",'請求書（請求者控）'!BP3)","v":""},{"$f":"IF('請求書（請求者控）'!BQ3=\"\",\"\",'請求書（請求者控）'!BQ3)","v":""},{"$f":"IF('請求書（請求者控）'!BR3=\"\",\"\",'請求書（請求者控）'!BR3)","v":""},{"$f":"IF('請求書（請求者控）'!BS3=\"\",\"\",'請求書（請求者控）'!BS3)","v":""},{"$f":"IF('請求書（請求者控）'!BT3=\"\",\"\",'請求書（請求者控）'!BT3)","v":""},{"$f":"IF('請求書（請求者控）'!BU3=\"\",\"\",'請求書（請求者控）'!BU3)","v":""},{"$f":"IF('請求書（請求者控）'!BV3=\"\",\"\",'請求書（請求者控）'!BV3)","v":""},{"$f":"IF('請求書（請求者控）'!BW3=\"\",\"\",'請求書（請求者控）'!BW3)","v":""},{"$f":"IF('請求書（請求者控）'!BX3=\"\",\"\",'請求書（請求者控）'!BX3)","v":""},{"$f":"IF('請求書（請求者控）'!BY3=\"\",\"\",'請求書（請求者控）'!BY3)","v":""},{"$f":"IF('請求書（請求者控）'!BZ3=\"\",\"\",'請求書（請求者控）'!BZ3)","v":""},{"$f":"IF('請求書（請求者控）'!CA3=\"\",\"\",'請求書（請求者控）'!CA3)","v":""},{"$f":"IF('請求書（請求者控）'!CB3=\"\",\"\",'請求書（請求者控）'!CB3)","v":""},{"$f":"IF('請求書（請求者控）'!CC3=\"\",\"\",'請求書（請求者控）'!CC3)","v":""},{"$f":"IF('請求書（請求者控）'!CD3=\"\",\"\",'請求書（請求者控）'!CD3)","v":""},{"$f":"IF('請求書（請求者控）'!CE3=\"\",\"\",'請求書（請求者控）'!CE3)","v":""},{"$f":"IF('請求書（請求者控）'!CF3=\"\",\"\",'請求書（請求者控）'!CF3)","v":""},{"$f":"IF('請求書（請求者控）'!CG3=\"\",\"\",'請求書（請求者控）'!CG3)","v":""},{"$f":"IF('請求書（請求者控）'!CH3=\"\",\"\",'請求書（請求者控）'!CH3)","v":""},{"$f":"IF('請求書（請求者控）'!CI3=\"\",\"\",'請求書（請求者控）'!CI3)","v":""},{"$f":"IF('請求書（請求者控）'!CJ3=\"\",\"\",'請求書（請求者控）'!CJ3)","v":""},{"$f":"IF('請求書（請求者控）'!CK3=\"\",\"\",'請求書（請求者控）'!CK3)","v":""},{"$f":"IF('請求書（請求者控）'!CL3=\"\",\"\",'請求書（請求者控）'!CL3)","v":""},{"$f":"IF('請求書（請求者控）'!CM3=\"\",\"\",'請求書（請求者控）'!CM3)","v":""}]
[{"$nulls":4},"請求日",{"$nulls":8},2,0,{"$f":"IF('請求書（請求者控）'!P4=\"\",\"\",'請求書（請求者控）'!P4)","v":""},{"$f":"IF('請求書（請求者控）'!Q4=\"\",\"\",'請求書（請求者控）'!Q4)","v":""},"年",null,{"$f":"IF('請求書（請求者控）'!T4=\"\",\"\",'請求書（請求者控）'!T4)","v":""},{"$f":"IF('請求書（請求者控）'!U4=\"\",\"\",'請求書（請求者控）'!U4)","v":""},"月",null,{"$f":"IF('請求書（請求者控）'!X4=\"\",\"\",'請求書（請求者控）'!X4)","v":""},{"$f":"IF('請求書（請求者控）'!Y4=\"\",\"\",'請求書（請求者控）'!Y4)","v":""},"日",{"$nulls":8},"請求金額",{"$nulls":26},"会社名",{"$nulls":3},{"$f":"IF('請求書（請求者控）'!BN4=\"\",\"\",'請求書（請求者控）'!BN4)","v":""},{"$f":"IF('請求書（請求者控）'!BO4=\"\",\"\",'請求書（請求者控）'!BO4)","v":""},{"$f":"IF('請求書（請求者控）'!BP4=\"\",\"\",'請求書（請求者控）'!BP4)","v":""},{"$f":"IF('請求書（請求者控）'!BQ4=\"\",\"\",'請求書（請求者控）'!BQ4)","v":""},{"$f":"IF('請求書（請求者控）'!BR4=\"\",\"\",'請求書（請求者控）'!BR4)","v":""},{"$f":"IF('請求書（請求者控）'!BS4=\"\",\"\",'請求書（請求者控）'!BS4)","v":""},{"$f":"IF('請求書（請求者控）'!BT4=\"\",\"\",'請求書（請求者控）'!BT4)","v":""},{"$f":"IF('請求書（請求者控）'!BU4=\"\",\"\",'請求書（請求者控）'!BU4)","v":""},{"$f":"IF('請求書（請求者控）'!BV4=\"\",\"\",'請求書（請求者控）'!BV4)","v":""},{"$f":"IF('請求書（請求者控）'!BW4=\"\",\"\",'請求書（請求者控）'!BW4)","v":""},{"$f":"IF('請求書（請求者控）'!BX4=\"\",\"\",'請求書（請求者控）'!BX4)","v":""},{"$f":"IF('請求書（請求者控）'!BY4=\"\",\"\",'請求書（請求者控）'!BY4)","v":""},{"$f":"IF('請求書（請求者控）'!BZ4=\"\",\"\",'請求書（請求者控）'!BZ4)","v":""},{"$f":"IF('請求書（請求者控）'!CA4=\"\",\"\",'請求書（請求者控）'!CA4)","v":""},{"$f":"IF('請求書（請求者控）'!CB4=\"\",\"\",'請求書（請求者控）'!CB4)","v":""},{"$f":"IF('請求書（請求者控）'!CC4=\"\",\"\",'請求書（請求者控）'!CC4)","v":""},{"$f":"IF('請求書（請求者控）'!CD4=\"\",\"\",'請求書（請求者控）'!CD4)","v":""},{"$f":"IF('請求書（請求者控）'!CE4=\"\",\"\",'請求書（請求者控）'!CE4)","v":""},{"$f":"IF('請求書（請求者控）'!CF4=\"\",\"\",'請求書（請求者控）'!CF4)","v":""},{"$f":"IF('請求書（請求者控）'!CG4=\"\",\"\",'請求書（請求者控）'!CG4)","v":""},{"$f":"IF('請求書（請求者控）'!CH4=\"\",\"\",'請求書（請求者控）'!CH4)","v":""},{"$f":"IF('請求書（請求者控）'!CI4=\"\",\"\",'請求書（請求者控）'!CI4)","v":""},{"$f":"IF('請求書（請求者控）'!CJ4=\"\",\"\",'請求書（請求者控）'!CJ4)","v":""},{"$f":"IF('請求書（請求者控）'!CK4=\"\",\"\",'請求書（請求者控）'!CK4)","v":""},{"$f":"IF('請求書（請求者控）'!CL4=\"\",\"\",'請求書（請求者控）'!CL4)","v":""},{"$f":"IF('請求書（請求者控）'!CM4=\"\",\"\",'請求書（請求者控）'!CM4)","v":""}]
[{"$nulls":65},{"$f":"IF('請求書（請求者控）'!BN5=\"\",\"\",'請求書（請求者控）'!BN5)","v":""},{"$f":"IF('請求書（請求者控）'!BO5=\"\",\"\",'請求書（請求者控）'!BO5)","v":""},{"$f":"IF('請求書（請求者控）'!BP5=\"\",\"\",'請求書（請求者控）'!BP5)","v":""},{"$f":"IF('請求書（請求者控）'!BQ5=\"\",\"\",'請求書（請求者控）'!BQ5)","v":""},{"$f":"IF('請求書（請求者控）'!BR5=\"\",\"\",'請求書（請求者控）'!BR5)","v":""},{"$f":"IF('請求書（請求者控）'!BS5=\"\",\"\",'請求書（請求者控）'!BS5)","v":""},{"$f":"IF('請求書（請求者控）'!BT5=\"\",\"\",'請求書（請求者控）'!BT5)","v":""},{"$f":"IF('請求書（請求者控）'!BU5=\"\",\"\",'請求書（請求者控）'!BU5)","v":""},{"$f":"IF('請求書（請求者控）'!BV5=\"\",\"\",'請求書（請求者控）'!BV5)","v":""},{"$f":"IF('請求書（請求者控）'!BW5=\"\",\"\",'請求書（請求者控）'!BW5)","v":""},{"$f":"IF('請求書（請求者控）'!BX5=\"\",\"\",'請求書（請求者控）'!BX5)","v":""},{"$f":"IF('請求書（請求者控）'!BY5=\"\",\"\",'請求書（請求者控）'!BY5)","v":""},{"$f":"IF('請求書（請求者控）'!BZ5=\"\",\"\",'請求書（請求者控）'!BZ5)","v":""},{"$f":"IF('請求書（請求者控）'!CA5=\"\",\"\",'請求書（請求者控）'!CA5)","v":""},{"$f":"IF('請求書（請求者控）'!CB5=\"\",\"\",'請求書（請求者控）'!CB5)","v":""},{"$f":"IF('請求書（請求者控）'!CC5=\"\",\"\",'請求書（請求者控）'!CC5)","v":""},{"$f":"IF('請求書（請求者控）'!CD5=\"\",\"\",'請求書（請求者控）'!CD5)","v":""},{"$f":"IF('請求書（請求者控）'!CE5=\"\",\"\",'請求書（請求者控）'!CE5)","v":""},{"$f":"IF('請求書（請求者控）'!CF5=\"\",\"\",'請求書（請求者控）'!CF5)","v":""},{"$f":"IF('請求書（請求者控）'!CG5=\"\",\"\",'請求書（請求者控）'!CG5)","v":""},{"$f":"IF('請求書（請求者控）'!CH5=\"\",\"\",'請求書（請求者控）'!CH5)","v":""},{"$f":"IF('請求書（請求者控）'!CI5=\"\",\"\",'請求書（請求者控）'!CI5)","v":""},{"$f":"IF('請求書（請求者控）'!CJ5=\"\",\"\",'請求書（請求者控）'!CJ5)","v":""},{"$f":"IF('請求書（請求者控）'!CK5=\"\",\"\",'請求書（請求者控）'!CK5)","v":""},{"$f":"IF('請求書（請求者控）'!CL5=\"\",\"\",'請求書（請求者控）'!CL5)","v":""},{"$f":"IF('請求書（請求者控）'!CM5=\"\",\"\",'請求書（請求者控）'!CM5)","v":""}]
[{"$nulls":4},"取引先コード",{"$nulls":8},{"$f":"IF('請求書（請求者控）'!N6=\"\",\"\",'請求書（請求者控）'!N6)","v":""},{"$f":"IF('請求書（請求者控）'!O6=\"\",\"\",'請求書（請求者控）'!O6)","v":""},{"$f":"IF('請求書（請求者控）'!P6=\"\",\"\",'請求書（請求者控）'!P6)","v":""},{"$f":"IF('請求書（請求者控）'!Q6=\"\",\"\",'請求書（請求者控）'!Q6)","v":""},{"$f":"IF('請求書（請求者控）'!R6=\"\",\"\",'請求書（請求者控）'!R6)","v":""},{"$f":"IF('請求書（請求者控）'!S6=\"\",\"\",'請求書（請求者控）'!S6)","v":""},{"$nulls":15},"保留金",{"$nulls":30},{"$f":"IF('請求書（請求者控）'!BN6=\"\",\"\",'請求書（請求者控）'!BN6)","v":""},{"$f":"IF('請求書（請求者控）'!BO6=\"\",\"\",'請求書（請求者控）'!BO6)","v":""},{"$f":"IF('請求書（請求者控）'!BP6=\"\",\"\",'請求書（請求者控）'!BP6)","v":""},{"$f":"IF('請求書（請求者控）'!BQ6=\"\",\"\",'請求書（請求者控）'!BQ6)","v":""},{"$f":"IF('請求書（請求者控）'!BR6=\"\",\"\",'請求書（請求者控）'!BR6)","v":""},{"$f":"IF('請求書（請求者控）'!BS6=\"\",\"\",'請求書（請求者控）'!BS6)","v":""},{"$f":"IF('請求書（請求者控）'!BT6=\"\",\"\",'請求書（請求者控）'!BT6)","v":""},{"$f":"IF('請求書（請求者控）'!BU6=\"\",\"\",'請求書（請求者控）'!BU6)","v":""},{"$f":"IF('請求書（請求者控）'!BV6=\"\",\"\",'請求書（請求者控）'!BV6)","v":""},{"$f":"IF('請求書（請求者控）'!BW6=\"\",\"\",'請求書（請求者控）'!BW6)","v":""},{"$f":"IF('請求書（請求者控）'!BX6=\"\",\"\",'請求書（請求者控）'!BX6)","v":""},{"$f":"IF('請求書（請求者控）'!BY6=\"\",\"\",'請求書（請求者控）'!BY6)","v":""},{"$f":"IF('請求書（請求者控）'!BZ6=\"\",\"\",'請求書（請求者控）'!BZ6)","v":""},{"$f":"IF('請求書（請求者控）'!CA6=\"\",\"\",'請求書（請求者控）'!CA6)","v":""},{"$f":"IF('請求書（請求者控）'!CB6=\"\",\"\",'請求書（請求者控）'!CB6)","v":""},{"$f":"IF('請求書（請求者控）'!CC6=\"\",\"\",'請求書（請求者控）'!CC6)","v":""},{"$f":"IF('請求書（請求者控）'!CD6=\"\",\"\",'請求書（請求者控）'!CD6)","v":""},{"$f":"IF('請求書（請求者控）'!CE6=\"\",\"\",'請求書（請求者控）'!CE6)","v":""},{"$f":"IF('請求書（請求者控）'!CF6=\"\",\"\",'請求書（請求者控）'!CF6)","v":""},{"$f":"IF('請求書（請求者控）'!CG6=\"\",\"\",'請求書（請求者控）'!CG6)","v":""},{"$f":"IF('請求書（請求者控）'!CH6=\"\",\"\",'請求書（請求者控）'!CH6)","v":""},{"$f":"IF('請求書（請求者控）'!CI6=\"\",\"\",'請求書（請求者控）'!CI6)","v":""},{"$f":"IF('請求書（請求者控）'!CJ6=\"\",\"\",'請求書（請求者控）'!CJ6)","v":""},{"$f":"IF('請求書（請求者控）'!CK6=\"\",\"\",'請求書（請求者控）'!CK6)","v":""},{"$f":"IF('請求書（請求者控）'!CL6=\"\",\"\",'請求書（請求者控）'!CL6)","v":""},{"$f":"IF('請求書（請求者控）'!CM6=\"\",\"\",'請求書（請求者控）'!CM6)","v":""}]
[]
[{"$nulls":34},"保留金解除額",{"$nulls":26},"電話",{"$nulls":5},{"$f":"IF('請求書（請求者控）'!BP8=\"\",\"\",'請求書（請求者控）'!BP8)","v":""},{"$f":"IF('請求書（請求者控）'!BQ8=\"\",\"\",'請求書（請求者控）'!BQ8)","v":""},{"$f":"IF('請求書（請求者控）'!BR8=\"\",\"\",'請求書（請求者控）'!BR8)","v":""},{"$f":"IF('請求書（請求者控）'!BS8=\"\",\"\",'請求書（請求者控）'!BS8)","v":""},{"$f":"IF('請求書（請求者控）'!BT8=\"\",\"\",'請求書（請求者控）'!BT8)","v":""},"－",null,{"$f":"IF('請求書（請求者控）'!BW8=\"\",\"\",'請求書（請求者控）'!BW8)","v":""},{"$f":"IF('請求書（請求者控）'!BX8=\"\",\"\",'請求書（請求者控）'!BX8)","v":""},{"$f":"IF('請求書（請求者控）'!BY8=\"\",\"\",'請求書（請求者控）'!BY8)","v":""},{"$f":"IF('請求書（請求者控）'!BZ8=\"\",\"\",'請求書（請求者控）'!BZ8)","v":""},{"$f":"IF('請求書（請求者控）'!CA8=\"\",\"\",'請求書（請求者控）'!CA8)","v":""},{"$f":"IF('請求書（請求者控）'!CB8=\"\",\"\",'請求書（請求者控）'!CB8)","v":""},"－",null,{"$f":"IF('請求書（請求者控）'!CE8=\"\",\"\",'請求書（請求者控）'!CE8)","v":""},{"$f":"IF('請求書（請求者控）'!CF8=\"\",\"\",'請求書（請求者控）'!CF8)","v":""},{"$f":"IF('請求書（請求者控）'!CG8=\"\",\"\",'請求書（請求者控）'!CG8)","v":""},{"$f":"IF('請求書（請求者控）'!CH8=\"\",\"\",'請求書（請求者控）'!CH8)","v":""},{"$f":"IF('請求書（請求者控）'!CI8=\"\",\"\",'請求書（請求者控）'!CI8)","v":""},{"$f":"IF('請求書（請求者控）'!CJ8=\"\",\"\",'請求書（請求者控）'!CJ8)","v":""},{"$f":"IF('請求書（請求者控）'!CK8=\"\",\"\",'請求書（請求者控）'!CK8)","v":""},{"$f":"IF('請求書（請求者控）'!CL8=\"\",\"\",'請求書（請求者控）'!CL8)","v":""}]
[]
[{"$nulls":4},"貸方組織コード",{"$nulls":29},"相殺金額",{"$nulls":26},"取引銀行",{"$nulls":5},{"$f":"IF('請求書（請求者控）'!BP10=\"\",\"\",'請求書（請求者控）'!BP10)","v":""},{"$f":"IF('請求書（請求者控）'!BQ10=\"\",\"\",'請求書（請求者控）'!BQ10)","v":""},{"$f":"IF('請求書（請求者控）'!BR10=\"\",\"\",'請求書（請求者控）'!BR10)","v":""},{"$f":"IF('請求書（請求者控）'!BS10=\"\",\"\",'請求書（請求者控）'!BS10)","v":""},{"$f":"IF('請求書（請求者控）'!BT10=\"\",\"\",'請求書（請求者控）'!BT10)","v":""},{"$f":"IF('請求書（請求者控）'!BU10=\"\",\"\",'請求書（請求者控）'!BU10)","v":""},{"$f":"IF('請求書（請求者控）'!BV10=\"\",\"\",'請求書（請求者控）'!BV10)","v":""},{"$f":"IF('請求書（請求者控）'!BW10=\"\",\"\",'請求書（請求者控）'!BW10)","v":""},{"$f":"IF('請求書（請求者控）'!BX10=\"\",\"\",'請求書（請求者控）'!BX10)","v":""},"銀行",null,null,{"$f":"IF('請求書（請求者控）'!CB10=\"\",\"\",'請求書（請求者控）'!CB10)","v":""},{"$f":"IF('請求書（請求者控）'!CC10=\"\",\"\",'請求書（請求者控）'!CC10)","v":""},{"$f":"IF('請求書（請求者控）'!CD10=\"\",\"\",'請求書（請求者控）'!CD10)","v":""},{"$f":"IF('請求書（請求者控）'!CE10=\"\",\"\",'請求書（請求者控）'!CE10)","v":""},{"$f":"IF('請求書（請求者控）'!CF10=\"\",\"\",'請求書（請求者控）'!CF10)","v":""},{"$f":"IF('請求書（請求者控）'!CG10=\"\",\"\",'請求書（請求者控）'!CG10)","v":""},{"$f":"IF('請求書（請求者控）'!CH10=\"\",\"\",'請求書（請求者控）'!CH10)","v":""},{"$f":"IF('請求書（請求者控）'!CI10=\"\",\"\",'請求書（請求者控）'!CI10)","v":""},{"$f":"IF('請求書（請求者控）'!CJ10=\"\",\"\",'請求書（請求者控）'!CJ10)","v":""},"支店"]
[]
[{"$nulls":4},"貸方組織名称",{"$nulls":29},"差引支払額",{"$nulls":32},{"$f":"IF('請求書（請求者控）'!BP12=\"\",\"\",'請求書（請求者控）'!BP12)","v":"当座"},{"$f":"IF('請求書（請求者控）'!BQ12=\"\",\"\",'請求書（請求者控）'!BQ12)","v":""},{"$f":"IF('請求書（請求者控）'!BR12=\"\",\"\",'請求書（請求者控）'!BR12)","v":""},{"$f":"IF('請求書（請求者控）'!BS12=\"\",\"\",'請求書（請求者控）'!BS12)","v":""},{"$f":"IF('請求書（請求者控）'!BT12=\"\",\"\",'請求書（請求者控）'!BT12)","v":""},{"$f":"IF('請求書（請求者控）'!BU12=\"\",\"\",'請求書（請求者控）'!BU12)","v":""},{"$f":"IF('請求書（請求者控）'!BV12=\"\",\"\",'請求書（請求者控）'!BV12)","v":""},{"$f":"IF('請求書（請求者控）'!BW12=\"\",\"\",'請求書（請求者控）'!BW12)","v":""},"№",null,null,{"$f":"IF('請求書（請求者控）'!CA12=\"\",\"\",'請求書（請求者控）'!CA12)","v":""},{"$f":"IF('請求書（請求者控）'!CB12=\"\",\"\",'請求書（請求者控）'!CB12)","v":""},{"$f":"IF('請求書（請求者控）'!CC12=\"\",\"\",'請求書（請求者控）'!CC12)","v":""},{"$f":"IF('請求書（請求者控）'!CD12=\"\",\"\",'請求書（請求者控）'!CD12)","v":""},{"$f":"IF('請求書（請求者控）'!CE12=\"\",\"\",'請求書（請求者控）'!CE12)","v":""},{"$f":"IF('請求書（請求者控）'!CF12=\"\",\"\",'請求書（請求者控）'!CF12)","v":""},{"$f":"IF('請求書（請求者控）'!CG12=\"\",\"\",'請求書（請求者控）'!CG12)","v":""},{"$f":"IF('請求書（請求者控）'!CH12=\"\",\"\",'請求書（請求者控）'!CH12)","v":""},{"$f":"IF('請求書（請求者控）'!CI12=\"\",\"\",'請求書（請求者控）'!CI12)","v":""},{"$f":"IF('請求書（請求者控）'!CJ12=\"\",\"\",'請求書（請求者控）'!CJ12)","v":""},{"$f":"IF('請求書（請求者控）'!CK12=\"\",\"\",'請求書（請求者控）'!CK12)","v":""},{"$f":"IF('請求書（請求者控）'!CL12=\"\",\"\",'請求書（請求者控）'!CL12)","v":""},{"$f":"IF('請求書（請求者控）'!CM12=\"\",\"\",'請求書（請求者控）'!CM12)","v":""},{"$f":"IF('請求書（請求者控）'!CN12=\"\",\"\",'請求書（請求者控）'!CN12)","v":""}]
[]
[{"$nulls":4},"工事コード",{"$nulls":8},{"$f":"IF('請求書（請求者控）'!N14=\"\",\"\",'請求書（請求者控）'!N14)","v":""},{"$f":"IF('請求書（請求者控）'!O14=\"\",\"\",'請求書（請求者控）'!O14)","v":""},{"$f":"IF('請求書（請求者控）'!P14=\"\",\"\",'請求書（請求者控）'!P14)","v":""},{"$f":"IF('請求書（請求者控）'!Q14=\"\",\"\",'請求書（請求者控）'!Q14)","v":""},{"$f":"IF('請求書（請求者控）'!R14=\"\",\"\",'請求書（請求者控）'!R14)","v":""},{"$f":"IF('請求書（請求者控）'!S14=\"\",\"\",'請求書（請求者控）'!S14)","v":""},{"$f":"IF('請求書（請求者控）'!T14=\"\",\"\",'請求書（請求者控）'!T14)","v":""},{"$f":"IF('請求書（請求者控）'!U14=\"\",\"\",'請求書（請求者控）'!U14)","v":""},{"$f":"IF('請求書（請求者控）'!V14=\"\",\"\",'請求書（請求者控）'!V14)","v":""},{"$f":"IF('請求書（請求者控）'!W14=\"\",\"\",'請求書（請求者控）'!W14)","v":""},{"$f":"IF('請求書（請求者控）'!X14=\"\",\"\",'請求書（請求者控）'!X14)","v":""},{"$nulls":37},"登録番号",{"$nulls":4},{"$f":"IF('請求書（請求者控）'!BO14=\"\",\"\",'請求書（請求者控）'!BO14)","v":""},{"$f":"IF('請求書（請求者控）'!BP14=\"\",\"\",'請求書（請求者控）'!BP14)","v":""},{"$f":"IF('請求書（請求者控）'!BQ14=\"\",\"\",'請求書（請求者控）'!BQ14)","v":""},{"$f":"IF('請求書（請求者控）'!BR14=\"\",\"\",'請求書（請求者控）'!BR14)","v":""},{"$f":"IF('請求書（請求者控）'!BS14=\"\",\"\",'請求書（請求者控）'!BS14)","v":""},{"$f":"IF('請求書（請求者控）'!BT14=\"\",\"\",'請求書（請求者控）'!BT14)","v":""},{"$f":"IF('請求書（請求者控）'!BU14=\"\",\"\",'請求書（請求者控）'!BU14)","v":""},{"$f":"IF('請求書（請求者控）'!BV14=\"\",\"\",'請求書（請求者控）'!BV14)","v":""},{"$f":"IF('請求書（請求者控）'!BW14=\"\",\"\",'請求書（請求者控）'!BW14)","v":""},{"$f":"IF('請求書（請求者控）'!BX14=\"\",\"\",'請求書（請求者控）'!BX14)","v":""},{"$f":"IF('請求書（請求者控）'!BY14=\"\",\"\",'請求書（請求者控）'!BY14)","v":""},{"$f":"IF('請求書（請求者控）'!BZ14=\"\",\"\",'請求書（請求者控）'!BZ14)","v":""},{"$f":"IF('請求書（請求者控）'!CA14=\"\",\"\",'請求書（請求者控）'!CA14)","v":""},{"$f":"IF('請求書（請求者控）'!CB14=\"\",\"\",'請求書（請求者控）'!CB14)","v":""},{"$f":"IF('請求書（請求者控）'!CC14=\"\",\"\",'請求書（請求者控）'!CC14)","v":""},{"$f":"IF('請求書（請求者控）'!CD14=\"\",\"\",'請求書（請求者控）'!CD14)","v":""},{"$f":"IF('請求書（請求者控）'!CE14=\"\",\"\",'請求書（請求者控）'!CE14)","v":""},{"$f":"IF('請求書（請求者控）'!CF14=\"\",\"\",'請求書（請求者控）'!CF14)","v":""},{"$f":"IF('請求書（請求者控）'!CG14=\"\",\"\",'請求書（請求者控）'!CG14)","v":""},{"$f":"IF('請求書（請求者控）'!CH14=\"\",\"\",'請求書（請求者控）'!CH14)","v":""},{"$f":"IF('請求書（請求者控）'!CI14=\"\",\"\",'請求書（請求者控）'!CI14)","v":""},{"$f":"IF('請求書（請求者控）'!CJ14=\"\",\"\",'請求書（請求者控）'!CJ14)","v":""}]
[]
[{"$nulls":4},"組織コード",{"$nulls":11},"科目コード",{"$nulls":17},"消費税区分",{"$nulls":8},"数 量",{"$nulls":5},"少数",{"$nulls":3},"単 価",{"$nulls":9},"金額（税抜）",{"$nulls":10},"消費税額",{"$nulls":9},"工場区分"]
[]
[{"$nulls":4},"組織名称",{"$nulls":11},"科目名称",{"$nulls":17},"摘要コード",{"$nulls":8},"摘　　　　　　　　　要"]
[]
[null,1,{"$nulls":32},{"$f":"IF('請求書（請求者控）'!AI20=\"\",\"\",'請求書（請求者控）'!AI20)","v":""},{"$f":"IF('請求書（請求者控）'!AJ20=\"\",\"\",'請求書（請求者控）'!AJ20)","v":""},{"$f":"IF('請求書（請求者控）'!AK20=\"\",\"\",'請求書（請求者控）'!AK20)","v":""},{"$f":"IF('請求書（請求者控）'!AL20=\"\",\"\",'請求書（請求者控）'!AL20)","v":""},{"$f":"IF('請求書（請求者控）'!AM20=\"\",\"\",'請求書（請求者控）'!AM20)","v":""},{"$f":"IF('請求書（請求者控）'!AN20=\"\",\"\",'請求書（請求者控）'!AN20)","v":""},{"$f":"IF('請求書（請求者控）'!AO20=\"\",\"\",'請求書（請求者控）'!AO20)","v":""},{"$f":"IF('請求書（請求者控）'!AP20=\"\",\"\",'請求書（請求者控）'!AP20)","v":""},null,{"$f":"IF('請求書（請求者控）'!AR20=\"\",\"\",'請求書（請求者控）'!AR20)","v":""},{"$f":"IF('請求書（請求者控）'!AS20=\"\",\"\",'請求書（請求者控）'!AS20)","v":""},{"$f":"IF('請求書（請求者控）'!AT20=\"\",\"\",'請求書（請求者控）'!AT20)","v":""},{"$f":"IF('請求書（請求者控）'!AU20=\"\",\"\",'請求書（請求者控）'!AU20)","v":""},{"$f":"IF('請求書（請求者控）'!AV20=\"\",\"\",'請求書（請求者控）'!AV20)","v":""},{"$f":"IF('請求書（請求者控）'!AW20=\"\",\"\",'請求書（請求者控）'!AW20)","v":""},{"$f":"IF('請求書（請求者控）'!AX20=\"\",\"\",'請求書（請求者控）'!AX20)","v":""},{"$f":"IF('請求書（請求者控）'!AY20=\"\",\"\",'請求書（請求者控）'!AY20)","v":""},{"$f":"IF('請求書（請求者控）'!AZ20=\"\",\"\",'請求書（請求者控）'!AZ20)","v":""},null,{"$f":"IF('請求書（請求者控）'!BB20=\"\",\"\",'請求書（請求者控）'!BB20)","v":""},{"$f":"IF('請求書（請求者控）'!BC20=\"\",\"\",'請求書（請求者控）'!BC20)","v":""},{"$f":"IF('請求書（請求者控）'!BD20=\"\",\"\",'請求書（請求者控）'!BD20)","v":""},{"$f":"IF('請求書（請求者控）'!BE20=\"\",\"\",'請求書（請求者控）'!BE20)","v":""},{"$f":"IF('請求書（請求者控）'!BF20=\"\",\"\",'請求書（請求者控）'!BF20)","v":""},{"$f":"IF('請求書（請求者控）'!BG20=\"\",\"\",'請求書（請求者控）'!BG20)","v":""},{"$f":"IF('請求書（請求者控）'!BH20=\"\",\"\",'請求書（請求者控）'!BH20)","v":""},{"$f":"IF('請求書（請求者控）'!BI20=\"\",\"\",'請求書（請求者控）'!BI20)","v":""},{"$f":"IF('請求書（請求者控）'!BJ20=\"\",\"\",'請求書（請求者控）'!BJ20)","v":""},null,{"$f":"IF('請求書（請求者控）'!BL20=\"\",\"\",'請求書（請求者控）'!BL20)","v":""},{"$f":"IF('請求書（請求者控）'!BM20=\"\",\"\",'請求書（請求者控）'!BM20)","v":""},{"$f":"IF('請求書（請求者控）'!BN20=\"\",\"\",'請求書（請求者控）'!BN20)","v":""},{"$f":"IF('請求書（請求者控）'!BO20=\"\",\"\",'請求書（請求者控）'!BO20)","v":""},{"$f":"IF('請求書（請求者控）'!BP20=\"\",\"\",'請求書（請求者控）'!BP20)","v":""},{"$f":"IF('請求書（請求者控）'!BQ20=\"\",\"\",'請求書（請求者控）'!BQ20)","v":""},{"$f":"IF('請求書（請求者控）'!BR20=\"\",\"\",'請求書（請求者控）'!BR20)","v":""},{"$f":"IF('請求書（請求者控）'!BS20=\"\",\"\",'請求書（請求者控）'!BS20)","v":""},{"$f":"IF('請求書（請求者控）'!BT20=\"\",\"\",'請求書（請求者控）'!BT20)","v":""},{"$f":"IF('請求書（請求者控）'!BU20=\"\",\"\",'請求書（請求者控）'!BU20)","v":""},null,{"$f":"IF('請求書（請求者控）'!BW20=\"\",\"\",'請求書（請求者控）'!BW20)","v":""},{"$f":"IF('請求書（請求者控）'!BX20=\"\",\"\",'請求書（請求者控）'!BX20)","v":""},{"$f":"IF('請求書（請求者控）'!BY20=\"\",\"\",'請求書（請求者控）'!BY20)","v":""},{"$f":"IF('請求書（請求者控）'!BZ20=\"\",\"\",'請求書（請求者控）'!BZ20)","v":""},{"$f":"IF('請求書（請求者控）'!CA20=\"\",\"\",'請求書（請求者控）'!CA20)","v":""},{"$f":"IF('請求書（請求者控）'!CB20=\"\",\"\",'請求書（請求者控）'!CB20)","v":""},{"$f":"IF('請求書（請求者控）'!CC20=\"\",\"\",'請求書（請求者控）'!CC20)","v":""},{"$f":"IF('請求書（請求者控）'!CD20=\"\",\"\",'請求書（請求者控）'!CD20)","v":""},{"$f":"IF('請求書（請求者控）'!CE20=\"\",\"\",'請求書（請求者控）'!CE20)","v":""}]
[{"$nulls":74},{"$f":"IF('請求書（請求者控）'!BW21=\"\",\"\",'請求書（請求者控）'!BW21)","v":""}]
[{"$nulls":43},{"$f":"IF('請求書（請求者控）'!AR22=\"\",\"\",'請求書（請求者控）'!AR22)","v":""},{"$f":"IF('請求書（請求者控）'!AS22=\"\",\"\",'請求書（請求者控）'!AS22)","v":""},{"$f":"IF('請求書（請求者控）'!AT22=\"\",\"\",'請求書（請求者控）'!AT22)","v":""},{"$f":"IF('請求書（請求者控）'!AU22=\"\",\"\",'請求書（請求者控）'!AU22)","v":""},{"$f":"IF('請求書（請求者控）'!AV22=\"\",\"\",'請求書（請求者控）'!AV22)","v":""},{"$f":"IF('請求書（請求者控）'!AW22=\"\",\"\",'請求書（請求者控）'!AW22)","v":""},{"$f":"IF('請求書（請求者控）'!AX22=\"\",\"\",'請求書（請求者控）'!AX22)","v":""},{"$f":"IF('請求書（請求者控）'!AY22=\"\",\"\",'請求書（請求者控）'!AY22)","v":""},{"$f":"IF('請求書（請求者控）'!AZ22=\"\",\"\",'請求書（請求者控）'!AZ22)","v":""},{"$f":"IF('請求書（請求者控）'!BA22=\"\",\"\",'請求書（請求者控）'!BA22)","v":""},{"$f":"IF('請求書（請求者控）'!BB22=\"\",\"\",'請求書（請求者控）'!BB22)","v":""},{"$f":"IF('請求書（請求者控）'!BC22=\"\",\"\",'請求書（請求者控）'!BC22)","v":""},{"$f":"IF('請求書（請求者控）'!BD22=\"\",\"\",'請求書（請求者控）'!BD22)","v":""},{"$f":"IF('請求書（請求者控）'!BE22=\"\",\"\",'請求書（請求者控）'!BE22)","v":""},{"$f":"IF('請求書（請求者控）'!BF22=\"\",\"\",'請求書（請求者控）'!BF22)","v":""},{"$f":"IF('請求書（請求者控）'!BG22=\"\",\"\",'請求書（請求者控）'!BG22)","v":""},{"$f":"IF('請求書（請求者控）'!BH22=\"\",\"\",'請求書（請求者控）'!BH22)","v":""},{"$f":"IF('請求書（請求者控）'!BI22=\"\",\"\",'請求書（請求者控）'!BI22)","v":""},{"$f":"IF('請求書（請求者控）'!BJ22=\"\",\"\",'請求書（請求者控）'!BJ22)","v":""},{"$f":"IF('請求書（請求者控）'!BK22=\"\",\"\",'請求書（請求者控）'!BK22)","v":""},{"$f":"IF('請求書（請求者控）'!BL22=\"\",\"\",'請求書（請求者控）'!BL22)","v":""},{"$f":"IF('請求書（請求者控）'!BM22=\"\",\"\",'請求書（請求者控）'!BM22)","v":""},{"$f":"IF('請求書（請求者控）'!BN22=\"\",\"\",'請求書（請求者控）'!BN22)","v":""},{"$f":"IF('請求書（請求者控）'!BO22=\"\",\"\",'請求書（請求者控）'!BO22)","v":""},{"$f":"IF('請求書（請求者控）'!BP22=\"\",\"\",'請求書（請求者控）'!BP22)","v":""},{"$f":"IF('請求書（請求者控）'!BQ22=\"\",\"\",'請求書（請求者控）'!BQ22)","v":""},{"$f":"IF('請求書（請求者控）'!BR22=\"\",\"\",'請求書（請求者控）'!BR22)","v":""},{"$f":"IF('請求書（請求者控）'!BS22=\"\",\"\",'請求書（請求者控）'!BS22)","v":""},{"$f":"IF('請求書（請求者控）'!BT22=\"\",\"\",'請求書（請求者控）'!BT22)","v":""},{"$f":"IF('請求書（請求者控）'!BU22=\"\",\"\",'請求書（請求者控）'!BU22)","v":""},{"$f":"IF('請求書（請求者控）'!BV22=\"\",\"\",'請求書（請求者控）'!BV22)","v":""},{"$f":"IF('請求書（請求者控）'!BW22=\"\",\"\",'請求書（請求者控）'!BW22)","v":""},{"$f":"IF('請求書（請求者控）'!BX22=\"\",\"\",'請求書（請求者控）'!BX22)","v":""},{"$f":"IF('請求書（請求者控）'!BY22=\"\",\"\",'請求書（請求者控）'!BY22)","v":""},{"$f":"IF('請求書（請求者控）'!BZ22=\"\",\"\",'請求書（請求者控）'!BZ22)","v":""},{"$f":"IF('請求書（請求者控）'!CA22=\"\",\"\",'請求書（請求者控）'!CA22)","v":""},{"$f":"IF('請求書（請求者控）'!CB22=\"\",\"\",'請求書（請求者控）'!CB22)","v":""},{"$f":"IF('請求書（請求者控）'!CC22=\"\",\"\",'請求書（請求者控）'!CC22)","v":""},{"$f":"IF('請求書（請求者控）'!CD22=\"\",\"\",'請求書（請求者控）'!CD22)","v":""},{"$f":"IF('請求書（請求者控）'!CE22=\"\",\"\",'請求書（請求者控）'!CE22)","v":""},{"$f":"IF('請求書（請求者控）'!CF22=\"\",\"\",'請求書（請求者控）'!CF22)","v":""},{"$f":"IF('請求書（請求者控）'!CG22=\"\",\"\",'請求書（請求者控）'!CG22)","v":""},{"$f":"IF('請求書（請求者控）'!CH22=\"\",\"\",'請求書（請求者控）'!CH22)","v":""},{"$f":"IF('請求書（請求者控）'!CI22=\"\",\"\",'請求書（請求者控）'!CI22)","v":""},{"$f":"IF('請求書（請求者控）'!CJ22=\"\",\"\",'請求書（請求者控）'!CJ22)","v":""},{"$f":"IF('請求書（請求者控）'!CK22=\"\",\"\",'請求書（請求者控）'!CK22)","v":""},{"$f":"IF('請求書（請求者控）'!CL22=\"\",\"\",'請求書（請求者控）'!CL22)","v":""},{"$f":"IF('請求書（請求者控）'!CM22=\"\",\"\",'請求書（請求者控）'!CM22)","v":""}]
[]
[null,2,{"$nulls":32},{"$f":"IF('請求書（請求者控）'!AI24=\"\",\"\",'請求書（請求者控）'!AI24)","v":""},{"$f":"IF('請求書（請求者控）'!AJ24=\"\",\"\",'請求書（請求者控）'!AJ24)","v":""},{"$f":"IF('請求書（請求者控）'!AK24=\"\",\"\",'請求書（請求者控）'!AK24)","v":""},{"$f":"IF('請求書（請求者控）'!AL24=\"\",\"\",'請求書（請求者控）'!AL24)","v":""},{"$f":"IF('請求書（請求者控）'!AM24=\"\",\"\",'請求書（請求者控）'!AM24)","v":""},{"$f":"IF('請求書（請求者控）'!AN24=\"\",\"\",'請求書（請求者控）'!AN24)","v":""},{"$f":"IF('請求書（請求者控）'!AO24=\"\",\"\",'請求書（請求者控）'!AO24)","v":""},{"$f":"IF('請求書（請求者控）'!AP24=\"\",\"\",'請求書（請求者控）'!AP24)","v":""},null,{"$f":"IF('請求書（請求者控）'!AR24=\"\",\"\",'請求書（請求者控）'!AR24)","v":""},{"$f":"IF('請求書（請求者控）'!AS24=\"\",\"\",'請求書（請求者控）'!AS24)","v":""},{"$f":"IF('請求書（請求者控）'!AT24=\"\",\"\",'請求書（請求者控）'!AT24)","v":""},{"$f":"IF('請求書（請求者控）'!AU24=\"\",\"\",'請求書（請求者控）'!AU24)","v":""},{"$f":"IF('請求書（請求者控）'!AV24=\"\",\"\",'請求書（請求者控）'!AV24)","v":""},{"$f":"IF('請求書（請求者控）'!AW24=\"\",\"\",'請求書（請求者控）'!AW24)","v":""},{"$f":"IF('請求書（請求者控）'!AX24=\"\",\"\",'請求書（請求者控）'!AX24)","v":""},{"$f":"IF('請求書（請求者控）'!AY24=\"\",\"\",'請求書（請求者控）'!AY24)","v":""},{"$f":"IF('請求書（請求者控）'!AZ24=\"\",\"\",'請求書（請求者控）'!AZ24)","v":""},null,{"$f":"IF('請求書（請求者控）'!BB24=\"\",\"\",'請求書（請求者控）'!BB24)","v":""},{"$f":"IF('請求書（請求者控）'!BC24=\"\",\"\",'請求書（請求者控）'!BC24)","v":""},{"$f":"IF('請求書（請求者控）'!BD24=\"\",\"\",'請求書（請求者控）'!BD24)","v":""},{"$f":"IF('請求書（請求者控）'!BE24=\"\",\"\",'請求書（請求者控）'!BE24)","v":""},{"$f":"IF('請求書（請求者控）'!BF24=\"\",\"\",'請求書（請求者控）'!BF24)","v":""},{"$f":"IF('請求書（請求者控）'!BG24=\"\",\"\",'請求書（請求者控）'!BG24)","v":""},{"$f":"IF('請求書（請求者控）'!BH24=\"\",\"\",'請求書（請求者控）'!BH24)","v":""},{"$f":"IF('請求書（請求者控）'!BI24=\"\",\"\",'請求書（請求者控）'!BI24)","v":""},{"$f":"IF('請求書（請求者控）'!BJ24=\"\",\"\",'請求書（請求者控）'!BJ24)","v":""},null,{"$f":"IF('請求書（請求者控）'!BL24=\"\",\"\",'請求書（請求者控）'!BL24)","v":""},{"$f":"IF('請求書（請求者控）'!BM24=\"\",\"\",'請求書（請求者控）'!BM24)","v":""},{"$f":"IF('請求書（請求者控）'!BN24=\"\",\"\",'請求書（請求者控）'!BN24)","v":""},{"$f":"IF('請求書（請求者控）'!BO24=\"\",\"\",'請求書（請求者控）'!BO24)","v":""},{"$f":"IF('請求書（請求者控）'!BP24=\"\",\"\",'請求書（請求者控）'!BP24)","v":""},{"$f":"IF('請求書（請求者控）'!BQ24=\"\",\"\",'請求書（請求者控）'!BQ24)","v":""},{"$f":"IF('請求書（請求者控）'!BR24=\"\",\"\",'請求書（請求者控）'!BR24)","v":""},{"$f":"IF('請求書（請求者控）'!BS24=\"\",\"\",'請求書（請求者控）'!BS24)","v":""},{"$f":"IF('請求書（請求者控）'!BT24=\"\",\"\",'請求書（請求者控）'!BT24)","v":""},{"$f":"IF('請求書（請求者控）'!BU24=\"\",\"\",'請求書（請求者控）'!BU24)","v":""},null,{"$f":"IF('請求書（請求者控）'!BW24=\"\",\"\",'請求書（請求者控）'!BW24)","v":""},{"$f":"IF('請求書（請求者控）'!BX24=\"\",\"\",'請求書（請求者控）'!BX24)","v":""},{"$f":"IF('請求書（請求者控）'!BY24=\"\",\"\",'請求書（請求者控）'!BY24)","v":""},{"$f":"IF('請求書（請求者控）'!BZ24=\"\",\"\",'請求書（請求者控）'!BZ24)","v":""},{"$f":"IF('請求書（請求者控）'!CA24=\"\",\"\",'請求書（請求者控）'!CA24)","v":""},{"$f":"IF('請求書（請求者控）'!CB24=\"\",\"\",'請求書（請求者控）'!CB24)","v":""},{"$f":"IF('請求書（請求者控）'!CC24=\"\",\"\",'請求書（請求者控）'!CC24)","v":""},{"$f":"IF('請求書（請求者控）'!CD24=\"\",\"\",'請求書（請求者控）'!CD24)","v":""},{"$f":"IF('請求書（請求者控）'!CE24=\"\",\"\",'請求書（請求者控）'!CE24)","v":""}]
[]
[{"$nulls":43},{"$f":"IF('請求書（請求者控）'!AR26=\"\",\"\",'請求書（請求者控）'!AR26)","v":""},{"$f":"IF('請求書（請求者控）'!AS26=\"\",\"\",'請求書（請求者控）'!AS26)","v":""},{"$f":"IF('請求書（請求者控）'!AT26=\"\",\"\",'請求書（請求者控）'!AT26)","v":""},{"$f":"IF('請求書（請求者控）'!AU26=\"\",\"\",'請求書（請求者控）'!AU26)","v":""},{"$f":"IF('請求書（請求者控）'!AV26=\"\",\"\",'請求書（請求者控）'!AV26)","v":""},{"$f":"IF('請求書（請求者控）'!AW26=\"\",\"\",'請求書（請求者控）'!AW26)","v":""},{"$f":"IF('請求書（請求者控）'!AX26=\"\",\"\",'請求書（請求者控）'!AX26)","v":""},{"$f":"IF('請求書（請求者控）'!AY26=\"\",\"\",'請求書（請求者控）'!AY26)","v":""},{"$f":"IF('請求書（請求者控）'!AZ26=\"\",\"\",'請求書（請求者控）'!AZ26)","v":""},{"$f":"IF('請求書（請求者控）'!BA26=\"\",\"\",'請求書（請求者控）'!BA26)","v":""},{"$f":"IF('請求書（請求者控）'!BB26=\"\",\"\",'請求書（請求者控）'!BB26)","v":""},{"$f":"IF('請求書（請求者控）'!BC26=\"\",\"\",'請求書（請求者控）'!BC26)","v":""},{"$f":"IF('請求書（請求者控）'!BD26=\"\",\"\",'請求書（請求者控）'!BD26)","v":""},{"$f":"IF('請求書（請求者控）'!BE26=\"\",\"\",'請求書（請求者控）'!BE26)","v":""},{"$f":"IF('請求書（請求者控）'!BF26=\"\",\"\",'請求書（請求者控）'!BF26)","v":""},{"$f":"IF('請求書（請求者控）'!BG26=\"\",\"\",'請求書（請求者控）'!BG26)","v":""},{"$f":"IF('請求書（請求者控）'!BH26=\"\",\"\",'請求書（請求者控）'!BH26)","v":""},{"$f":"IF('請求書（請求者控）'!BI26=\"\",\"\",'請求書（請求者控）'!BI26)","v":""},{"$f":"IF('請求書（請求者控）'!BJ26=\"\",\"\",'請求書（請求者控）'!BJ26)","v":""},{"$f":"IF('請求書（請求者控）'!BK26=\"\",\"\",'請求書（請求者控）'!BK26)","v":""},{"$f":"IF('請求書（請求者控）'!BL26=\"\",\"\",'請求書（請求者控）'!BL26)","v":""},{"$f":"IF('請求書（請求者控）'!BM26=\"\",\"\",'請求書（請求者控）'!BM26)","v":""},{"$f":"IF('請求書（請求者控）'!BN26=\"\",\"\",'請求書（請求者控）'!BN26)","v":""},{"$f":"IF('請求書（請求者控）'!BO26=\"\",\"\",'請求書（請求者控）'!BO26)","v":""},{"$f":"IF('請求書（請求者控）'!BP26=\"\",\"\",'請求書（請求者控）'!BP26)","v":""},{"$f":"IF('請求書（請求者控）'!BQ26=\"\",\"\",'請求書（請求者控）'!BQ26)","v":""},{"$f":"IF('請求書（請求者控）'!BR26=\"\",\"\",'請求書（請求者控）'!BR26)","v":""},{"$f":"IF('請求書（請求者控）'!BS26=\"\",\"\",'請求書（請求者控）'!BS26)","v":""},{"$f":"IF('請求書（請求者控）'!BT26=\"\",\"\",'請求書（請求者控）'!BT26)","v":""},{"$f":"IF('請求書（請求者控）'!BU26=\"\",\"\",'請求書（請求者控）'!BU26)","v":""},{"$f":"IF('請求書（請求者控）'!BV26=\"\",\"\",'請求書（請求者控）'!BV26)","v":""},{"$f":"IF('請求書（請求者控）'!BW26=\"\",\"\",'請求書（請求者控）'!BW26)","v":""},{"$f":"IF('請求書（請求者控）'!BX26=\"\",\"\",'請求書（請求者控）'!BX26)","v":""},{"$f":"IF('請求書（請求者控）'!BY26=\"\",\"\",'請求書（請求者控）'!BY26)","v":""},{"$f":"IF('請求書（請求者控）'!BZ26=\"\",\"\",'請求書（請求者控）'!BZ26)","v":""},{"$f":"IF('請求書（請求者控）'!CA26=\"\",\"\",'請求書（請求者控）'!CA26)","v":""},{"$f":"IF('請求書（請求者控）'!CB26=\"\",\"\",'請求書（請求者控）'!CB26)","v":""},{"$f":"IF('請求書（請求者控）'!CC26=\"\",\"\",'請求書（請求者控）'!CC26)","v":""},{"$f":"IF('請求書（請求者控）'!CD26=\"\",\"\",'請求書（請求者控）'!CD26)","v":""},{"$f":"IF('請求書（請求者控）'!CE26=\"\",\"\",'請求書（請求者控）'!CE26)","v":""},{"$f":"IF('請求書（請求者控）'!CF26=\"\",\"\",'請求書（請求者控）'!CF26)","v":""},{"$f":"IF('請求書（請求者控）'!CG26=\"\",\"\",'請求書（請求者控）'!CG26)","v":""},{"$f":"IF('請求書（請求者控）'!CH26=\"\",\"\",'請求書（請求者控）'!CH26)","v":""},{"$f":"IF('請求書（請求者控）'!CI26=\"\",\"\",'請求書（請求者控）'!CI26)","v":""},{"$f":"IF('請求書（請求者控）'!CJ26=\"\",\"\",'請求書（請求者控）'!CJ26)","v":""},{"$f":"IF('請求書（請求者控）'!CK26=\"\",\"\",'請求書（請求者控）'!CK26)","v":""},{"$f":"IF('請求書（請求者控）'!CL26=\"\",\"\",'請求書（請求者控）'!CL26)","v":""},{"$f":"IF('請求書（請求者控）'!CM26=\"\",\"\",'請求書（請求者控）'!CM26)","v":""}]
[]
[null,3,{"$nulls":32},{"$f":"IF('請求書（請求者控）'!AI28=\"\",\"\",'請求書（請求者控）'!AI28)","v":""},{"$f":"IF('請求書（請求者控）'!AJ28=\"\",\"\",'請求書（請求者控）'!AJ28)","v":""},{"$f":"IF('請求書（請求者控）'!AK28=\"\",\"\",'請求書（請求者控）'!AK28)","v":""},{"$f":"IF('請求書（請求者控）'!AL28=\"\",\"\",'請求書（請求者控）'!AL28)","v":""},{"$f":"IF('請求書（請求者控）'!AM28=\"\",\"\",'請求書（請求者控）'!AM28)","v":""},{"$f":"IF('請求書（請求者控）'!AN28=\"\",\"\",'請求書（請求者控）'!AN28)","v":""},{"$f":"IF('請求書（請求者控）'!AO28=\"\",\"\",'請求書（請求者控）'!AO28)","v":""},{"$f":"IF('請求書（請求者控）'!AP28=\"\",\"\",'請求書（請求者控）'!AP28)","v":""},null,{"$f":"IF('請求書（請求者控）'!AR28=\"\",\"\",'請求書（請求者控）'!AR28)","v":""},{"$f":"IF('請求書（請求者控）'!AS28=\"\",\"\",'請求書（請求者控）'!AS28)","v":""},{"$f":"IF('請求書（請求者控）'!AT28=\"\",\"\",'請求書（請求者控）'!AT28)","v":""},{"$f":"IF('請求書（請求者控）'!AU28=\"\",\"\",'請求書（請求者控）'!AU28)","v":""},{"$f":"IF('請求書（請求者控）'!AV28=\"\",\"\",'請求書（請求者控）'!AV28)","v":""},{"$f":"IF('請求書（請求者控）'!AW28=\"\",\"\",'請求書（請求者控）'!AW28)","v":""},{"$f":"IF('請求書（請求者控）'!AX28=\"\",\"\",'請求書（請求者控）'!AX28)","v":""},{"$f":"IF('請求書（請求者控）'!AY28=\"\",\"\",'請求書（請求者控）'!AY28)","v":""},{"$f":"IF('請求書（請求者控）'!AZ28=\"\",\"\",'請求書（請求者控）'!AZ28)","v":""},null,{"$f":"IF('請求書（請求者控）'!BB28=\"\",\"\",'請求書（請求者控）'!BB28)","v":""},{"$f":"IF('請求書（請求者控）'!BC28=\"\",\"\",'請求書（請求者控）'!BC28)","v":""},{"$f":"IF('請求書（請求者控）'!BD28=\"\",\"\",'請求書（請求者控）'!BD28)","v":""},{"$f":"IF('請求書（請求者控）'!BE28=\"\",\"\",'請求書（請求者控）'!BE28)","v":""},{"$f":"IF('請求書（請求者控）'!BF28=\"\",\"\",'請求書（請求者控）'!BF28)","v":""},{"$f":"IF('請求書（請求者控）'!BG28=\"\",\"\",'請求書（請求者控）'!BG28)","v":""},{"$f":"IF('請求書（請求者控）'!BH28=\"\",\"\",'請求書（請求者控）'!BH28)","v":""},{"$f":"IF('請求書（請求者控）'!BI28=\"\",\"\",'請求書（請求者控）'!BI28)","v":""},{"$f":"IF('請求書（請求者控）'!BJ28=\"\",\"\",'請求書（請求者控）'!BJ28)","v":""},null,{"$f":"IF('請求書（請求者控）'!BL28=\"\",\"\",'請求書（請求者控）'!BL28)","v":""},{"$f":"IF('請求書（請求者控）'!BM28=\"\",\"\",'請求書（請求者控）'!BM28)","v":""},{"$f":"IF('請求書（請求者控）'!BN28=\"\",\"\",'請求書（請求者控）'!BN28)","v":""},{"$f":"IF('請求書（請求者控）'!BO28=\"\",\"\",'請求書（請求者控）'!BO28)","v":""},{"$f":"IF('請求書（請求者控）'!BP28=\"\",\"\",'請求書（請求者控）'!BP28)","v":""},{"$f":"IF('請求書（請求者控）'!BQ28=\"\",\"\",'請求書（請求者控）'!BQ28)","v":""},{"$f":"IF('請求書（請求者控）'!BR28=\"\",\"\",'請求書（請求者控）'!BR28)","v":""},{"$f":"IF('請求書（請求者控）'!BS28=\"\",\"\",'請求書（請求者控）'!BS28)","v":""},{"$f":"IF('請求書（請求者控）'!BT28=\"\",\"\",'請求書（請求者控）'!BT28)","v":""},{"$f":"IF('請求書（請求者控）'!BU28=\"\",\"\",'請求書（請求者控）'!BU28)","v":""},null,{"$f":"IF('請求書（請求者控）'!BW28=\"\",\"\",'請求書（請求者控）'!BW28)","v":""},{"$f":"IF('請求書（請求者控）'!BX28=\"\",\"\",'請求書（請求者控）'!BX28)","v":""},{"$f":"IF('請求書（請求者控）'!BY28=\"\",\"\",'請求書（請求者控）'!BY28)","v":""},{"$f":"IF('請求書（請求者控）'!BZ28=\"\",\"\",'請求書（請求者控）'!BZ28)","v":""},{"$f":"IF('請求書（請求者控）'!CA28=\"\",\"\",'請求書（請求者控）'!CA28)","v":""},{"$f":"IF('請求書（請求者控）'!CB28=\"\",\"\",'請求書（請求者控）'!CB28)","v":""},{"$f":"IF('請求書（請求者控）'!CC28=\"\",\"\",'請求書（請求者控）'!CC28)","v":""},{"$f":"IF('請求書（請求者控）'!CD28=\"\",\"\",'請求書（請求者控）'!CD28)","v":""},{"$f":"IF('請求書（請求者控）'!CE28=\"\",\"\",'請求書（請求者控）'!CE28)","v":""}]
[]
[{"$nulls":43},{"$f":"IF('請求書（請求者控）'!AR30=\"\",\"\",'請求書（請求者控）'!AR30)","v":""},{"$f":"IF('請求書（請求者控）'!AS30=\"\",\"\",'請求書（請求者控）'!AS30)","v":""},{"$f":"IF('請求書（請求者控）'!AT30=\"\",\"\",'請求書（請求者控）'!AT30)","v":""},{"$f":"IF('請求書（請求者控）'!AU30=\"\",\"\",'請求書（請求者控）'!AU30)","v":""},{"$f":"IF('請求書（請求者控）'!AV30=\"\",\"\",'請求書（請求者控）'!AV30)","v":""},{"$f":"IF('請求書（請求者控）'!AW30=\"\",\"\",'請求書（請求者控）'!AW30)","v":""},{"$f":"IF('請求書（請求者控）'!AX30=\"\",\"\",'請求書（請求者控）'!AX30)","v":""},{"$f":"IF('請求書（請求者控）'!AY30=\"\",\"\",'請求書（請求者控）'!AY30)","v":""},{"$f":"IF('請求書（請求者控）'!AZ30=\"\",\"\",'請求書（請求者控）'!AZ30)","v":""},{"$f":"IF('請求書（請求者控）'!BA30=\"\",\"\",'請求書（請求者控）'!BA30)","v":""},{"$f":"IF('請求書（請求者控）'!BB30=\"\",\"\",'請求書（請求者控）'!BB30)","v":""},{"$f":"IF('請求書（請求者控）'!BC30=\"\",\"\",'請求書（請求者控）'!BC30)","v":""},{"$f":"IF('請求書（請求者控）'!BD30=\"\",\"\",'請求書（請求者控）'!BD30)","v":""},{"$f":"IF('請求書（請求者控）'!BE30=\"\",\"\",'請求書（請求者控）'!BE30)","v":""},{"$f":"IF('請求書（請求者控）'!BF30=\"\",\"\",'請求書（請求者控）'!BF30)","v":""},{"$f":"IF('請求書（請求者控）'!BG30=\"\",\"\",'請求書（請求者控）'!BG30)","v":""},{"$f":"IF('請求書（請求者控）'!BH30=\"\",\"\",'請求書（請求者控）'!BH30)","v":""},{"$f":"IF('請求書（請求者控）'!BI30=\"\",\"\",'請求書（請求者控）'!BI30)","v":""},{"$f":"IF('請求書（請求者控）'!BJ30=\"\",\"\",'請求書（請求者控）'!BJ30)","v":""},{"$f":"IF('請求書（請求者控）'!BK30=\"\",\"\",'請求書（請求者控）'!BK30)","v":""},{"$f":"IF('請求書（請求者控）'!BL30=\"\",\"\",'請求書（請求者控）'!BL30)","v":""},{"$f":"IF('請求書（請求者控）'!BM30=\"\",\"\",'請求書（請求者控）'!BM30)","v":""},{"$f":"IF('請求書（請求者控）'!BN30=\"\",\"\",'請求書（請求者控）'!BN30)","v":""},{"$f":"IF('請求書（請求者控）'!BO30=\"\",\"\",'請求書（請求者控）'!BO30)","v":""},{"$f":"IF('請求書（請求者控）'!BP30=\"\",\"\",'請求書（請求者控）'!BP30)","v":""},{"$f":"IF('請求書（請求者控）'!BQ30=\"\",\"\",'請求書（請求者控）'!BQ30)","v":""},{"$f":"IF('請求書（請求者控）'!BR30=\"\",\"\",'請求書（請求者控）'!BR30)","v":""},{"$f":"IF('請求書（請求者控）'!BS30=\"\",\"\",'請求書（請求者控）'!BS30)","v":""},{"$f":"IF('請求書（請求者控）'!BT30=\"\",\"\",'請求書（請求者控）'!BT30)","v":""},{"$f":"IF('請求書（請求者控）'!BU30=\"\",\"\",'請求書（請求者控）'!BU30)","v":""},{"$f":"IF('請求書（請求者控）'!BV30=\"\",\"\",'請求書（請求者控）'!BV30)","v":""},{"$f":"IF('請求書（請求者控）'!BW30=\"\",\"\",'請求書（請求者控）'!BW30)","v":""},{"$f":"IF('請求書（請求者控）'!BX30=\"\",\"\",'請求書（請求者控）'!BX30)","v":""},{"$f":"IF('請求書（請求者控）'!BY30=\"\",\"\",'請求書（請求者控）'!BY30)","v":""},{"$f":"IF('請求書（請求者控）'!BZ30=\"\",\"\",'請求書（請求者控）'!BZ30)","v":""},{"$f":"IF('請求書（請求者控）'!CA30=\"\",\"\",'請求書（請求者控）'!CA30)","v":""},{"$f":"IF('請求書（請求者控）'!CB30=\"\",\"\",'請求書（請求者控）'!CB30)","v":""},{"$f":"IF('請求書（請求者控）'!CC30=\"\",\"\",'請求書（請求者控）'!CC30)","v":""},{"$f":"IF('請求書（請求者控）'!CD30=\"\",\"\",'請求書（請求者控）'!CD30)","v":""},{"$f":"IF('請求書（請求者控）'!CE30=\"\",\"\",'請求書（請求者控）'!CE30)","v":""},{"$f":"IF('請求書（請求者控）'!CF30=\"\",\"\",'請求書（請求者控）'!CF30)","v":""},{"$f":"IF('請求書（請求者控）'!CG30=\"\",\"\",'請求書（請求者控）'!CG30)","v":""},{"$f":"IF('請求書（請求者控）'!CH30=\"\",\"\",'請求書（請求者控）'!CH30)","v":""},{"$f":"IF('請求書（請求者控）'!CI30=\"\",\"\",'請求書（請求者控）'!CI30)","v":""},{"$f":"IF('請求書（請求者控）'!CJ30=\"\",\"\",'請求書（請求者控）'!CJ30)","v":""},{"$f":"IF('請求書（請求者控）'!CK30=\"\",\"\",'請求書（請求者控）'!CK30)","v":""},{"$f":"IF('請求書（請求者控）'!CL30=\"\",\"\",'請求書（請求者控）'!CL30)","v":""},{"$f":"IF('請求書（請求者控）'!CM30=\"\",\"\",'請求書（請求者控）'!CM30)","v":""}]
[]
[null,4,{"$nulls":32},{"$f":"IF('請求書（請求者控）'!AI32=\"\",\"\",'請求書（請求者控）'!AI32)","v":""},{"$f":"IF('請求書（請求者控）'!AJ32=\"\",\"\",'請求書（請求者控）'!AJ32)","v":""},{"$f":"IF('請求書（請求者控）'!AK32=\"\",\"\",'請求書（請求者控）'!AK32)","v":""},{"$f":"IF('請求書（請求者控）'!AL32=\"\",\"\",'請求書（請求者控）'!AL32)","v":""},{"$f":"IF('請求書（請求者控）'!AM32=\"\",\"\",'請求書（請求者控）'!AM32)","v":""},{"$f":"IF('請求書（請求者控）'!AN32=\"\",\"\",'請求書（請求者控）'!AN32)","v":""},{"$f":"IF('請求書（請求者控）'!AO32=\"\",\"\",'請求書（請求者控）'!AO32)","v":""},{"$f":"IF('請求書（請求者控）'!AP32=\"\",\"\",'請求書（請求者控）'!AP32)","v":""},null,{"$f":"IF('請求書（請求者控）'!AR32=\"\",\"\",'請求書（請求者控）'!AR32)","v":""},{"$f":"IF('請求書（請求者控）'!AS32=\"\",\"\",'請求書（請求者控）'!AS32)","v":""},{"$f":"IF('請求書（請求者控）'!AT32=\"\",\"\",'請求書（請求者控）'!AT32)","v":""},{"$f":"IF('請求書（請求者控）'!AU32=\"\",\"\",'請求書（請求者控）'!AU32)","v":""},{"$f":"IF('請求書（請求者控）'!AV32=\"\",\"\",'請求書（請求者控）'!AV32)","v":""},{"$f":"IF('請求書（請求者控）'!AW32=\"\",\"\",'請求書（請求者控）'!AW32)","v":""},{"$f":"IF('請求書（請求者控）'!AX32=\"\",\"\",'請求書（請求者控）'!AX32)","v":""},{"$f":"IF('請求書（請求者控）'!AY32=\"\",\"\",'請求書（請求者控）'!AY32)","v":""},{"$f":"IF('請求書（請求者控）'!AZ32=\"\",\"\",'請求書（請求者控）'!AZ32)","v":""},null,{"$f":"IF('請求書（請求者控）'!BB32=\"\",\"\",'請求書（請求者控）'!BB32)","v":""},{"$f":"IF('請求書（請求者控）'!BC32=\"\",\"\",'請求書（請求者控）'!BC32)","v":""},{"$f":"IF('請求書（請求者控）'!BD32=\"\",\"\",'請求書（請求者控）'!BD32)","v":""},{"$f":"IF('請求書（請求者控）'!BE32=\"\",\"\",'請求書（請求者控）'!BE32)","v":""},{"$f":"IF('請求書（請求者控）'!BF32=\"\",\"\",'請求書（請求者控）'!BF32)","v":""},{"$f":"IF('請求書（請求者控）'!BG32=\"\",\"\",'請求書（請求者控）'!BG32)","v":""},{"$f":"IF('請求書（請求者控）'!BH32=\"\",\"\",'請求書（請求者控）'!BH32)","v":""},{"$f":"IF('請求書（請求者控）'!BI32=\"\",\"\",'請求書（請求者控）'!BI32)","v":""},{"$f":"IF('請求書（請求者控）'!BJ32=\"\",\"\",'請求書（請求者控）'!BJ32)","v":""},null,{"$f":"IF('請求書（請求者控）'!BL32=\"\",\"\",'請求書（請求者控）'!BL32)","v":""},{"$f":"IF('請求書（請求者控）'!BM32=\"\",\"\",'請求書（請求者控）'!BM32)","v":""},{"$f":"IF('請求書（請求者控）'!BN32=\"\",\"\",'請求書（請求者控）'!BN32)","v":""},{"$f":"IF('請求書（請求者控）'!BO32=\"\",\"\",'請求書（請求者控）'!BO32)","v":""},{"$f":"IF('請求書（請求者控）'!BP32=\"\",\"\",'請求書（請求者控）'!BP32)","v":""},{"$f":"IF('請求書（請求者控）'!BQ32=\"\",\"\",'請求書（請求者控）'!BQ32)","v":""},{"$f":"IF('請求書（請求者控）'!BR32=\"\",\"\",'請求書（請求者控）'!BR32)","v":""},{"$f":"IF('請求書（請求者控）'!BS32=\"\",\"\",'請求書（請求者控）'!BS32)","v":""},{"$f":"IF('請求書（請求者控）'!BT32=\"\",\"\",'請求書（請求者控）'!BT32)","v":""},{"$f":"IF('請求書（請求者控）'!BU32=\"\",\"\",'請求書（請求者控）'!BU32)","v":""},null,{"$f":"IF('請求書（請求者控）'!BW32=\"\",\"\",'請求書（請求者控）'!BW32)","v":""},{"$f":"IF('請求書（請求者控）'!BX32=\"\",\"\",'請求書（請求者控）'!BX32)","v":""},{"$f":"IF('請求書（請求者控）'!BY32=\"\",\"\",'請求書（請求者控）'!BY32)","v":""},{"$f":"IF('請求書（請求者控）'!BZ32=\"\",\"\",'請求書（請求者控）'!BZ32)","v":""},{"$f":"IF('請求書（請求者控）'!CA32=\"\",\"\",'請求書（請求者控）'!CA32)","v":""},{"$f":"IF('請求書（請求者控）'!CB32=\"\",\"\",'請求書（請求者控）'!CB32)","v":""},{"$f":"IF('請求書（請求者控）'!CC32=\"\",\"\",'請求書（請求者控）'!CC32)","v":""},{"$f":"IF('請求書（請求者控）'!CD32=\"\",\"\",'請求書（請求者控）'!CD32)","v":""},{"$f":"IF('請求書（請求者控）'!CE32=\"\",\"\",'請求書（請求者控）'!CE32)","v":""}]
[]
[{"$nulls":43},{"$f":"IF('請求書（請求者控）'!AR34=\"\",\"\",'請求書（請求者控）'!AR34)","v":""},{"$f":"IF('請求書（請求者控）'!AS34=\"\",\"\",'請求書（請求者控）'!AS34)","v":""},{"$f":"IF('請求書（請求者控）'!AT34=\"\",\"\",'請求書（請求者控）'!AT34)","v":""},{"$f":"IF('請求書（請求者控）'!AU34=\"\",\"\",'請求書（請求者控）'!AU34)","v":""},{"$f":"IF('請求書（請求者控）'!AV34=\"\",\"\",'請求書（請求者控）'!AV34)","v":""},{"$f":"IF('請求書（請求者控）'!AW34=\"\",\"\",'請求書（請求者控）'!AW34)","v":""},{"$f":"IF('請求書（請求者控）'!AX34=\"\",\"\",'請求書（請求者控）'!AX34)","v":""},{"$f":"IF('請求書（請求者控）'!AY34=\"\",\"\",'請求書（請求者控）'!AY34)","v":""},{"$f":"IF('請求書（請求者控）'!AZ34=\"\",\"\",'請求書（請求者控）'!AZ34)","v":""},{"$f":"IF('請求書（請求者控）'!BA34=\"\",\"\",'請求書（請求者控）'!BA34)","v":""},{"$f":"IF('請求書（請求者控）'!BB34=\"\",\"\",'請求書（請求者控）'!BB34)","v":""},{"$f":"IF('請求書（請求者控）'!BC34=\"\",\"\",'請求書（請求者控）'!BC34)","v":""},{"$f":"IF('請求書（請求者控）'!BD34=\"\",\"\",'請求書（請求者控）'!BD34)","v":""},{"$f":"IF('請求書（請求者控）'!BE34=\"\",\"\",'請求書（請求者控）'!BE34)","v":""},{"$f":"IF('請求書（請求者控）'!BF34=\"\",\"\",'請求書（請求者控）'!BF34)","v":""},{"$f":"IF('請求書（請求者控）'!BG34=\"\",\"\",'請求書（請求者控）'!BG34)","v":""},{"$f":"IF('請求書（請求者控）'!BH34=\"\",\"\",'請求書（請求者控）'!BH34)","v":""},{"$f":"IF('請求書（請求者控）'!BI34=\"\",\"\",'請求書（請求者控）'!BI34)","v":""},{"$f":"IF('請求書（請求者控）'!BJ34=\"\",\"\",'請求書（請求者控）'!BJ34)","v":""},{"$f":"IF('請求書（請求者控）'!BK34=\"\",\"\",'請求書（請求者控）'!BK34)","v":""},{"$f":"IF('請求書（請求者控）'!BL34=\"\",\"\",'請求書（請求者控）'!BL34)","v":""},{"$f":"IF('請求書（請求者控）'!BM34=\"\",\"\",'請求書（請求者控）'!BM34)","v":""},{"$f":"IF('請求書（請求者控）'!BN34=\"\",\"\",'請求書（請求者控）'!BN34)","v":""},{"$f":"IF('請求書（請求者控）'!BO34=\"\",\"\",'請求書（請求者控）'!BO34)","v":""},{"$f":"IF('請求書（請求者控）'!BP34=\"\",\"\",'請求書（請求者控）'!BP34)","v":""},{"$f":"IF('請求書（請求者控）'!BQ34=\"\",\"\",'請求書（請求者控）'!BQ34)","v":""},{"$f":"IF('請求書（請求者控）'!BR34=\"\",\"\",'請求書（請求者控）'!BR34)","v":""},{"$f":"IF('請求書（請求者控）'!BS34=\"\",\"\",'請求書（請求者控）'!BS34)","v":""},{"$f":"IF('請求書（請求者控）'!BT34=\"\",\"\",'請求書（請求者控）'!BT34)","v":""},{"$f":"IF('請求書（請求者控）'!BU34=\"\",\"\",'請求書（請求者控）'!BU34)","v":""},{"$f":"IF('請求書（請求者控）'!BV34=\"\",\"\",'請求書（請求者控）'!BV34)","v":""},{"$f":"IF('請求書（請求者控）'!BW34=\"\",\"\",'請求書（請求者控）'!BW34)","v":""},{"$f":"IF('請求書（請求者控）'!BX34=\"\",\"\",'請求書（請求者控）'!BX34)","v":""},{"$f":"IF('請求書（請求者控）'!BY34=\"\",\"\",'請求書（請求者控）'!BY34)","v":""},{"$f":"IF('請求書（請求者控）'!BZ34=\"\",\"\",'請求書（請求者控）'!BZ34)","v":""},{"$f":"IF('請求書（請求者控）'!CA34=\"\",\"\",'請求書（請求者控）'!CA34)","v":""},{"$f":"IF('請求書（請求者控）'!CB34=\"\",\"\",'請求書（請求者控）'!CB34)","v":""},{"$f":"IF('請求書（請求者控）'!CC34=\"\",\"\",'請求書（請求者控）'!CC34)","v":""},{"$f":"IF('請求書（請求者控）'!CD34=\"\",\"\",'請求書（請求者控）'!CD34)","v":""},{"$f":"IF('請求書（請求者控）'!CE34=\"\",\"\",'請求書（請求者控）'!CE34)","v":""},{"$f":"IF('請求書（請求者控）'!CF34=\"\",\"\",'請求書（請求者控）'!CF34)","v":""},{"$f":"IF('請求書（請求者控）'!CG34=\"\",\"\",'請求書（請求者控）'!CG34)","v":""},{"$f":"IF('請求書（請求者控）'!CH34=\"\",\"\",'請求書（請求者控）'!CH34)","v":""},{"$f":"IF('請求書（請求者控）'!CI34=\"\",\"\",'請求書（請求者控）'!CI34)","v":""},{"$f":"IF('請求書（請求者控）'!CJ34=\"\",\"\",'請求書（請求者控）'!CJ34)","v":""},{"$f":"IF('請求書（請求者控）'!CK34=\"\",\"\",'請求書（請求者控）'!CK34)","v":""},{"$f":"IF('請求書（請求者控）'!CL34=\"\",\"\",'請求書（請求者控）'!CL34)","v":""},{"$f":"IF('請求書（請求者控）'!CM34=\"\",\"\",'請求書（請求者控）'!CM34)","v":""}]
[]
[null,5,{"$nulls":32},{"$f":"IF('請求書（請求者控）'!AI36=\"\",\"\",'請求書（請求者控）'!AI36)","v":""},{"$f":"IF('請求書（請求者控）'!AJ36=\"\",\"\",'請求書（請求者控）'!AJ36)","v":""},{"$f":"IF('請求書（請求者控）'!AK36=\"\",\"\",'請求書（請求者控）'!AK36)","v":""},{"$f":"IF('請求書（請求者控）'!AL36=\"\",\"\",'請求書（請求者控）'!AL36)","v":""},{"$f":"IF('請求書（請求者控）'!AM36=\"\",\"\",'請求書（請求者控）'!AM36)","v":""},{"$f":"IF('請求書（請求者控）'!AN36=\"\",\"\",'請求書（請求者控）'!AN36)","v":""},{"$f":"IF('請求書（請求者控）'!AO36=\"\",\"\",'請求書（請求者控）'!AO36)","v":""},{"$f":"IF('請求書（請求者控）'!AP36=\"\",\"\",'請求書（請求者控）'!AP36)","v":""},null,{"$f":"IF('請求書（請求者控）'!AR36=\"\",\"\",'請求書（請求者控）'!AR36)","v":""},{"$f":"IF('請求書（請求者控）'!AS36=\"\",\"\",'請求書（請求者控）'!AS36)","v":""},{"$f":"IF('請求書（請求者控）'!AT36=\"\",\"\",'請求書（請求者控）'!AT36)","v":""},{"$f":"IF('請求書（請求者控）'!AU36=\"\",\"\",'請求書（請求者控）'!AU36)","v":""},{"$f":"IF('請求書（請求者控）'!AV36=\"\",\"\",'請求書（請求者控）'!AV36)","v":""},{"$f":"IF('請求書（請求者控）'!AW36=\"\",\"\",'請求書（請求者控）'!AW36)","v":""},{"$f":"IF('請求書（請求者控）'!AX36=\"\",\"\",'請求書（請求者控）'!AX36)","v":""},{"$f":"IF('請求書（請求者控）'!AY36=\"\",\"\",'請求書（請求者控）'!AY36)","v":""},{"$f":"IF('請求書（請求者控）'!AZ36=\"\",\"\",'請求書（請求者控）'!AZ36)","v":""},null,{"$f":"IF('請求書（請求者控）'!BB36=\"\",\"\",'請求書（請求者控）'!BB36)","v":""},{"$f":"IF('請求書（請求者控）'!BC36=\"\",\"\",'請求書（請求者控）'!BC36)","v":""},{"$f":"IF('請求書（請求者控）'!BD36=\"\",\"\",'請求書（請求者控）'!BD36)","v":""},{"$f":"IF('請求書（請求者控）'!BE36=\"\",\"\",'請求書（請求者控）'!BE36)","v":""},{"$f":"IF('請求書（請求者控）'!BF36=\"\",\"\",'請求書（請求者控）'!BF36)","v":""},{"$f":"IF('請求書（請求者控）'!BG36=\"\",\"\",'請求書（請求者控）'!BG36)","v":""},{"$f":"IF('請求書（請求者控）'!BH36=\"\",\"\",'請求書（請求者控）'!BH36)","v":""},{"$f":"IF('請求書（請求者控）'!BI36=\"\",\"\",'請求書（請求者控）'!BI36)","v":""},{"$f":"IF('請求書（請求者控）'!BJ36=\"\",\"\",'請求書（請求者控）'!BJ36)","v":""},null,{"$f":"IF('請求書（請求者控）'!BL36=\"\",\"\",'請求書（請求者控）'!BL36)","v":""},{"$f":"IF('請求書（請求者控）'!BM36=\"\",\"\",'請求書（請求者控）'!BM36)","v":""},{"$f":"IF('請求書（請求者控）'!BN36=\"\",\"\",'請求書（請求者控）'!BN36)","v":""},{"$f":"IF('請求書（請求者控）'!BO36=\"\",\"\",'請求書（請求者控）'!BO36)","v":""},{"$f":"IF('請求書（請求者控）'!BP36=\"\",\"\",'請求書（請求者控）'!BP36)","v":""},{"$f":"IF('請求書（請求者控）'!BQ36=\"\",\"\",'請求書（請求者控）'!BQ36)","v":""},{"$f":"IF('請求書（請求者控）'!BR36=\"\",\"\",'請求書（請求者控）'!BR36)","v":""},{"$f":"IF('請求書（請求者控）'!BS36=\"\",\"\",'請求書（請求者控）'!BS36)","v":""},{"$f":"IF('請求書（請求者控）'!BT36=\"\",\"\",'請求書（請求者控）'!BT36)","v":""},{"$f":"IF('請求書（請求者控）'!BU36=\"\",\"\",'請求書（請求者控）'!BU36)","v":""},null,{"$f":"IF('請求書（請求者控）'!BW36=\"\",\"\",'請求書（請求者控）'!BW36)","v":""},{"$f":"IF('請求書（請求者控）'!BX36=\"\",\"\",'請求書（請求者控）'!BX36)","v":""},{"$f":"IF('請求書（請求者控）'!BY36=\"\",\"\",'請求書（請求者控）'!BY36)","v":""},{"$f":"IF('請求書（請求者控）'!BZ36=\"\",\"\",'請求書（請求者控）'!BZ36)","v":""},{"$f":"IF('請求書（請求者控）'!CA36=\"\",\"\",'請求書（請求者控）'!CA36)","v":""},{"$f":"IF('請求書（請求者控）'!CB36=\"\",\"\",'請求書（請求者控）'!CB36)","v":""},{"$f":"IF('請求書（請求者控）'!CC36=\"\",\"\",'請求書（請求者控）'!CC36)","v":""},{"$f":"IF('請求書（請求者控）'!CD36=\"\",\"\",'請求書（請求者控）'!CD36)","v":""},{"$f":"IF('請求書（請求者控）'!CE36=\"\",\"\",'請求書（請求者控）'!CE36)","v":""}]
[]
[{"$nulls":43},{"$f":"IF('請求書（請求者控）'!AR38=\"\",\"\",'請求書（請求者控）'!AR38)","v":""},{"$f":"IF('請求書（請求者控）'!AS38=\"\",\"\",'請求書（請求者控）'!AS38)","v":""},{"$f":"IF('請求書（請求者控）'!AT38=\"\",\"\",'請求書（請求者控）'!AT38)","v":""},{"$f":"IF('請求書（請求者控）'!AU38=\"\",\"\",'請求書（請求者控）'!AU38)","v":""},{"$f":"IF('請求書（請求者控）'!AV38=\"\",\"\",'請求書（請求者控）'!AV38)","v":""},{"$f":"IF('請求書（請求者控）'!AW38=\"\",\"\",'請求書（請求者控）'!AW38)","v":""},{"$f":"IF('請求書（請求者控）'!AX38=\"\",\"\",'請求書（請求者控）'!AX38)","v":""},{"$f":"IF('請求書（請求者控）'!AY38=\"\",\"\",'請求書（請求者控）'!AY38)","v":""},{"$f":"IF('請求書（請求者控）'!AZ38=\"\",\"\",'請求書（請求者控）'!AZ38)","v":""},{"$f":"IF('請求書（請求者控）'!BA38=\"\",\"\",'請求書（請求者控）'!BA38)","v":""},{"$f":"IF('請求書（請求者控）'!BB38=\"\",\"\",'請求書（請求者控）'!BB38)","v":""},{"$f":"IF('請求書（請求者控）'!BC38=\"\",\"\",'請求書（請求者控）'!BC38)","v":""},{"$f":"IF('請求書（請求者控）'!BD38=\"\",\"\",'請求書（請求者控）'!BD38)","v":""},{"$f":"IF('請求書（請求者控）'!BE38=\"\",\"\",'請求書（請求者控）'!BE38)","v":""},{"$f":"IF('請求書（請求者控）'!BF38=\"\",\"\",'請求書（請求者控）'!BF38)","v":""},{"$f":"IF('請求書（請求者控）'!BG38=\"\",\"\",'請求書（請求者控）'!BG38)","v":""},{"$f":"IF('請求書（請求者控）'!BH38=\"\",\"\",'請求書（請求者控）'!BH38)","v":""},{"$f":"IF('請求書（請求者控）'!BI38=\"\",\"\",'請求書（請求者控）'!BI38)","v":""},{"$f":"IF('請求書（請求者控）'!BJ38=\"\",\"\",'請求書（請求者控）'!BJ38)","v":""},{"$f":"IF('請求書（請求者控）'!BK38=\"\",\"\",'請求書（請求者控）'!BK38)","v":""},{"$f":"IF('請求書（請求者控）'!BL38=\"\",\"\",'請求書（請求者控）'!BL38)","v":""},{"$f":"IF('請求書（請求者控）'!BM38=\"\",\"\",'請求書（請求者控）'!BM38)","v":""},{"$f":"IF('請求書（請求者控）'!BN38=\"\",\"\",'請求書（請求者控）'!BN38)","v":""},{"$f":"IF('請求書（請求者控）'!BO38=\"\",\"\",'請求書（請求者控）'!BO38)","v":""},{"$f":"IF('請求書（請求者控）'!BP38=\"\",\"\",'請求書（請求者控）'!BP38)","v":""},{"$f":"IF('請求書（請求者控）'!BQ38=\"\",\"\",'請求書（請求者控）'!BQ38)","v":""},{"$f":"IF('請求書（請求者控）'!BR38=\"\",\"\",'請求書（請求者控）'!BR38)","v":""},{"$f":"IF('請求書（請求者控）'!BS38=\"\",\"\",'請求書（請求者控）'!BS38)","v":""},{"$f":"IF('請求書（請求者控）'!BT38=\"\",\"\",'請求書（請求者控）'!BT38)","v":""},{"$f":"IF('請求書（請求者控）'!BU38=\"\",\"\",'請求書（請求者控）'!BU38)","v":""},{"$f":"IF('請求書（請求者控）'!BV38=\"\",\"\",'請求書（請求者控）'!BV38)","v":""},{"$f":"IF('請求書（請求者控）'!BW38=\"\",\"\",'請求書（請求者控）'!BW38)","v":""},{"$f":"IF('請求書（請求者控）'!BX38=\"\",\"\",'請求書（請求者控）'!BX38)","v":""},{"$f":"IF('請求書（請求者控）'!BY38=\"\",\"\",'請求書（請求者控）'!BY38)","v":""},{"$f":"IF('請求書（請求者控）'!BZ38=\"\",\"\",'請求書（請求者控）'!BZ38)","v":""},{"$f":"IF('請求書（請求者控）'!CA38=\"\",\"\",'請求書（請求者控）'!CA38)","v":""},{"$f":"IF('請求書（請求者控）'!CB38=\"\",\"\",'請求書（請求者控）'!CB38)","v":""},{"$f":"IF('請求書（請求者控）'!CC38=\"\",\"\",'請求書（請求者控）'!CC38)","v":""},{"$f":"IF('請求書（請求者控）'!CD38=\"\",\"\",'請求書（請求者控）'!CD38)","v":""},{"$f":"IF('請求書（請求者控）'!CE38=\"\",\"\",'請求書（請求者控）'!CE38)","v":""},{"$f":"IF('請求書（請求者控）'!CF38=\"\",\"\",'請求書（請求者控）'!CF38)","v":""},{"$f":"IF('請求書（請求者控）'!CG38=\"\",\"\",'請求書（請求者控）'!CG38)","v":""},{"$f":"IF('請求書（請求者控）'!CH38=\"\",\"\",'請求書（請求者控）'!CH38)","v":""},{"$f":"IF('請求書（請求者控）'!CI38=\"\",\"\",'請求書（請求者控）'!CI38)","v":""},{"$f":"IF('請求書（請求者控）'!CJ38=\"\",\"\",'請求書（請求者控）'!CJ38)","v":""},{"$f":"IF('請求書（請求者控）'!CK38=\"\",\"\",'請求書（請求者控）'!CK38)","v":""},{"$f":"IF('請求書（請求者控）'!CL38=\"\",\"\",'請求書（請求者控）'!CL38)","v":""},{"$f":"IF('請求書（請求者控）'!CM38=\"\",\"\",'請求書（請求者控）'!CM38)","v":""}]
[]
[null,6,{"$nulls":32},{"$f":"IF('請求書（請求者控）'!AI40=\"\",\"\",'請求書（請求者控）'!AI40)","v":""},{"$f":"IF('請求書（請求者控）'!AJ40=\"\",\"\",'請求書（請求者控）'!AJ40)","v":""},{"$f":"IF('請求書（請求者控）'!AK40=\"\",\"\",'請求書（請求者控）'!AK40)","v":""},{"$f":"IF('請求書（請求者控）'!AL40=\"\",\"\",'請求書（請求者控）'!AL40)","v":""},{"$f":"IF('請求書（請求者控）'!AM40=\"\",\"\",'請求書（請求者控）'!AM40)","v":""},{"$f":"IF('請求書（請求者控）'!AN40=\"\",\"\",'請求書（請求者控）'!AN40)","v":""},{"$f":"IF('請求書（請求者控）'!AO40=\"\",\"\",'請求書（請求者控）'!AO40)","v":""},{"$f":"IF('請求書（請求者控）'!AP40=\"\",\"\",'請求書（請求者控）'!AP40)","v":""},null,{"$f":"IF('請求書（請求者控）'!AR40=\"\",\"\",'請求書（請求者控）'!AR40)","v":""},{"$f":"IF('請求書（請求者控）'!AS40=\"\",\"\",'請求書（請求者控）'!AS40)","v":""},{"$f":"IF('請求書（請求者控）'!AT40=\"\",\"\",'請求書（請求者控）'!AT40)","v":""},{"$f":"IF('請求書（請求者控）'!AU40=\"\",\"\",'請求書（請求者控）'!AU40)","v":""},{"$f":"IF('請求書（請求者控）'!AV40=\"\",\"\",'請求書（請求者控）'!AV40)","v":""},{"$f":"IF('請求書（請求者控）'!AW40=\"\",\"\",'請求書（請求者控）'!AW40)","v":""},{"$f":"IF('請求書（請求者控）'!AX40=\"\",\"\",'請求書（請求者控）'!AX40)","v":""},{"$f":"IF('請求書（請求者控）'!AY40=\"\",\"\",'請求書（請求者控）'!AY40)","v":""},{"$f":"IF('請求書（請求者控）'!AZ40=\"\",\"\",'請求書（請求者控）'!AZ40)","v":""},null,{"$f":"IF('請求書（請求者控）'!BB40=\"\",\"\",'請求書（請求者控）'!BB40)","v":""},{"$f":"IF('請求書（請求者控）'!BC40=\"\",\"\",'請求書（請求者控）'!BC40)","v":""},{"$f":"IF('請求書（請求者控）'!BD40=\"\",\"\",'請求書（請求者控）'!BD40)","v":""},{"$f":"IF('請求書（請求者控）'!BE40=\"\",\"\",'請求書（請求者控）'!BE40)","v":""},{"$f":"IF('請求書（請求者控）'!BF40=\"\",\"\",'請求書（請求者控）'!BF40)","v":""},{"$f":"IF('請求書（請求者控）'!BG40=\"\",\"\",'請求書（請求者控）'!BG40)","v":""},{"$f":"IF('請求書（請求者控）'!BH40=\"\",\"\",'請求書（請求者控）'!BH40)","v":""},{"$f":"IF('請求書（請求者控）'!BI40=\"\",\"\",'請求書（請求者控）'!BI40)","v":""},{"$f":"IF('請求書（請求者控）'!BJ40=\"\",\"\",'請求書（請求者控）'!BJ40)","v":""},null,{"$f":"IF('請求書（請求者控）'!BL40=\"\",\"\",'請求書（請求者控）'!BL40)","v":""},{"$f":"IF('請求書（請求者控）'!BM40=\"\",\"\",'請求書（請求者控）'!BM40)","v":""},{"$f":"IF('請求書（請求者控）'!BN40=\"\",\"\",'請求書（請求者控）'!BN40)","v":""},{"$f":"IF('請求書（請求者控）'!BO40=\"\",\"\",'請求書（請求者控）'!BO40)","v":""},{"$f":"IF('請求書（請求者控）'!BP40=\"\",\"\",'請求書（請求者控）'!BP40)","v":""},{"$f":"IF('請求書（請求者控）'!BQ40=\"\",\"\",'請求書（請求者控）'!BQ40)","v":""},{"$f":"IF('請求書（請求者控）'!BR40=\"\",\"\",'請求書（請求者控）'!BR40)","v":""},{"$f":"IF('請求書（請求者控）'!BS40=\"\",\"\",'請求書（請求者控）'!BS40)","v":""},{"$f":"IF('請求書（請求者控）'!BT40=\"\",\"\",'請求書（請求者控）'!BT40)","v":""},{"$f":"IF('請求書（請求者控）'!BU40=\"\",\"\",'請求書（請求者控）'!BU40)","v":""},null,{"$f":"IF('請求書（請求者控）'!BW40=\"\",\"\",'請求書（請求者控）'!BW40)","v":""},{"$f":"IF('請求書（請求者控）'!BX40=\"\",\"\",'請求書（請求者控）'!BX40)","v":""},{"$f":"IF('請求書（請求者控）'!BY40=\"\",\"\",'請求書（請求者控）'!BY40)","v":""},{"$f":"IF('請求書（請求者控）'!BZ40=\"\",\"\",'請求書（請求者控）'!BZ40)","v":""},{"$f":"IF('請求書（請求者控）'!CA40=\"\",\"\",'請求書（請求者控）'!CA40)","v":""},{"$f":"IF('請求書（請求者控）'!CB40=\"\",\"\",'請求書（請求者控）'!CB40)","v":""},{"$f":"IF('請求書（請求者控）'!CC40=\"\",\"\",'請求書（請求者控）'!CC40)","v":""},{"$f":"IF('請求書（請求者控）'!CD40=\"\",\"\",'請求書（請求者控）'!CD40)","v":""},{"$f":"IF('請求書（請求者控）'!CE40=\"\",\"\",'請求書（請求者控）'!CE40)","v":""}]
[]
[{"$nulls":43},{"$f":"IF('請求書（請求者控）'!AR42=\"\",\"\",'請求書（請求者控）'!AR42)","v":""},{"$f":"IF('請求書（請求者控）'!AS42=\"\",\"\",'請求書（請求者控）'!AS42)","v":""},{"$f":"IF('請求書（請求者控）'!AT42=\"\",\"\",'請求書（請求者控）'!AT42)","v":""},{"$f":"IF('請求書（請求者控）'!AU42=\"\",\"\",'請求書（請求者控）'!AU42)","v":""},{"$f":"IF('請求書（請求者控）'!AV42=\"\",\"\",'請求書（請求者控）'!AV42)","v":""},{"$f":"IF('請求書（請求者控）'!AW42=\"\",\"\",'請求書（請求者控）'!AW42)","v":""},{"$f":"IF('請求書（請求者控）'!AX42=\"\",\"\",'請求書（請求者控）'!AX42)","v":""},{"$f":"IF('請求書（請求者控）'!AY42=\"\",\"\",'請求書（請求者控）'!AY42)","v":""},{"$f":"IF('請求書（請求者控）'!AZ42=\"\",\"\",'請求書（請求者控）'!AZ42)","v":""},{"$f":"IF('請求書（請求者控）'!BA42=\"\",\"\",'請求書（請求者控）'!BA42)","v":""},{"$f":"IF('請求書（請求者控）'!BB42=\"\",\"\",'請求書（請求者控）'!BB42)","v":""},{"$f":"IF('請求書（請求者控）'!BC42=\"\",\"\",'請求書（請求者控）'!BC42)","v":""},{"$f":"IF('請求書（請求者控）'!BD42=\"\",\"\",'請求書（請求者控）'!BD42)","v":""},{"$f":"IF('請求書（請求者控）'!BE42=\"\",\"\",'請求書（請求者控）'!BE42)","v":""},{"$f":"IF('請求書（請求者控）'!BF42=\"\",\"\",'請求書（請求者控）'!BF42)","v":""},{"$f":"IF('請求書（請求者控）'!BG42=\"\",\"\",'請求書（請求者控）'!BG42)","v":""},{"$f":"IF('請求書（請求者控）'!BH42=\"\",\"\",'請求書（請求者控）'!BH42)","v":""},{"$f":"IF('請求書（請求者控）'!BI42=\"\",\"\",'請求書（請求者控）'!BI42)","v":""},{"$f":"IF('請求書（請求者控）'!BJ42=\"\",\"\",'請求書（請求者控）'!BJ42)","v":""},{"$f":"IF('請求書（請求者控）'!BK42=\"\",\"\",'請求書（請求者控）'!BK42)","v":""},{"$f":"IF('請求書（請求者控）'!BL42=\"\",\"\",'請求書（請求者控）'!BL42)","v":""},{"$f":"IF('請求書（請求者控）'!BM42=\"\",\"\",'請求書（請求者控）'!BM42)","v":""},{"$f":"IF('請求書（請求者控）'!BN42=\"\",\"\",'請求書（請求者控）'!BN42)","v":""},{"$f":"IF('請求書（請求者控）'!BO42=\"\",\"\",'請求書（請求者控）'!BO42)","v":""},{"$f":"IF('請求書（請求者控）'!BP42=\"\",\"\",'請求書（請求者控）'!BP42)","v":""},{"$f":"IF('請求書（請求者控）'!BQ42=\"\",\"\",'請求書（請求者控）'!BQ42)","v":""},{"$f":"IF('請求書（請求者控）'!BR42=\"\",\"\",'請求書（請求者控）'!BR42)","v":""},{"$f":"IF('請求書（請求者控）'!BS42=\"\",\"\",'請求書（請求者控）'!BS42)","v":""},{"$f":"IF('請求書（請求者控）'!BT42=\"\",\"\",'請求書（請求者控）'!BT42)","v":""},{"$f":"IF('請求書（請求者控）'!BU42=\"\",\"\",'請求書（請求者控）'!BU42)","v":""},{"$f":"IF('請求書（請求者控）'!BV42=\"\",\"\",'請求書（請求者控）'!BV42)","v":""},{"$f":"IF('請求書（請求者控）'!BW42=\"\",\"\",'請求書（請求者控）'!BW42)","v":""},{"$f":"IF('請求書（請求者控）'!BX42=\"\",\"\",'請求書（請求者控）'!BX42)","v":""},{"$f":"IF('請求書（請求者控）'!BY42=\"\",\"\",'請求書（請求者控）'!BY42)","v":""},{"$f":"IF('請求書（請求者控）'!BZ42=\"\",\"\",'請求書（請求者控）'!BZ42)","v":""},{"$f":"IF('請求書（請求者控）'!CA42=\"\",\"\",'請求書（請求者控）'!CA42)","v":""},{"$f":"IF('請求書（請求者控）'!CB42=\"\",\"\",'請求書（請求者控）'!CB42)","v":""},{"$f":"IF('請求書（請求者控）'!CC42=\"\",\"\",'請求書（請求者控）'!CC42)","v":""},{"$f":"IF('請求書（請求者控）'!CD42=\"\",\"\",'請求書（請求者控）'!CD42)","v":""},{"$f":"IF('請求書（請求者控）'!CE42=\"\",\"\",'請求書（請求者控）'!CE42)","v":""},{"$f":"IF('請求書（請求者控）'!CF42=\"\",\"\",'請求書（請求者控）'!CF42)","v":""},{"$f":"IF('請求書（請求者控）'!CG42=\"\",\"\",'請求書（請求者控）'!CG42)","v":""},{"$f":"IF('請求書（請求者控）'!CH42=\"\",\"\",'請求書（請求者控）'!CH42)","v":""},{"$f":"IF('請求書（請求者控）'!CI42=\"\",\"\",'請求書（請求者控）'!CI42)","v":""},{"$f":"IF('請求書（請求者控）'!CJ42=\"\",\"\",'請求書（請求者控）'!CJ42)","v":""},{"$f":"IF('請求書（請求者控）'!CK42=\"\",\"\",'請求書（請求者控）'!CK42)","v":""},{"$f":"IF('請求書（請求者控）'!CL42=\"\",\"\",'請求書（請求者控）'!CL42)","v":""},{"$f":"IF('請求書（請求者控）'!CM42=\"\",\"\",'請求書（請求者控）'!CM42)","v":""}]
[]
[{"$nulls":56},"10％対象計",{"$nulls":6},{"$f":"IF('請求書（請求者控）'!BL44=\"\",\"\",'請求書（請求者控）'!BL44)","v":{"v":0,"d":"0 "}},{"$f":"IF('請求書（請求者控）'!BM44=\"\",\"\",'請求書（請求者控）'!BM44)","v":""},{"$f":"IF('請求書（請求者控）'!BN44=\"\",\"\",'請求書（請求者控）'!BN44)","v":""},{"$f":"IF('請求書（請求者控）'!BO44=\"\",\"\",'請求書（請求者控）'!BO44)","v":""},{"$f":"IF('請求書（請求者控）'!BP44=\"\",\"\",'請求書（請求者控）'!BP44)","v":""},{"$f":"IF('請求書（請求者控）'!BQ44=\"\",\"\",'請求書（請求者控）'!BQ44)","v":""},{"$f":"IF('請求書（請求者控）'!BR44=\"\",\"\",'請求書（請求者控）'!BR44)","v":""},{"$f":"IF('請求書（請求者控）'!BS44=\"\",\"\",'請求書（請求者控）'!BS44)","v":""},{"$f":"IF('請求書（請求者控）'!BT44=\"\",\"\",'請求書（請求者控）'!BT44)","v":""},{"$f":"IF('請求書（請求者控）'!BU44=\"\",\"\",'請求書（請求者控）'!BU44)","v":""},null,{"$f":"IF('請求書（請求者控）'!BW44=\"\",\"\",'請求書（請求者控）'!BW44)","v":{"v":0,"d":"0 "}},{"$f":"IF('請求書（請求者控）'!BX44=\"\",\"\",'請求書（請求者控）'!BX44)","v":""},{"$f":"IF('請求書（請求者控）'!BY44=\"\",\"\",'請求書（請求者控）'!BY44)","v":""},{"$f":"IF('請求書（請求者控）'!BZ44=\"\",\"\",'請求書（請求者控）'!BZ44)","v":""},{"$f":"IF('請求書（請求者控）'!CA44=\"\",\"\",'請求書（請求者控）'!CA44)","v":""},{"$f":"IF('請求書（請求者控）'!CB44=\"\",\"\",'請求書（請求者控）'!CB44)","v":""},{"$f":"IF('請求書（請求者控）'!CC44=\"\",\"\",'請求書（請求者控）'!CC44)","v":""},{"$f":"IF('請求書（請求者控）'!CD44=\"\",\"\",'請求書（請求者控）'!CD44)","v":""},{"$f":"IF('請求書（請求者控）'!CE44=\"\",\"\",'請求書（請求者控）'!CE44)","v":""}]
[{"$nulls":20},"検 印",{"$nulls":42},{"$f":"IF('請求書（請求者控）'!BL45=\"\",\"\",'請求書（請求者控）'!BL45)","v":""},{"$f":"IF('請求書（請求者控）'!BM45=\"\",\"\",'請求書（請求者控）'!BM45)","v":""},{"$f":"IF('請求書（請求者控）'!BN45=\"\",\"\",'請求書（請求者控）'!BN45)","v":""},{"$f":"IF('請求書（請求者控）'!BO45=\"\",\"\",'請求書（請求者控）'!BO45)","v":""},{"$f":"IF('請求書（請求者控）'!BP45=\"\",\"\",'請求書（請求者控）'!BP45)","v":""},{"$f":"IF('請求書（請求者控）'!BQ45=\"\",\"\",'請求書（請求者控）'!BQ45)","v":""},{"$f":"IF('請求書（請求者控）'!BR45=\"\",\"\",'請求書（請求者控）'!BR45)","v":""},{"$f":"IF('請求書（請求者控）'!BS45=\"\",\"\",'請求書（請求者控）'!BS45)","v":""},{"$f":"IF('請求書（請求者控）'!BT45=\"\",\"\",'請求書（請求者控）'!BT45)","v":""},{"$f":"IF('請求書（請求者控）'!BU45=\"\",\"\",'請求書（請求者控）'!BU45)","v":""},null,{"$f":"IF('請求書（請求者控）'!BW45=\"\",\"\",'請求書（請求者控）'!BW45)","v":""},{"$f":"IF('請求書（請求者控）'!BX45=\"\",\"\",'請求書（請求者控）'!BX45)","v":""},{"$f":"IF('請求書（請求者控）'!BY45=\"\",\"\",'請求書（請求者控）'!BY45)","v":""},{"$f":"IF('請求書（請求者控）'!BZ45=\"\",\"\",'請求書（請求者控）'!BZ45)","v":""},{"$f":"IF('請求書（請求者控）'!CA45=\"\",\"\",'請求書（請求者控）'!CA45)","v":""},{"$f":"IF('請求書（請求者控）'!CB45=\"\",\"\",'請求書（請求者控）'!CB45)","v":""},{"$f":"IF('請求書（請求者控）'!CC45=\"\",\"\",'請求書（請求者控）'!CC45)","v":""},{"$f":"IF('請求書（請求者控）'!CD45=\"\",\"\",'請求書（請求者控）'!CD45)","v":""},{"$f":"IF('請求書（請求者控）'!CE45=\"\",\"\",'請求書（請求者控）'!CE45)","v":""}]
[]
[{"$nulls":56},"８％対象計",{"$nulls":6},{"$f":"IF('請求書（請求者控）'!BL47=\"\",\"\",'請求書（請求者控）'!BL47)","v":{"v":0,"d":"0 "}},{"$f":"IF('請求書（請求者控）'!BM47=\"\",\"\",'請求書（請求者控）'!BM47)","v":""},{"$f":"IF('請求書（請求者控）'!BN47=\"\",\"\",'請求書（請求者控）'!BN47)","v":""},{"$f":"IF('請求書（請求者控）'!BO47=\"\",\"\",'請求書（請求者控）'!BO47)","v":""},{"$f":"IF('請求書（請求者控）'!BP47=\"\",\"\",'請求書（請求者控）'!BP47)","v":""},{"$f":"IF('請求書（請求者控）'!BQ47=\"\",\"\",'請求書（請求者控）'!BQ47)","v":""},{"$f":"IF('請求書（請求者控）'!BR47=\"\",\"\",'請求書（請求者控）'!BR47)","v":""},{"$f":"IF('請求書（請求者控）'!BS47=\"\",\"\",'請求書（請求者控）'!BS47)","v":""},{"$f":"IF('請求書（請求者控）'!BT47=\"\",\"\",'請求書（請求者控）'!BT47)","v":""},{"$f":"IF('請求書（請求者控）'!BU47=\"\",\"\",'請求書（請求者控）'!BU47)","v":""},null,{"$f":"IF('請求書（請求者控）'!BW47=\"\",\"\",'請求書（請求者控）'!BW47)","v":{"v":0,"d":"0 "}},{"$f":"IF('請求書（請求者控）'!BX47=\"\",\"\",'請求書（請求者控）'!BX47)","v":""},{"$f":"IF('請求書（請求者控）'!BY47=\"\",\"\",'請求書（請求者控）'!BY47)","v":""},{"$f":"IF('請求書（請求者控）'!BZ47=\"\",\"\",'請求書（請求者控）'!BZ47)","v":""},{"$f":"IF('請求書（請求者控）'!CA47=\"\",\"\",'請求書（請求者控）'!CA47)","v":""},{"$f":"IF('請求書（請求者控）'!CB47=\"\",\"\",'請求書（請求者控）'!CB47)","v":""},{"$f":"IF('請求書（請求者控）'!CC47=\"\",\"\",'請求書（請求者控）'!CC47)","v":""},{"$f":"IF('請求書（請求者控）'!CD47=\"\",\"\",'請求書（請求者控）'!CD47)","v":""},{"$f":"IF('請求書（請求者控）'!CE47=\"\",\"\",'請求書（請求者控）'!CE47)","v":""}]
[{"$nulls":63},{"$f":"IF('請求書（請求者控）'!BL48=\"\",\"\",'請求書（請求者控）'!BL48)","v":""},{"$f":"IF('請求書（請求者控）'!BM48=\"\",\"\",'請求書（請求者控）'!BM48)","v":""},{"$f":"IF('請求書（請求者控）'!BN48=\"\",\"\",'請求書（請求者控）'!BN48)","v":""},{"$f":"IF('請求書（請求者控）'!BO48=\"\",\"\",'請求書（請求者控）'!BO48)","v":""},{"$f":"IF('請求書（請求者控）'!BP48=\"\",\"\",'請求書（請求者控）'!BP48)","v":""},{"$f":"IF('請求書（請求者控）'!BQ48=\"\",\"\",'請求書（請求者控）'!BQ48)","v":""},{"$f":"IF('請求書（請求者控）'!BR48=\"\",\"\",'請求書（請求者控）'!BR48)","v":""},{"$f":"IF('請求書（請求者控）'!BS48=\"\",\"\",'請求書（請求者控）'!BS48)","v":""},{"$f":"IF('請求書（請求者控）'!BT48=\"\",\"\",'請求書（請求者控）'!BT48)","v":""},{"$f":"IF('請求書（請求者控）'!BU48=\"\",\"\",'請求書（請求者控）'!BU48)","v":""},null,{"$f":"IF('請求書（請求者控）'!BW48=\"\",\"\",'請求書（請求者控）'!BW48)","v":""},{"$f":"IF('請求書（請求者控）'!BX48=\"\",\"\",'請求書（請求者控）'!BX48)","v":""},{"$f":"IF('請求書（請求者控）'!BY48=\"\",\"\",'請求書（請求者控）'!BY48)","v":""},{"$f":"IF('請求書（請求者控）'!BZ48=\"\",\"\",'請求書（請求者控）'!BZ48)","v":""},{"$f":"IF('請求書（請求者控）'!CA48=\"\",\"\",'請求書（請求者控）'!CA48)","v":""},{"$f":"IF('請求書（請求者控）'!CB48=\"\",\"\",'請求書（請求者控）'!CB48)","v":""},{"$f":"IF('請求書（請求者控）'!CC48=\"\",\"\",'請求書（請求者控）'!CC48)","v":""},{"$f":"IF('請求書（請求者控）'!CD48=\"\",\"\",'請求書（請求者控）'!CD48)","v":""},{"$f":"IF('請求書（請求者控）'!CE48=\"\",\"\",'請求書（請求者控）'!CE48)","v":""}]
[]
[{"$nulls":63},{"$f":"IF('請求書（請求者控）'!BL50=\"\",\"\",'請求書（請求者控）'!BL50)","v":{"v":0,"d":"0 "}},{"$f":"IF('請求書（請求者控）'!BM50=\"\",\"\",'請求書（請求者控）'!BM50)","v":""},{"$f":"IF('請求書（請求者控）'!BN50=\"\",\"\",'請求書（請求者控）'!BN50)","v":""},{"$f":"IF('請求書（請求者控）'!BO50=\"\",\"\",'請求書（請求者控）'!BO50)","v":""},{"$f":"IF('請求書（請求者控）'!BP50=\"\",\"\",'請求書（請求者控）'!BP50)","v":""},{"$f":"IF('請求書（請求者控）'!BQ50=\"\",\"\",'請求書（請求者控）'!BQ50)","v":""},{"$f":"IF('請求書（請求者控）'!BR50=\"\",\"\",'請求書（請求者控）'!BR50)","v":""},{"$f":"IF('請求書（請求者控）'!BS50=\"\",\"\",'請求書（請求者控）'!BS50)","v":""},{"$f":"IF('請求書（請求者控）'!BT50=\"\",\"\",'請求書（請求者控）'!BT50)","v":""},{"$f":"IF('請求書（請求者控）'!BU50=\"\",\"\",'請求書（請求者控）'!BU50)","v":""},null,"合計",{"$nulls":4},{"$f":"IF('請求書（請求者控）'!CB50=\"\",\"\",'請求書（請求者控）'!CB50)","v":{"v":0,"d":"0 "}},{"$f":"IF('請求書（請求者控）'!CC50=\"\",\"\",'請求書（請求者控）'!CC50)","v":""},{"$f":"IF('請求書（請求者控）'!CD50=\"\",\"\",'請求書（請求者控）'!CD50)","v":""},{"$f":"IF('請求書（請求者控）'!CE50=\"\",\"\",'請求書（請求者控）'!CE50)","v":""},{"$f":"IF('請求書（請求者控）'!CF50=\"\",\"\",'請求書（請求者控）'!CF50)","v":""},{"$f":"IF('請求書（請求者控）'!CG50=\"\",\"\",'請求書（請求者控）'!CG50)","v":""},{"$f":"IF('請求書（請求者控）'!CH50=\"\",\"\",'請求書（請求者控）'!CH50)","v":""},{"$f":"IF('請求書（請求者控）'!CI50=\"\",\"\",'請求書（請求者控）'!CI50)","v":""},{"$f":"IF('請求書（請求者控）'!CJ50=\"\",\"\",'請求書（請求者控）'!CJ50)","v":""},{"$f":"IF('請求書（請求者控）'!CK50=\"\",\"\",'請求書（請求者控）'!CK50)","v":""},{"$f":"IF('請求書（請求者控）'!CL50=\"\",\"\",'請求書（請求者控）'!CL50)","v":""},{"$f":"IF('請求書（請求者控）'!CM50=\"\",\"\",'請求書（請求者控）'!CM50)","v":""}]
[{"$nulls":63},{"$f":"IF('請求書（請求者控）'!BL51=\"\",\"\",'請求書（請求者控）'!BL51)","v":""},{"$f":"IF('請求書（請求者控）'!BM51=\"\",\"\",'請求書（請求者控）'!BM51)","v":""},{"$f":"IF('請求書（請求者控）'!BN51=\"\",\"\",'請求書（請求者控）'!BN51)","v":""},{"$f":"IF('請求書（請求者控）'!BO51=\"\",\"\",'請求書（請求者控）'!BO51)","v":""},{"$f":"IF('請求書（請求者控）'!BP51=\"\",\"\",'請求書（請求者控）'!BP51)","v":""},{"$f":"IF('請求書（請求者控）'!BQ51=\"\",\"\",'請求書（請求者控）'!BQ51)","v":""},{"$f":"IF('請求書（請求者控）'!BR51=\"\",\"\",'請求書（請求者控）'!BR51)","v":""},{"$f":"IF('請求書（請求者控）'!BS51=\"\",\"\",'請求書（請求者控）'!BS51)","v":""},{"$f":"IF('請求書（請求者控）'!BT51=\"\",\"\",'請求書（請求者控）'!BT51)","v":""},{"$f":"IF('請求書（請求者控）'!BU51=\"\",\"\",'請求書（請求者控）'!BU51)","v":""},{"$nulls":6},{"$f":"IF('請求書（請求者控）'!CB51=\"\",\"\",'請求書（請求者控）'!CB51)","v":""},{"$f":"IF('請求書（請求者控）'!CC51=\"\",\"\",'請求書（請求者控）'!CC51)","v":""},{"$f":"IF('請求書（請求者控）'!CD51=\"\",\"\",'請求書（請求者控）'!CD51)","v":""},{"$f":"IF('請求書（請求者控）'!CE51=\"\",\"\",'請求書（請求者控）'!CE51)","v":""},{"$f":"IF('請求書（請求者控）'!CF51=\"\",\"\",'請求書（請求者控）'!CF51)","v":""},{"$f":"IF('請求書（請求者控）'!CG51=\"\",\"\",'請求書（請求者控）'!CG51)","v":""},{"$f":"IF('請求書（請求者控）'!CH51=\"\",\"\",'請求書（請求者控）'!CH51)","v":""},{"$f":"IF('請求書（請求者控）'!CI51=\"\",\"\",'請求書（請求者控）'!CI51)","v":""},{"$f":"IF('請求書（請求者控）'!CJ51=\"\",\"\",'請求書（請求者控）'!CJ51)","v":""},{"$f":"IF('請求書（請求者控）'!CK51=\"\",\"\",'請求書（請求者控）'!CK51)","v":""},{"$f":"IF('請求書（請求者控）'!CL51=\"\",\"\",'請求書（請求者控）'!CL51)","v":""},{"$f":"IF('請求書（請求者控）'!CM51=\"\",\"\",'請求書（請求者控）'!CM51)","v":""}]

{"sheet":"送付用）請求書②","index":2,"n_rows":51,"n_cols":92,"rows_kept":51,"merged":[[0,1,0,20],[0,34,1,58],[1,1,1,19],[1,21,1,23],[2,61,2,64],[2,65,5,90],[3,4,3,11],[3,17,3,18],[3,21,3,22],[3,25,3,26],[3,34,3,40],[5,4,5,11],[5,34,5,40],[7,34,7,40],[7,61,7,66],[7,67,7,71],[7,72,7,73],[7,74,7,79],[7,80,7,81],[7,82,7,89],[9,4,9,11],[9,34,9,40],[9,61,9,66],[9,67,9,75],[9,76,9,78],[9,79,9,87],[9,88,9,90],[11,4,11,11],[11,13,11,23],[11,34,11,40],[11,67,11,74],[11,75,11,77],[11,78,11,91],[13,4,13,11],[13,66,13,87],[15,4,15,14],[15,16,15,32],[15,34,15,41],[15,43,15,48],[15,49,15,51],[15,53,15,61],[15,63,15,72],[15,74,15,82],[15,84,15,90],[17,4,17,14],[17,16,17,32],[17,34,17,41],[17,43,17,90],[19,1,21,2],[19,4,19,14],[19,16,19,23],[19,24,19,32],[19,34,19,36],[19,37,19,41],[19,43,19,51],[19,53,19,61],[19,63,19,72],[19,74,19,82],[19,86,19,90],[21,4,21,14],[21,16,21,23],[21,24,21,32],[21,36,21,41],[21,43,21,90],[23,1,25,2],[23,4,23,14],[23,16,23,23],[23,24,23,32],[23,34,23,36],[23,37,23,41],[23,43,23,51],[23,53,23,61],[23,63,23,72],[23,74,23,82],[23,86,23,90],[25,4,25,14],[25,16,25,23],[25,24,25,32],[25,36,25,41],[25,43,25,90],[27,1,29,2],[27,4,27,14],[27,16,27,23],[27,24,27,32],[27,34,27,36],[27,37,27,41],[27,43,27,51],[27,53,27,61],[27,63,27,72],[27,74,27,82],[27,86,27,90],[29,4,29,14],[29,16,29,23],[29,24,29,32],[29,36,29,41],[29,43,29,90],[31,1,33,2],[31,4,31,14],[31,16,31,23],[31,24,31,32],[31,34,31,36],[31,37,31,41],[31,43,31,51],[31,53,31,61],[31,63,31,72],[31,74,31,82],[31,86,31,90],[33,4,33,14],[33,16,33,23],[33,24,33,32],[33,36,33,41],[33,43,33,90],[35,1,37,2],[35,4,35,14],[35,16,35,23],[35,24,35,32],[35,34,35,36],[35,37,35,41],[35,43,35,51],[35,53,35,61],[35,63,35,72],[35,74,35,82],[35,86,35,90],[37,4,37,14],[37,16,37,23],[37,24,37,32],[37,36,37,41],[37,43,37,90],[39,1,41,2],[39,4,39,14],[39,16,39,23],[39,24,39,32],[39,34,39,36],[39,37,39,41],[39,43,39,51],[39,53,39,61],[39,63,39,72],[39,74,39,82],[39,86,39,90],[41,4,41,14],[41,16,41,23],[41,24,41,32],[41,36,41,41],[41,43,41,90],[43,56,44,61],[43,63,44,72],[43,74,44,82],[44,20,50,21],[44,22,50,27],[44,28,50,33],[44,34,50,39],[44,40,50,45],[44,46,50,51],[46,56,47,61],[46,63,47,72],[46,74,47,82],[49,56,50,61],[49,63,50,72],[49,74,50,77],[49,79,50,90]]}
[null,"東亜道路工業株式会社",{"$nulls":32},"請 　求　 書",{"$nulls":40},"伝票№"]
[null,{"$f":"IF('請求書（請求者控）'!B2=\"\",\"\",'請求書（請求者控）'!B2)","v":""},{"$f":"IF('請求書（請求者控）'!C2=\"\",\"\",'請求書（請求者控）'!C2)","v":""},{"$f":"IF('請求書（請求者控）'!D2=\"\",\"\",'請求書（請求者控）'!D2)","v":""},{"$f":"IF('請求書（請求者控）'!E2=\"\",\"\",'請求書（請求者控）'!E2)","v":""},{"$f":"IF('請求書（請求者控）'!F2=\"\",\"\",'請求書（請求者控）'!F2)","v":""},{"$f":"IF('請求書（請求者控）'!G2=\"\",\"\",'請求書（請求者控）'!G2)","v":""},{"$f":"IF('請求書（請求者控）'!H2=\"\",\"\",'請求書（請求者控）'!H2)","v":""},{"$f":"IF('請求書（請求者控）'!I2=\"\",\"\",'請求書（請求者控）'!I2)","v":""},{"$f":"IF('請求書（請求者控）'!J2=\"\",\"\",'請求書（請求者控）'!J2)","v":""},{"$f":"IF('請求書（請求者控）'!K2=\"\",\"\",'請求書（請求者控）'!K2)","v":""},{"$f":"IF('請求書（請求者控）'!L2=\"\",\"\",'請求書（請求者控）'!L2)","v":""},{"$f":"IF('請求書（請求者控）'!M2=\"\",\"\",'請求書（請求者控）'!M2)","v":""},{"$f":"IF('請求書（請求者控）'!N2=\"\",\"\",'請求書（請求者控）'!N2)","v":""},{"$f":"IF('請求書（請求者控）'!O2=\"\",\"\",'請求書（請求者控）'!O2)","v":""},{"$f":"IF('請求書（請求者控）'!P2=\"\",\"\",'請求書（請求者控）'!P2)","v":""},{"$f":"IF('請求書（請求者控）'!Q2=\"\",\"\",'請求書（請求者控）'!Q2)","v":""},{"$f":"IF('請求書（請求者控）'!R2=\"\",\"\",'請求書（請求者控）'!R2)","v":""},{"$f":"IF('請求書（請求者控）'!S2=\"\",\"\",'請求書（請求者控）'!S2)","v":""},{"$f":"IF('請求書（請求者控）'!T2=\"\",\"\",'請求書（請求者控）'!T2)","v":""},null,"御中",{"$nulls":53},"(注文書№",{"$nulls":15},")"]
[{"$nulls":61},"住所",{"$nulls":3},{"$f":"IF('請求書（請求者控）'!BN3=\"\",\"\",'請求書（請求者控）'!BN3)","v":""},{"$f":"IF('請求書（請求者控）'!BO3=\"\",\"\",'請求書（請求者控）'!BO3)","v":""},{"$f":"IF('請求書（請求者控）'!BP3=\"\",\"\",'請求書（請求者控）'!BP3)","v":""},{"$f":"IF('請求書（請求者控）'!BQ3=\"\",\"\",'請求書（請求者控）'!BQ3)","v":""},{"$f":"IF('請求書（請求者控）'!BR3=\"\",\"\",'請求書（請求者控）'!BR3)","v":""},{"$f":"IF('請求書（請求者控）'!BS3=\"\",\"\",'請求書（請求者控）'!BS3)","v":""},{"$f":"IF('請求書（請求者控）'!BT3=\"\",\"\",'請求書（請求者控）'!BT3)","v":""},{"$f":"IF('請求書（請求者控）'!BU3=\"\",\"\",'請求書（請求者控）'!BU3)","v":""},{"$f":"IF('請求書（請求者控）'!BV3=\"\",\"\",'請求書（請求者控）'!BV3)","v":""},{"$f":"IF('請求書（請求者控）'!BW3=\"\",\"\",'請求書（請求者控）'!BW3)","v":""},{"$f":"IF('請求書（請求者控）'!BX3=\"\",\"\",'請求書（請求者控）'!BX3)","v":""},{"$f":"IF('請求書（請求者控）'!BY3=\"\",\"\",'請求書（請求者控）'!BY3)","v":""},{"$f":"IF('請求書（請求者控）'!BZ3=\"\",\"\",'請求書（請求者控）'!BZ3)","v":""},{"$f":"IF('請求書（請求者控）'!CA3=\"\",\"\",'請求書（請求者控）'!CA3)","v":""},{"$f":"IF('請求書（請求者控）'!CB3=\"\",\"\",'請求書（請求者控）'!CB3)","v":""},{"$f":"IF('請求書（請求者控）'!CC3=\"\",\"\",'請求書（請求者控）'!CC3)","v":""},{"$f":"IF('請求書（請求者控）'!CD3=\"\",\"\",'請求書（請求者控）'!CD3)","v":""},{"$f":"IF('請求書（請求者控）'!CE3=\"\",\"\",'請求書（請求者控）'!CE3)","v":""},{"$f":"IF('請求書（請求者控）'!CF3=\"\",\"\",'請求書（請求者控）'!CF3)","v":""},{"$f":"IF('請求書（請求者控）'!CG3=\"\",\"\",'請求書（請求者控）'!CG3)","v":""},{"$f":"IF('請求書（請求者控）'!CH3=\"\",\"\",'請求書（請求者控）'!CH3)","v":""},{"$f":"IF('請求書（請求者控）'!CI3=\"\",\"\",'請求書（請求者控）'!CI3)","v":""},{"$f":"IF('請求書（請求者控）'!CJ3=\"\",\"\",'請求書（請求者控）'!CJ3)","v":""},{"$f":"IF('請求書（請求者控）'!CK3=\"\",\"\",'請求書（請求者控）'!CK3)","v":""},{"$f":"IF('請求書（請求者控）'!CL3=\"\",\"\",'請求書（請求者控）'!CL3)","v":""},{"$f":"IF('請求書（請求者控）'!CM3=\"\",\"\",'請求書（請求者控）'!CM3)","v":""}]
[{"$nulls":4},"請求日",{"$nulls":8},2,0,{"$f":"IF('請求書（請求者控）'!P4=\"\",\"\",'請求書（請求者控）'!P4)","v":""},{"$f":"IF('請求書（請求者控）'!Q4=\"\",\"\",'請求書（請求者控）'!Q4)","v":""},"年",null,{"$f":"IF('請求書（請求者控）'!T4=\"\",\"\",'請求書（請求者控）'!T4)","v":""},{"$f":"IF('請求書（請求者控）'!U4=\"\",\"\",'請求書（請求者控）'!U4)","v":""},"月",null,{"$f":"IF('請求書（請求者控）'!X4=\"\",\"\",'請求書（請求者控）'!X4)","v":""},{"$f":"IF('請求書（請求者控）'!Y4=\"\",\"\",'請求書（請求者控）'!Y4)","v":""},"日",{"$nulls":8},"請求金額",{"$nulls":26},"会社名",{"$nulls":3},{"$f":"IF('請求書（請求者控）'!BN4=\"\",\"\",'請求書（請求者控）'!BN4)","v":""},{"$f":"IF('請求書（請求者控）'!BO4=\"\",\"\",'請求書（請求者控）'!BO4)","v":""},{"$f":"IF('請求書（請求者控）'!BP4=\"\",\"\",'請求書（請求者控）'!BP4)","v":""},{"$f":"IF('請求書（請求者控）'!BQ4=\"\",\"\",'請求書（請求者控）'!BQ4)","v":""},{"$f":"IF('請求書（請求者控）'!BR4=\"\",\"\",'請求書（請求者控）'!BR4)","v":""},{"$f":"IF('請求書（請求者控）'!BS4=\"\",\"\",'請求書（請求者控）'!BS4)","v":""},{"$f":"IF('請求書（請求者控）'!BT4=\"\",\"\",'請求書（請求者控）'!BT4)","v":""},{"$f":"IF('請求書（請求者控）'!BU4=\"\",\"\",'請求書（請求者控）'!BU4)","v":""},{"$f":"IF('請求書（請求者控）'!BV4=\"\",\"\",'請求書（請求者控）'!BV4)","v":""},{"$f":"IF('請求書（請求者控）'!BW4=\"\",\"\",'請求書（請求者控）'!BW4)","v":""},{"$f":"IF('請求書（請求者控）'!BX4=\"\",\"\",'請求書（請求者控）'!BX4)","v":""},{"$f":"IF('請求書（請求者控）'!BY4=\"\",\"\",'請求書（請求者控）'!BY4)","v":""},{"$f":"IF('請求書（請求者控）'!BZ4=\"\",\"\",'請求書（請求者控）'!BZ4)","v":""},{"$f":"IF('請求書（請求者控）'!CA4=\"\",\"\",'請求書（請求者控）'!CA4)","v":""},{"$f":"IF('請求書（請求者控）'!CB4=\"\",\"\",'請求書（請求者控）'!CB4)","v":""},{"$f":"IF('請求書（請求者控）'!CC4=\"\",\"\",'請求書（請求者控）'!CC4)","v":""},{"$f":"IF('請求書（請求者控）'!CD4=\"\",\"\",'請求書（請求者控）'!CD4)","v":""},{"$f":"IF('請求書（請求者控）'!CE4=\"\",\"\",'請求書（請求者控）'!CE4)","v":""},{"$f":"IF('請求書（請求者控）'!CF4=\"\",\"\",'請求書（請求者控）'!CF4)","v":""},{"$f":"IF('請求書（請求者控）'!CG4=\"\",\"\",'請求書（請求者控）'!CG4)","v":""},{"$f":"IF('請求書（請求者控）'!CH4=\"\",\"\",'請求書（請求者控）'!CH4)","v":""},{"$f":"IF('請求書（請求者控）'!CI4=\"\",\"\",'請求書（請求者控）'!CI4)","v":""},{"$f":"IF('請求書（請求者控）'!CJ4=\"\",\"\",'請求書（請求者控）'!CJ4)","v":""},{"$f":"IF('請求書（請求者控）'!CK4=\"\",\"\",'請求書（請求者控）'!CK4)","v":""},{"$f":"IF('請求書（請求者控）'!CL4=\"\",\"\",'請求書（請求者控）'!CL4)","v":""},{"$f":"IF('請求書（請求者控）'!CM4=\"\",\"\",'請求書（請求者控）'!CM4)","v":""}]
[{"$nulls":65},{"$f":"IF('請求書（請求者控）'!BN5=\"\",\"\",'請求書（請求者控）'!BN5)","v":""},{"$f":"IF('請求書（請求者控）'!BO5=\"\",\"\",'請求書（請求者控）'!BO5)","v":""},{"$f":"IF('請求書（請求者控）'!BP5=\"\",\"\",'請求書（請求者控）'!BP5)","v":""},{"$f":"IF('請求書（請求者控）'!BQ5=\"\",\"\",'請求書（請求者控）'!BQ5)","v":""},{"$f":"IF('請求書（請求者控）'!BR5=\"\",\"\",'請求書（請求者控）'!BR5)","v":""},{"$f":"IF('請求書（請求者控）'!BS5=\"\",\"\",'請求書（請求者控）'!BS5)","v":""},{"$f":"IF('請求書（請求者控）'!BT5=\"\",\"\",'請求書（請求者控）'!BT5)","v":""},{"$f":"IF('請求書（請求者控）'!BU5=\"\",\"\",'請求書（請求者控）'!BU5)","v":""},{"$f":"IF('請求書（請求者控）'!BV5=\"\",\"\",'請求書（請求者控）'!BV5)","v":""},{"$f":"IF('請求書（請求者控）'!BW5=\"\",\"\",'請求書（請求者控）'!BW5)","v":""},{"$f":"IF('請求書（請求者控）'!BX5=\"\",\"\",'請求書（請求者控）'!BX5)","v":""},{"$f":"IF('請求書（請求者控）'!BY5=\"\",\"\",'請求書（請求者控）'!BY5)","v":""},{"$f":"IF('請求書（請求者控）'!BZ5=\"\",\"\",'請求書（請求者控）'!BZ5)","v":""},{"$f":"IF('請求書（請求者控）'!CA5=\"\",\"\",'請求書（請求者控）'!CA5)","v":""},{"$f":"IF('請求書（請求者控）'!CB5=\"\",\"\",'請求書（請求者控）'!CB5)","v":""},{"$f":"IF('請求書（請求者控）'!CC5=\"\",\"\",'請求書（請求者控）'!CC5)","v":""},{"$f":"IF('請求書（請求者控）'!CD5=\"\",\"\",'請求書（請求者控）'!CD5)","v":""},{"$f":"IF('請求書（請求者控）'!CE5=\"\",\"\",'請求書（請求者控）'!CE5)","v":""},{"$f":"IF('請求書（請求者控）'!CF5=\"\",\"\",'請求書（請求者控）'!CF5)","v":""},{"$f":"IF('請求書（請求者控）'!CG5=\"\",\"\",'請求書（請求者控）'!CG5)","v":""},{"$f":"IF('請求書（請求者控）'!CH5=\"\",\"\",'請求書（請求者控）'!CH5)","v":""},{"$f":"IF('請求書（請求者控）'!CI5=\"\",\"\",'請求書（請求者控）'!CI5)","v":""},{"$f":"IF('請求書（請求者控）'!CJ5=\"\",\"\",'請求書（請求者控）'!CJ5)","v":""},{"$f":"IF('請求書（請求者控）'!CK5=\"\",\"\",'請求書（請求者控）'!CK5)","v":""},{"$f":"IF('請求書（請求者控）'!CL5=\"\",\"\",'請求書（請求者控）'!CL5)","v":""},{"$f":"IF('請求書（請求者控）'!CM5=\"\",\"\",'請求書（請求者控）'!CM5)","v":""}]
[{"$nulls":4},"取引先コード",{"$nulls":8},{"$f":"IF('請求書（請求者控）'!N6=\"\",\"\",'請求書（請求者控）'!N6)","v":""},{"$f":"IF('請求書（請求者控）'!O6=\"\",\"\",'請求書（請求者控）'!O6)","v":""},{"$f":"IF('請求書（請求者控）'!P6=\"\",\"\",'請求書（請求者控）'!P6)","v":""},{"$f":"IF('請求書（請求者控）'!Q6=\"\",\"\",'請求書（請求者控）'!Q6)","v":""},{"$f":"IF('請求書（請求者控）'!R6=\"\",\"\",'請求書（請求者控）'!R6)","v":""},{"$f":"IF('請求書（請求者控）'!S6=\"\",\"\",'請求書（請求者控）'!S6)","v":""},{"$nulls":15},"保留金",{"$nulls":30},{"$f":"IF('請求書（請求者控）'!BN6=\"\",\"\",'請求書（請求者控）'!BN6)","v":""},{"$f":"IF('請求書（請求者控）'!BO6=\"\",\"\",'請求書（請求者控）'!BO6)","v":""},{"$f":"IF('請求書（請求者控）'!BP6=\"\",\"\",'請求書（請求者控）'!BP6)","v":""},{"$f":"IF('請求書（請求者控）'!BQ6=\"\",\"\",'請求書（請求者控）'!BQ6)","v":""},{"$f":"IF('請求書（請求者控）'!BR6=\"\",\"\",'請求書（請求者控）'!BR6)","v":""},{"$f":"IF('請求書（請求者控）'!BS6=\"\",\"\",'請求書（請求者控）'!BS6)","v":""},{"$f":"IF('請求書（請求者控）'!BT6=\"\",\"\",'請求書（請求者控）'!BT6)","v":""},{"$f":"IF('請求書（請求者控）'!BU6=\"\",\"\",'請求書（請求者控）'!BU6)","v":""},{"$f":"IF('請求書（請求者控）'!BV6=\"\",\"\",'請求書（請求者控）'!BV6)","v":""},{"$f":"IF('請求書（請求者控）'!BW6=\"\",\"\",'請求書（請求者控）'!BW6)","v":""},{"$f":"IF('請求書（請求者控）'!BX6=\"\",\"\",'請求書（請求者控）'!BX6)","v":""},{"$f":"IF('請求書（請求者控）'!BY6=\"\",\"\",'請求書（請求者控）'!BY6)","v":""},{"$f":"IF('請求書（請求者控）'!BZ6=\"\",\"\",'請求書（請求者控）'!BZ6)","v":""},{"$f":"IF('請求書（請求者控）'!CA6=\"\",\"\",'請求書（請求者控）'!CA6)","v":""},{"$f":"IF('請求書（請求者控）'!CB6=\"\",\"\",'請求書（請求者控）'!CB6)","v":""},{"$f":"IF('請求書（請求者控）'!CC6=\"\",\"\",'請求書（請求者控）'!CC6)","v":""},{"$f":"IF('請求書（請求者控）'!CD6=\"\",\"\",'請求書（請求者控）'!CD6)","v":""},{"$f":"IF('請求書（請求者控）'!CE6=\"\",\"\",'請求書（請求者控）'!CE6)","v":""},{"$f":"IF('請求書（請求者控）'!CF6=\"\",\"\",'請求書（請求者控）'!CF6)","v":""},{"$f":"IF('請求書（請求者控）'!CG6=\"\",\"\",'請求書（請求者控）'!CG6)","v":""},{"$f":"IF('請求書（請求者控）'!CH6=\"\",\"\",'請求書（請求者控）'!CH6)","v":""},{"$f":"IF('請求書（請求者控）'!CI6=\"\",\"\",'請求書（請求者控）'!CI6)","v":""},{"$f":"IF('請求書（請求者控）'!CJ6=\"\",\"\",'請求書（請求者控）'!CJ6)","v":""},{"$f":"IF('請求書（請求者控）'!CK6=\"\",\"\",'請求書（請求者控）'!CK6)","v":""},{"$f":"IF('請求書（請求者控）'!CL6=\"\",\"\",'請求書（請求者控）'!CL6)","v":""},{"$f":"IF('請求書（請求者控）'!CM6=\"\",\"\",'請求書（請求者控）'!CM6)","v":""}]
[]
[{"$nulls":34},"保留金解除額",{"$nulls":26},"電話",{"$nulls":5},{"$f":"IF('請求書（請求者控）'!BP8=\"\",\"\",'請求書（請求者控）'!BP8)","v":""},{"$f":"IF('請求書（請求者控）'!BQ8=\"\",\"\",'請求書（請求者控）'!BQ8)","v":""},{"$f":"IF('請求書（請求者控）'!BR8=\"\",\"\",'請求書（請求者控）'!BR8)","v":""},{"$f":"IF('請求書（請求者控）'!BS8=\"\",\"\",'請求書（請求者控）'!BS8)","v":""},{"$f":"IF('請求書（請求者控）'!BT8=\"\",\"\",'請求書（請求者控）'!BT8)","v":""},"－",null,{"$f":"IF('請求書（請求者控）'!BW8=\"\",\"\",'請求書（請求者控）'!BW8)","v":""},{"$f":"IF('請求書（請求者控）'!BX8=\"\",\"\",'請求書（請求者控）'!BX8)","v":""},{"$f":"IF('請求書（請求者控）'!BY8=\"\",\"\",'請求書（請求者控）'!BY8)","v":""},{"$f":"IF('請求書（請求者控）'!BZ8=\"\",\"\",'請求書（請求者控）'!BZ8)","v":""},{"$f":"IF('請求書（請求者控）'!CA8=\"\",\"\",'請求書（請求者控）'!CA8)","v":""},{"$f":"IF('請求書（請求者控）'!CB8=\"\",\"\",'請求書（請求者控）'!CB8)","v":""},"－",null,{"$f":"IF('請求書（請求者控）'!CE8=\"\",\"\",'請求書（請求者控）'!CE8)","v":""},{"$f":"IF('請求書（請求者控）'!CF8=\"\",\"\",'請求書（請求者控）'!CF8)","v":""},{"$f":"IF('請求書（請求者控）'!CG8=\"\",\"\",'請求書（請求者控）'!CG8)","v":""},{"$f":"IF('請求書（請求者控）'!CH8=\"\",\"\",'請求書（請求者控）'!CH8)","v":""},{"$f":"IF('請求書（請求者控）'!CI8=\"\",\"\",'請求書（請求者控）'!CI8)","v":""},{"$f":"IF('請求書（請求者控）'!CJ8=\"\",\"\",'請求書（請求者控）'!CJ8)","v":""},{"$f":"IF('請求書（請求者控）'!CK8=\"\",\"\",'請求書（請求者控）'!CK8)","v":""},{"$f":"IF('請求書（請求者控）'!CL8=\"\",\"\",'請求書（請求者控）'!CL8)","v":""}]
[]
[{"$nulls":4},"貸方組織コード",{"$nulls":29},"相殺金額",{"$nulls":26},"取引銀行",{"$nulls":5},{"$f":"IF('請求書（請求者控）'!BP10=\"\",\"\",'請求書（請求者控）'!BP10)","v":""},{"$f":"IF('請求書（請求者控）'!BQ10=\"\",\"\",'請求書（請求者控）'!BQ10)","v":""},{"$f":"IF('請求書（請求者控）'!BR10=\"\",\"\",'請求書（請求者控）'!BR10)","v":""},{"$f":"IF('請求書（請求者控）'!BS10=\"\",\"\",'請求書（請求者控）'!BS10)","v":""},{"$f":"IF('請求書（請求者控）'!BT10=\"\",\"\",'請求書（請求者控）'!BT10)","v":""},{"$f":"IF('請求書（請求者控）'!BU10=\"\",\"\",'請求書（請求者控）'!BU10)","v":""},{"$f":"IF('請求書（請求者控）'!BV10=\"\",\"\",'請求書（請求者控）'!BV10)","v":""},{"$f":"IF('請求書（請求者控）'!BW10=\"\",\"\",'請求書（請求者控）'!BW10)","v":""},{"$f":"IF('請求書（請求者控）'!BX10=\"\",\"\",'請求書（請求者控）'!BX10)","v":""},"銀行",null,null,{"$f":"IF('請求書（請求者控）'!CB10=\"\",\"\",'請求書（請求者控）'!CB10)","v":""},{"$f":"IF('請求書（請求者控）'!CC10=\"\",\"\",'請求書（請求者控）'!CC10)","v":""},{"$f":"IF('請求書（請求者控）'!CD10=\"\",\"\",'請求書（請求者控）'!CD10)","v":""},{"$f":"IF('請求書（請求者控）'!CE10=\"\",\"\",'請求書（請求者控）'!CE10)","v":""},{"$f":"IF('請求書（請求者控）'!CF10=\"\",\"\",'請求書（請求者控）'!CF10)","v":""},{"$f":"IF('請求書（請求者控）'!CG10=\"\",\"\",'請求書（請求者控）'!CG10)","v":""},{"$f":"IF('請求書（請求者控）'!CH10=\"\",\"\",'請求書（請求者控）'!CH10)","v":""},{"$f":"IF('請求書（請求者控）'!CI10=\"\",\"\",'請求書（請求者控）'!CI10)","v":""},{"$f":"IF('請求書（請求者控）'!CJ10=\"\",\"\",'請求書（請求者控）'!CJ10)","v":""},"支店"]
[]
[{"$nulls":4},"貸方組織名称",{"$nulls":29},"差引支払額",{"$nulls":32},{"$f":"IF('請求書（請求者控）'!BP12=\"\",\"\",'請求書（請求者控）'!BP12)","v":"当座"},{"$f":"IF('請求書（請求者控）'!BQ12=\"\",\"\",'請求書（請求者控）'!BQ12)","v":""},{"$f":"IF('請求書（請求者控）'!BR12=\"\",\"\",'請求書（請求者控）'!BR12)","v":""},{"$f":"IF('請求書（請求者控）'!BS12=\"\",\"\",'請求書（請求者控）'!BS12)","v":""},{"$f":"IF('請求書（請求者控）'!BT12=\"\",\"\",'請求書（請求者控）'!BT12)","v":""},{"$f":"IF('請求書（請求者控）'!BU12=\"\",\"\",'請求書（請求者控）'!BU12)","v":""},{"$f":"IF('請求書（請求者控）'!BV12=\"\",\"\",'請求書（請求者控）'!BV12)","v":""},{"$f":"IF('請求書（請求者控）'!BW12=\"\",\"\",'請求書（請求者控）'!BW12)","v":""},"№",null,null,{"$f":"IF('請求書（請求者控）'!CA12=\"\",\"\",'請求書（請求者控）'!CA12)","v":""},{"$f":"IF('請求書（請求者控）'!CB12=\"\",\"\",'請求書（請求者控）'!CB12)","v":""},{"$f":"IF('請求書（請求者控）'!CC12=\"\",\"\",'請求書（請求者控）'!CC12)","v":""},{"$f":"IF('請求書（請求者控）'!CD12=\"\",\"\",'請求書（請求者控）'!CD12)","v":""},{"$f":"IF('請求書（請求者控）'!CE12=\"\",\"\",'請求書（請求者控）'!CE12)","v":""},{"$f":"IF('請求書（請求者控）'!CF12=\"\",\"\",'請求書（請求者控）'!CF12)","v":""},{"$f":"IF('請求書（請求者控）'!CG12=\"\",\"\",'請求書（請求者控）'!CG12)","v":""},{"$f":"IF('請求書（請求者控）'!CH12=\"\",\"\",'請求書（請求者控）'!CH12)","v":""},{"$f":"IF('請求書（請求者控）'!CI12=\"\",\"\",'請求書（請求者控）'!CI12)","v":""},{"$f":"IF('請求書（請求者控）'!CJ12=\"\",\"\",'請求書（請求者控）'!CJ12)","v":""},{"$f":"IF('請求書（請求者控）'!CK12=\"\",\"\",'請求書（請求者控）'!CK12)","v":""},{"$f":"IF('請求書（請求者控）'!CL12=\"\",\"\",'請求書（請求者控）'!CL12)","v":""},{"$f":"IF('請求書（請求者控）'!CM12=\"\",\"\",'請求書（請求者控）'!CM12)","v":""},{"$f":"IF('請求書（請求者控）'!CN12=\"\",\"\",'請求書（請求者控）'!CN12)","v":""}]
[]
[{"$nulls":4},"工事コード",{"$nulls":8},{"$f":"IF('請求書（請求者控）'!N14=\"\",\"\",'請求書（請求者控）'!N14)","v":""},{"$f":"IF('請求書（請求者控）'!O14=\"\",\"\",'請求書（請求者控）'!O14)","v":""},{"$f":"IF('請求書（請求者控）'!P14=\"\",\"\",'請求書（請求者控）'!P14)","v":""},{"$f":"IF('請求書（請求者控）'!Q14=\"\",\"\",'請求書（請求者控）'!Q14)","v":""},{"$f":"IF('請求書（請求者控）'!R14=\"\",\"\",'請求書（請求者控）'!R14)","v":""},{"$f":"IF('請求書（請求者控）'!S14=\"\",\"\",'請求書（請求者控）'!S14)","v":""},{"$f":"IF('請求書（請求者控）'!T14=\"\",\"\",'請求書（請求者控）'!T14)","v":""},{"$f":"IF('請求書（請求者控）'!U14=\"\",\"\",'請求書（請求者控）'!U14)","v":""},{"$f":"IF('請求書（請求者控）'!V14=\"\",\"\",'請求書（請求者控）'!V14)","v":""},{"$f":"IF('請求書（請求者控）'!W14=\"\",\"\",'請求書（請求者控）'!W14)","v":""},{"$f":"IF('請求書（請求者控）'!X14=\"\",\"\",'請求書（請求者控）'!X14)","v":""},{"$nulls":37},"登録番号",{"$nulls":4},{"$f":"IF('請求書（請求者控）'!BO14=\"\",\"\",'請求書（請求者控）'!BO14)","v":""},{"$f":"IF('請求書（請求者控）'!BP14=\"\",\"\",'請求書（請求者控）'!BP14)","v":""},{"$f":"IF('請求書（請求者控）'!BQ14=\"\",\"\",'請求書（請求者控）'!BQ14)","v":""},{"$f":"IF('請求書（請求者控）'!BR14=\"\",\"\",'請求書（請求者控）'!BR14)","v":""},{"$f":"IF('請求書（請求者控）'!BS14=\"\",\"\",'請求書（請求者控）'!BS14)","v":""},{"$f":"IF('請求書（請求者控）'!BT14=\"\",\"\",'請求書（請求者控）'!BT14)","v":""},{"$f":"IF('請求書（請求者控）'!BU14=\"\",\"\",'請求書（請求者控）'!BU14)","v":""},{"$f":"IF('請求書（請求者控）'!BV14=\"\",\"\",'請求書（請求者控）'!BV14)","v":""},{"$f":"IF('請求書（請求者控）'!BW14=\"\",\"\",'請求書（請求者控）'!BW14)","v":""},{"$f":"IF('請求書（請求者控）'!BX14=\"\",\"\",'請求書（請求者控）'!BX14)","v":""},{"$f":"IF('請求書（請求者控）'!BY14=\"\",\"\",'請求書（請求者控）'!BY14)","v":""},{"$f":"IF('請求書（請求者控）'!BZ14=\"\",\"\",'請求書（請求者控）'!BZ14)","v":""},{"$f":"IF('請求書（請求者控）'!CA14=\"\",\"\",'請求書（請求者控）'!CA14)","v":""},{"$f":"IF('請求書（請求者控）'!CB14=\"\",\"\",'請求書（請求者控）'!CB14)","v":""},{"$f":"IF('請求書（請求者控）'!CC14=\"\",\"\",'請求書（請求者控）'!CC14)","v":""},{"$f":"IF('請求書（請求者控）'!CD14=\"\",\"\",'請求書（請求者控）'!CD14)","v":""},{"$f":"IF('請求書（請求者控）'!CE14=\"\",\"\",'請求書（請求者控）'!CE14)","v":""},{"$f":"IF('請求書（請求者控）'!CF14=\"\",\"\",'請求書（請求者控）'!CF14)","v":""},{"$f":"IF('請求書（請求者控）'!CG14=\"\",\"\",'請求書（請求者控）'!CG14)","v":""},{"$f":"IF('請求書（請求者控）'!CH14=\"\",\"\",'請求書（請求者控）'!CH14)","v":""},{"$f":"IF('請求書（請求者控）'!CI14=\"\",\"\",'請求書（請求者控）'!CI14)","v":""},{"$f":"IF('請求書（請求者控）'!CJ14=\"\",\"\",'請求書（請求者控）'!CJ14)","v":""}]
[]
[{"$nulls":4},"組織コード",{"$nulls":11},"科目コード",{"$nulls":17},"消費税区分",{"$nulls":8},"数 量",{"$nulls":5},"少数",{"$nulls":3},"単 価",{"$nulls":9},"金額（税抜）",{"$nulls":10},"消費税額",{"$nulls":9},"工場区分"]
[]
[{"$nulls":4},"組織名称",{"$nulls":11},"科目名称",{"$nulls":17},"摘要コード",{"$nulls":8},"摘　　　　　　　　　要"]
[]
[null,1,{"$nulls":32},{"$f":"IF('請求書（請求者控）'!AI20=\"\",\"\",'請求書（請求者控）'!AI20)","v":""},{"$f":"IF('請求書（請求者控）'!AJ20=\"\",\"\",'請求書（請求者控）'!AJ20)","v":""},{"$f":"IF('請求書（請求者控）'!AK20=\"\",\"\",'請求書（請求者控）'!AK20)","v":""},{"$f":"IF('請求書（請求者控）'!AL20=\"\",\"\",'請求書（請求者控）'!AL20)","v":""},{"$f":"IF('請求書（請求者控）'!AM20=\"\",\"\",'請求書（請求者控）'!AM20)","v":""},{"$f":"IF('請求書（請求者控）'!AN20=\"\",\"\",'請求書（請求者控）'!AN20)","v":""},{"$f":"IF('請求書（請求者控）'!AO20=\"\",\"\",'請求書（請求者控）'!AO20)","v":""},{"$f":"IF('請求書（請求者控）'!AP20=\"\",\"\",'請求書（請求者控）'!AP20)","v":""},null,{"$f":"IF('請求書（請求者控）'!AR20=\"\",\"\",'請求書（請求者控）'!AR20)","v":""},{"$f":"IF('請求書（請求者控）'!AS20=\"\",\"\",'請求書（請求者控）'!AS20)","v":""},{"$f":"IF('請求書（請求者控）'!AT20=\"\",\"\",'請求書（請求者控）'!AT20)","v":""},{"$f":"IF('請求書（請求者控）'!AU20=\"\",\"\",'請求書（請求者控）'!AU20)","v":""},{"$f":"IF('請求書（請求者控）'!AV20=\"\",\"\",'請求書（請求者控）'!AV20)","v":""},{"$f":"IF('請求書（請求者控）'!AW20=\"\",\"\",'請求書（請求者控）'!AW20)","v":""},{"$f":"IF('請求書（請求者控）'!AX20=\"\",\"\",'請求書（請求者控）'!AX20)","v":""},{"$f":"IF('請求書（請求者控）'!AY20=\"\",\"\",'請求書（請求者控）'!AY20)","v":""},{"$f":"IF('請求書（請求者控）'!AZ20=\"\",\"\",'請求書（請求者控）'!AZ20)","v":""},null,{"$f":"IF('請求書（請求者控）'!BB20=\"\",\"\",'請求書（請求者控）'!BB20)","v":""},{"$f":"IF('請求書（請求者控）'!BC20=\"\",\"\",'請求書（請求者控）'!BC20)","v":""},{"$f":"IF('請求書（請求者控）'!BD20=\"\",\"\",'請求書（請求者控）'!BD20)","v":""},{"$f":"IF('請求書（請求者控）'!BE20=\"\",\"\",'請求書（請求者控）'!BE20)","v":""},{"$f":"IF('請求書（請求者控）'!BF20=\"\",\"\",'請求書（請求者控）'!BF20)","v":""},{"$f":"IF('請求書（請求者控）'!BG20=\"\",\"\",'請求書（請求者控）'!BG20)","v":""},{"$f":"IF('請求書（請求者控）'!BH20=\"\",\"\",'請求書（請求者控）'!BH20)","v":""},{"$f":"IF('請求書（請求者控）'!BI20=\"\",\"\",'請求書（請求者控）'!BI20)","v":""},{"$f":"IF('請求書（請求者控）'!BJ20=\"\",\"\",'請求書（請求者控）'!BJ20)","v":""},null,{"$f":"IF('請求書（請求者控）'!BL20=\"\",\"\",'請求書（請求者控）'!BL20)","v":""},{"$f":"IF('請求書（請求者控）'!BM20=\"\",\"\",'請求書（請求者控）'!BM20)","v":""},{"$f":"IF('請求書（請求者控）'!BN20=\"\",\"\",'請求書（請求者控）'!BN20)","v":""},{"$f":"IF('請求書（請求者控）'!BO20=\"\",\"\",'請求書（請求者控）'!BO20)","v":""},{"$f":"IF('請求書（請求者控）'!BP20=\"\",\"\",'請求書（請求者控）'!BP20)","v":""},{"$f":"IF('請求書（請求者控）'!BQ20=\"\",\"\",'請求書（請求者控）'!BQ20)","v":""},{"$f":"IF('請求書（請求者控）'!BR20=\"\",\"\",'請求書（請求者控）'!BR20)","v":""},{"$f":"IF('請求書（請求者控）'!BS20=\"\",\"\",'請求書（請求者控）'!BS20)","v":""},{"$f":"IF('請求書（請求者控）'!BT20=\"\",\"\",'請求書（請求者控）'!BT20)","v":""},{"$f":"IF('請求書（請求者控）'!BU20=\"\",\"\",'請求書（請求者控）'!BU20)","v":""},null,{"$f":"IF('請求書（請求者控）'!BW20=\"\",\"\",'請求書（請求者控）'!BW20)","v":""},{"$f":"IF('請求書（請求者控）'!BX20=\"\",\"\",'請求書（請求者控）'!BX20)","v":""},{"$f":"IF('請求書（請求者控）'!BY20=\"\",\"\",'請求書（請求者控）'!BY20)","v":""},{"$f":"IF('請求書（請求者控）'!BZ20=\"\",\"\",'請求書（請求者控）'!BZ20)","v":""},{"$f":"IF('請求書（請求者控）'!CA20=\"\",\"\",'請求書（請求者控）'!CA20)","v":""},{"$f":"IF('請求書（請求者控）'!CB20=\"\",\"\",'請求書（請求者控）'!CB20)","v":""},{"$f":"IF('請求書（請求者控）'!CC20=\"\",\"\",'請求書（請求者控）'!CC20)","v":""},{"$f":"IF('請求書（請求者控）'!CD20=\"\",\"\",'請求書（請求者控）'!CD20)","v":""},{"$f":"IF('請求書（請求者控）'!CE20=\"\",\"\",'請求書（請求者控）'!CE20)","v":""}]
[{"$nulls":74},{"$f":"IF('請求書（請求者控）'!BW21=\"\",\"\",'請求書（請求者控）'!BW21)","v":""}]
[{"$nulls":43},{"$f":"IF('請求書（請求者控）'!AR22=\"\",\"\",'請求書（請求者控）'!AR22)","v":""},{"$f":"IF('請求書（請求者控）'!AS22=\"\",\"\",'請求書（請求者控）'!AS22)","v":""},{"$f":"IF('請求書（請求者控）'!AT22=\"\",\"\",'請求書（請求者控）'!AT22)","v":""},{"$f":"IF('請求書（請求者控）'!AU22=\"\",\"\",'請求書（請求者控）'!AU22)","v":""},{"$f":"IF('請求書（請求者控）'!AV22=\"\",\"\",'請求書（請求者控）'!AV22)","v":""},{"$f":"IF('請求書（請求者控）'!AW22=\"\",\"\",'請求書（請求者控）'!AW22)","v":""},{"$f":"IF('請求書（請求者控）'!AX22=\"\",\"\",'請求書（請求者控）'!AX22)","v":""},{"$f":"IF('請求書（請求者控）'!AY22=\"\",\"\",'請求書（請求者控）'!AY22)","v":""},{"$f":"IF('請求書（請求者控）'!AZ22=\"\",\"\",'請求書（請求者控）'!AZ22)","v":""},{"$f":"IF('請求書（請求者控）'!BA22=\"\",\"\",'請求書（請求者控）'!BA22)","v":""},{"$f":"IF('請求書（請求者控）'!BB22=\"\",\"\",'請求書（請求者控）'!BB22)","v":""},{"$f":"IF('請求書（請求者控）'!BC22=\"\",\"\",'請求書（請求者控）'!BC22)","v":""},{"$f":"IF('請求書（請求者控）'!BD22=\"\",\"\",'請求書（請求者控）'!BD22)","v":""},{"$f":"IF('請求書（請求者控）'!BE22=\"\",\"\",'請求書（請求者控）'!BE22)","v":""},{"$f":"IF('請求書（請求者控）'!BF22=\"\",\"\",'請求書（請求者控）'!BF22)","v":""},{"$f":"IF('請求書（請求者控）'!BG22=\"\",\"\",'請求書（請求者控）'!BG22)","v":""},{"$f":"IF('請求書（請求者控）'!BH22=\"\",\"\",'請求書（請求者控）'!BH22)","v":""},{"$f":"IF('請求書（請求者控）'!BI22=\"\",\"\",'請求書（請求者控）'!BI22)","v":""},{"$f":"IF('請求書（請求者控）'!BJ22=\"\",\"\",'請求書（請求者控）'!BJ22)","v":""},{"$f":"IF('請求書（請求者控）'!BK22=\"\",\"\",'請求書（請求者控）'!BK22)","v":""},{"$f":"IF('請求書（請求者控）'!BL22=\"\",\"\",'請求書（請求者控）'!BL22)","v":""},{"$f":"IF('請求書（請求者控）'!BM22=\"\",\"\",'請求書（請求者控）'!BM22)","v":""},{"$f":"IF('請求書（請求者控）'!BN22=\"\",\"\",'請求書（請求者控）'!BN22)","v":""},{"$f":"IF('請求書（請求者控）'!BO22=\"\",\"\",'請求書（請求者控）'!BO22)","v":""},{"$f":"IF('請求書（請求者控）'!BP22=\"\",\"\",'請求書（請求者控）'!BP22)","v":""},{"$f":"IF('請求書（請求者控）'!BQ22=\"\",\"\",'請求書（請求者控）'!BQ22)","v":""},{"$f":"IF('請求書（請求者控）'!BR22=\"\",\"\",'請求書（請求者控）'!BR22)","v":""},{"$f":"IF('請求書（請求者控）'!BS22=\"\",\"\",'請求書（請求者控）'!BS22)","v":""},{"$f":"IF('請求書（請求者控）'!BT22=\"\",\"\",'請求書（請求者控）'!BT22)","v":""},{"$f":"IF('請求書（請求者控）'!BU22=\"\",\"\",'請求書（請求者控）'!BU22)","v":""},{"$f":"IF('請求書（請求者控）'!BV22=\"\",\"\",'請求書（請求者控）'!BV22)","v":""},{"$f":"IF('請求書（請求者控）'!BW22=\"\",\"\",'請求書（請求者控）'!BW22)","v":""},{"$f":"IF('請求書（請求者控）'!BX22=\"\",\"\",'請求書（請求者控）'!BX22)","v":""},{"$f":"IF('請求書（請求者控）'!BY22=\"\",\"\",'請求書（請求者控）'!BY22)","v":""},{"$f":"IF('請求書（請求者控）'!BZ22=\"\",\"\",'請求書（請求者控）'!BZ22)","v":""},{"$f":"IF('請求書（請求者控）'!CA22=\"\",\"\",'請求書（請求者控）'!CA22)","v":""},{"$f":"IF('請求書（請求者控）'!CB22=\"\",\"\",'請求書（請求者控）'!CB22)","v":""},{"$f":"IF('請求書（請求者控）'!CC22=\"\",\"\",'請求書（請求者控）'!CC22)","v":""},{"$f":"IF('請求書（請求者控）'!CD22=\"\",\"\",'請求書（請求者控）'!CD22)","v":""},{"$f":"IF('請求書（請求者控）'!CE22=\"\",\"\",'請求書（請求者控）'!CE22)","v":""},{"$f":"IF('請求書（請求者控）'!CF22=\"\",\"\",'請求書（請求者控）'!CF22)","v":""},{"$f":"IF('請求書（請求者控）'!CG22=\"\",\"\",'請求書（請求者控）'!CG22)","v":""},{"$f":"IF('請求書（請求者控）'!CH22=\"\",\"\",'請求書（請求者控）'!CH22)","v":""},{"$f":"IF('請求書（請求者控）'!CI22=\"\",\"\",'請求書（請求者控）'!CI22)","v":""},{"$f":"IF('請求書（請求者控）'!CJ22=\"\",\"\",'請求書（請求者控）'!CJ22)","v":""},{"$f":"IF('請求書（請求者控）'!CK22=\"\",\"\",'請求書（請求者控）'!CK22)","v":""},{"$f":"IF('請求書（請求者控）'!CL22=\"\",\"\",'請求書（請求者控）'!CL22)","v":""},{"$f":"IF('請求書（請求者控）'!CM22=\"\",\"\",'請求書（請求者控）'!CM22)","v":""}]
[]
[null,2,{"$nulls":32},{"$f":"IF('請求書（請求者控）'!AI24=\"\",\"\",'請求書（請求者控）'!AI24)","v":""},{"$f":"IF('請求書（請求者控）'!AJ24=\"\",\"\",'請求書（請求者控）'!AJ24)","v":""},{"$f":"IF('請求書（請求者控）'!AK24=\"\",\"\",'請求書（請求者控）'!AK24)","v":""},{"$f":"IF('請求書（請求者控）'!AL24=\"\",\"\",'請求書（請求者控）'!AL24)","v":""},{"$f":"IF('請求書（請求者控）'!AM24=\"\",\"\",'請求書（請求者控）'!AM24)","v":""},{"$f":"IF('請求書（請求者控）'!AN24=\"\",\"\",'請求書（請求者控）'!AN24)","v":""},{"$f":"IF('請求書（請求者控）'!AO24=\"\",\"\",'請求書（請求者控）'!AO24)","v":""},{"$f":"IF('請求書（請求者控）'!AP24=\"\",\"\",'請求書（請求者控）'!AP24)","v":""},null,{"$f":"IF('請求書（請求者控）'!AR24=\"\",\"\",'請求書（請求者控）'!AR24)","v":""},{"$f":"IF('請求書（請求者控）'!AS24=\"\",\"\",'請求書（請求者控）'!AS24)","v":""},{"$f":"IF('請求書（請求者控）'!AT24=\"\",\"\",'請求書（請求者控）'!AT24)","v":""},{"$f":"IF('請求書（請求者控）'!AU24=\"\",\"\",'請求書（請求者控）'!AU24)","v":""},{"$f":"IF('請求書（請求者控）'!AV24=\"\",\"\",'請求書（請求者控）'!AV24)","v":""},{"$f":"IF('請求書（請求者控）'!AW24=\"\",\"\",'請求書（請求者控）'!AW24)","v":""},{"$f":"IF('請求書（請求者控）'!AX24=\"\",\"\",'請求書（請求者控）'!AX24)","v":""},{"$f":"IF('請求書（請求者控）'!AY24=\"\",\"\",'請求書（請求者控）'!AY24)","v":""},{"$f":"IF('請求書（請求者控）'!AZ24=\"\",\"\",'請求書（請求者控）'!AZ24)","v":""},null,{"$f":"IF('請求書（請求者控）'!BB24=\"\",\"\",'請求書（請求者控）'!BB24)","v":""},{"$f":"IF('請求書（請求者控）'!BC24=\"\",\"\",'請求書（請求者控）'!BC24)","v":""},{"$f":"IF('請求書（請求者控）'!BD24=\"\",\"\",'請求書（請求者控）'!BD24)","v":""},{"$f":"IF('請求書（請求者控）'!BE24=\"\",\"\",'請求書（請求者控）'!BE24)","v":""},{"$f":"IF('請求書（請求者控）'!BF24=\"\",\"\",'請求書（請求者控）'!BF24)","v":""},{"$f":"IF('請求書（請求者控）'!BG24=\"\",\"\",'請求書（請求者控）'!BG24)","v":""},{"$f":"IF('請求書（請求者控）'!BH24=\"\",\"\",'請求書（請求者控）'!BH24)","v":""},{"$f":"IF('請求書（請求者控）'!BI24=\"\",\"\",'請求書（請求者控）'!BI24)","v":""},{"$f":"IF('請求書（請求者控）'!BJ24=\"\",\"\",'請求書（請求者控）'!BJ24)","v":""},null,{"$f":"IF('請求書（請求者控）'!BL24=\"\",\"\",'請求書（請求者控）'!BL24)","v":""},{"$f":"IF('請求書（請求者控）'!BM24=\"\",\"\",'請求書（請求者控）'!BM24)","v":""},{"$f":"IF('請求書（請求者控）'!BN24=\"\",\"\",'請求書（請求者控）'!BN24)","v":""},{"$f":"IF('請求書（請求者控）'!BO24=\"\",\"\",'請求書（請求者控）'!BO24)","v":""},{"$f":"IF('請求書（請求者控）'!BP24=\"\",\"\",'請求書（請求者控）'!BP24)","v":""},{"$f":"IF('請求書（請求者控）'!BQ24=\"\",\"\",'請求書（請求者控）'!BQ24)","v":""},{"$f":"IF('請求書（請求者控）'!BR24=\"\",\"\",'請求書（請求者控）'!BR24)","v":""},{"$f":"IF('請求書（請求者控）'!BS24=\"\",\"\",'請求書（請求者控）'!BS24)","v":""},{"$f":"IF('請求書（請求者控）'!BT24=\"\",\"\",'請求書（請求者控）'!BT24)","v":""},{"$f":"IF('請求書（請求者控）'!BU24=\"\",\"\",'請求書（請求者控）'!BU24)","v":""},null,{"$f":"IF('請求書（請求者控）'!BW24=\"\",\"\",'請求書（請求者控）'!BW24)","v":""},{"$f":"IF('請求書（請求者控）'!BX24=\"\",\"\",'請求書（請求者控）'!BX24)","v":""},{"$f":"IF('請求書（請求者控）'!BY24=\"\",\"\",'請求書（請求者控）'!BY24)","v":""},{"$f":"IF('請求書（請求者控）'!BZ24=\"\",\"\",'請求書（請求者控）'!BZ24)","v":""},{"$f":"IF('請求書（請求者控）'!CA24=\"\",\"\",'請求書（請求者控）'!CA24)","v":""},{"$f":"IF('請求書（請求者控）'!CB24=\"\",\"\",'請求書（請求者控）'!CB24)","v":""},{"$f":"IF('請求書（請求者控）'!CC24=\"\",\"\",'請求書（請求者控）'!CC24)","v":""},{"$f":"IF('請求書（請求者控）'!CD24=\"\",\"\",'請求書（請求者控）'!CD24)","v":""},{"$f":"IF('請求書（請求者控）'!CE24=\"\",\"\",'請求書（請求者控）'!CE24)","v":""}]
[]
[{"$nulls":43},{"$f":"IF('請求書（請求者控）'!AR26=\"\",\"\",'請求書（請求者控）'!AR26)","v":""},{"$f":"IF('請求書（請求者控）'!AS26=\"\",\"\",'請求書（請求者控）'!AS26)","v":""},{"$f":"IF('請求書（請求者控）'!AT26=\"\",\"\",'請求書（請求者控）'!AT26)","v":""},{"$f":"IF('請求書（請求者控）'!AU26=\"\",\"\",'請求書（請求者控）'!AU26)","v":""},{"$f":"IF('請求書（請求者控）'!AV26=\"\",\"\",'請求書（請求者控）'!AV26)","v":""},{"$f":"IF('請求書（請求者控）'!AW26=\"\",\"\",'請求書（請求者控）'!AW26)","v":""},{"$f":"IF('請求書（請求者控）'!AX26=\"\",\"\",'請求書（請求者控）'!AX26)","v":""},{"$f":"IF('請求書（請求者控）'!AY26=\"\",\"\",'請求書（請求者控）'!AY26)","v":""},{"$f":"IF('請求書（請求者控）'!AZ26=\"\",\"\",'請求書（請求者控）'!AZ26)","v":""},{"$f":"IF('請求書（請求者控）'!BA26=\"\",\"\",'請求書（請求者控）'!BA26)","v":""},{"$f":"IF('請求書（請求者控）'!BB26=\"\",\"\",'請求書（請求者控）'!BB26)","v":""},{"$f":"IF('請求書（請求者控）'!BC26=\"\",\"\",'請求書（請求者控）'!BC26)","v":""},{"$f":"IF('請求書（請求者控）'!BD26=\"\",\"\",'請求書（請求者控）'!BD26)","v":""},{"$f":"IF('請求書（請求者控）'!BE26=\"\",\"\",'請求書（請求者控）'!BE26)","v":""},{"$f":"IF('請求書（請求者控）'!BF26=\"\",\"\",'請求書（請求者控）'!BF26)","v":""},{"$f":"IF('請求書（請求者控）'!BG26=\"\",\"\",'請求書（請求者控）'!BG26)","v":""},{"$f":"IF('請求書（請求者控）'!BH26=\"\",\"\",'請求書（請求者控）'!BH26)","v":""},{"$f":"IF('請求書（請求者控）'!BI26=\"\",\"\",'請求書（請求者控）'!BI26)","v":""},{"$f":"IF('請求書（請求者控）'!BJ26=\"\",\"\",'請求書（請求者控）'!BJ26)","v":""},{"$f":"IF('請求書（請求者控）'!BK26=\"\",\"\",'請求書（請求者控）'!BK26)","v":""},{"$f":"IF('請求書（請求者控）'!BL26=\"\",\"\",'請求書（請求者控）'!BL26)","v":""},{"$f":"IF('請求書（請求者控）'!BM26=\"\",\"\",'請求書（請求者控）'!BM26)","v":""},{"$f":"IF('請求書（請求者控）'!BN26=\"\",\"\",'請求書（請求者控）'!BN26)","v":""},{"$f":"IF('請求書（請求者控）'!BO26=\"\",\"\",'請求書（請求者控）'!BO26)","v":""},{"$f":"IF('請求書（請求者控）'!BP26=\"\",\"\",'請求書（請求者控）'!BP26)","v":""},{"$f":"IF('請求書（請求者控）'!BQ26=\"\",\"\",'請求書（請求者控）'!BQ26)","v":""},{"$f":"IF('請求書（請求者控）'!BR26=\"\",\"\",'請求書（請求者控）'!BR26)","v":""},{"$f":"IF('請求書（請求者控）'!BS26=\"\",\"\",'請求書（請求者控）'!BS26)","v":""},{"$f":"IF('請求書（請求者控）'!BT26=\"\",\"\",'請求書（請求者控）'!BT26)","v":""},{"$f":"IF('請求書（請求者控）'!BU26=\"\",\"\",'請求書（請求者控）'!BU26)","v":""},{"$f":"IF('請求書（請求者控）'!BV26=\"\",\"\",'請求書（請求者控）'!BV26)","v":""},{"$f":"IF('請求書（請求者控）'!BW26=\"\",\"\",'請求書（請求者控）'!BW26)","v":""},{"$f":"IF('請求書（請求者控）'!BX26=\"\",\"\",'請求書（請求者控）'!BX26)","v":""},{"$f":"IF('請求書（請求者控）'!BY26=\"\",\"\",'請求書（請求者控）'!BY26)","v":""},{"$f":"IF('請求書（請求者控）'!BZ26=\"\",\"\",'請求書（請求者控）'!BZ26)","v":""},{"$f":"IF('請求書（請求者控）'!CA26=\"\",\"\",'請求書（請求者控）'!CA26)","v":""},{"$f":"IF('請求書（請求者控）'!CB26=\"\",\"\",'請求書（請求者控）'!CB26)","v":""},{"$f":"IF('請求書（請求者控）'!CC26=\"\",\"\",'請求書（請求者控）'!CC26)","v":""},{"$f":"IF('請求書（請求者控）'!CD26=\"\",\"\",'請求書（請求者控）'!CD26)","v":""},{"$f":"IF('請求書（請求者控）'!CE26=\"\",\"\",'請求書（請求者控）'!CE26)","v":""},{"$f":"IF('請求書（請求者控）'!CF26=\"\",\"\",'請求書（請求者控）'!CF26)","v":""},{"$f":"IF('請求書（請求者控）'!CG26=\"\",\"\",'請求書（請求者控）'!CG26)","v":""},{"$f":"IF('請求書（請求者控）'!CH26=\"\",\"\",'請求書（請求者控）'!CH26)","v":""},{"$f":"IF('請求書（請求者控）'!CI26=\"\",\"\",'請求書（請求者控）'!CI26)","v":""},{"$f":"IF('請求書（請求者控）'!CJ26=\"\",\"\",'請求書（請求者控）'!CJ26)","v":""},{"$f":"IF('請求書（請求者控）'!CK26=\"\",\"\",'請求書（請求者控）'!CK26)","v":""},{"$f":"IF('請求書（請求者控）'!CL26=\"\",\"\",'請求書（請求者控）'!CL26)","v":""},{"$f":"IF('請求書（請求者控）'!CM26=\"\",\"\",'請求書（請求者控）'!CM26)","v":""}]
[]
[null,3,{"$nulls":32},{"$f":"IF('請求書（請求者控）'!AI28=\"\",\"\",'請求書（請求者控）'!AI28)","v":""},{"$f":"IF('請求書（請求者控）'!AJ28=\"\",\"\",'請求書（請求者控）'!AJ28)","v":""},{"$f":"IF('請求書（請求者控）'!AK28=\"\",\"\",'請求書（請求者控）'!AK28)","v":""},{"$f":"IF('請求書（請求者控）'!AL28=\"\",\"\",'請求書（請求者控）'!AL28)","v":""},{"$f":"IF('請求書（請求者控）'!AM28=\"\",\"\",'請求書（請求者控）'!AM28)","v":""},{"$f":"IF('請求書（請求者控）'!AN28=\"\",\"\",'請求書（請求者控）'!AN28)","v":""},{"$f":"IF('請求書（請求者控）'!AO28=\"\",\"\",'請求書（請求者控）'!AO28)","v":""},{"$f":"IF('請求書（請求者控）'!AP28=\"\",\"\",'請求書（請求者控）'!AP28)","v":""},null,{"$f":"IF('請求書（請求者控）'!AR28=\"\",\"\",'請求書（請求者控）'!AR28)","v":""},{"$f":"IF('請求書（請求者控）'!AS28=\"\",\"\",'請求書（請求者控）'!AS28)","v":""},{"$f":"IF('請求書（請求者控）'!AT28=\"\",\"\",'請求書（請求者控）'!AT28)","v":""},{"$f":"IF('請求書（請求者控）'!AU28=\"\",\"\",'請求書（請求者控）'!AU28)","v":""},{"$f":"IF('請求書（請求者控）'!AV28=\"\",\"\",'請求書（請求者控）'!AV28)","v":""},{"$f":"IF('請求書（請求者控）'!AW28=\"\",\"\",'請求書（請求者控）'!AW28)","v":""},{"$f":"IF('請求書（請求者控）'!AX28=\"\",\"\",'請求書（請求者控）'!AX28)","v":""},{"$f":"IF('請求書（請求者控）'!AY28=\"\",\"\",'請求書（請求者控）'!AY28)","v":""},{"$f":"IF('請求書（請求者控）'!AZ28=\"\",\"\",'請求書（請求者控）'!AZ28)","v":""},null,{"$f":"IF('請求書（請求者控）'!BB28=\"\",\"\",'請求書（請求者控）'!BB28)","v":""},{"$f":"IF('請求書（請求者控）'!BC28=\"\",\"\",'請求書（請求者控）'!BC28)","v":""},{"$f":"IF('請求書（請求者控）'!BD28=\"\",\"\",'請求書（請求者控）'!BD28)","v":""},{"$f":"IF('請求書（請求者控）'!BE28=\"\",\"\",'請求書（請求者控）'!BE28)","v":""},{"$f":"IF('請求書（請求者控）'!BF28=\"\",\"\",'請求書（請求者控）'!BF28)","v":""},{"$f":"IF('請求書（請求者控）'!BG28=\"\",\"\",'請求書（請求者控）'!BG28)","v":""},{"$f":"IF('請求書（請求者控）'!BH28=\"\",\"\",'請求書（請求者控）'!BH28)","v":""},{"$f":"IF('請求書（請求者控）'!BI28=\"\",\"\",'請求書（請求者控）'!BI28)","v":""},{"$f":"IF('請求書（請求者控）'!BJ28=\"\",\"\",'請求書（請求者控）'!BJ28)","v":""},null,{"$f":"IF('請求書（請求者控）'!BL28=\"\",\"\",'請求書（請求者控）'!BL28)","v":""},{"$f":"IF('請求書（請求者控）'!BM28=\"\",\"\",'請求書（請求者控）'!BM28)","v":""},{"$f":"IF('請求書（請求者控）'!BN28=\"\",\"\",'請求書（請求者控）'!BN28)","v":""},{"$f":"IF('請求書（請求者控）'!BO28=\"\",\"\",'請求書（請求者控）'!BO28)","v":""},{"$f":"IF('請求書（請求者控）'!BP28=\"\",\"\",'請求書（請求者控）'!BP28)","v":""},{"$f":"IF('請求書（請求者控）'!BQ28=\"\",\"\",'請求書（請求者控）'!BQ28)","v":""},{"$f":"IF('請求書（請求者控）'!BR28=\"\",\"\",'請求書（請求者控）'!BR28)","v":""},{"$f":"IF('請求書（請求者控）'!BS28=\"\",\"\",'請求書（請求者控）'!BS28)","v":""},{"$f":"IF('請求書（請求者控）'!BT28=\"\",\"\",'請求書（請求者控）'!BT28)","v":""},{"$f":"IF('請求書（請求者控）'!BU28=\"\",\"\",'請求書（請求者控）'!BU28)","v":""},null,{"$f":"IF('請求書（請求者控）'!BW28=\"\",\"\",'請求書（請求者控）'!BW28)","v":""},{"$f":"IF('請求書（請求者控）'!BX28=\"\",\"\",'請求書（請求者控）'!BX28)","v":""},{"$f":"IF('請求書（請求者控）'!BY28=\"\",\"\",'請求書（請求者控）'!BY28)","v":""},{"$f":"IF('請求書（請求者控）'!BZ28=\"\",\"\",'請求書（請求者控）'!BZ28)","v":""},{"$f":"IF('請求書（請求者控）'!CA28=\"\",\"\",'請求書（請求者控）'!CA28)","v":""},{"$f":"IF('請求書（請求者控）'!CB28=\"\",\"\",'請求書（請求者控）'!CB28)","v":""},{"$f":"IF('請求書（請求者控）'!CC28=\"\",\"\",'請求書（請求者控）'!CC28)","v":""},{"$f":"IF('請求書（請求者控）'!CD28=\"\",\"\",'請求書（請求者控）'!CD28)","v":""},{"$f":"IF('請求書（請求者控）'!CE28=\"\",\"\",'請求書（請求者控）'!CE28)","v":""}]
[]
[{"$nulls":43},{"$f":"IF('請求書（請求者控）'!AR30=\"\",\"\",'請求書（請求者控）'!AR30)","v":""},{"$f":"IF('請求書（請求者控）'!AS30=\"\",\"\",'請求書（請求者控）'!AS30)","v":""},{"$f":"IF('請求書（請求者控）'!AT30=\"\",\"\",'請求書（請求者控）'!AT30)","v":""},{"$f":"IF('請求書（請求者控）'!AU30=\"\",\"\",'請求書（請求者控）'!AU30)","v":""},{"$f":"IF('請求書（請求者控）'!AV30=\"\",\"\",'請求書（請求者控）'!AV30)","v":""},{"$f":"IF('請求書（請求者控）'!AW30=\"\",\"\",'請求書（請求者控）'!AW30)","v":""},{"$f":"IF('請求書（請求者控）'!AX30=\"\",\"\",'請求書（請求者控）'!AX30)","v":""},{"$f":"IF('請求書（請求者控）'!AY30=\"\",\"\",'請求書（請求者控）'!AY30)","v":""},{"$f":"IF('請求書（請求者控）'!AZ30=\"\",\"\",'請求書（請求者控）'!AZ30)","v":""},{"$f":"IF('請求書（請求者控）'!BA30=\"\",\"\",'請求書（請求者控）'!BA30)","v":""},{"$f":"IF('請求書（請求者控）'!BB30=\"\",\"\",'請求書（請求者控）'!BB30)","v":""},{"$f":"IF('請求書（請求者控）'!BC30=\"\",\"\",'請求書（請求者控）'!BC30)","v":""},{"$f":"IF('請求書（請求者控）'!BD30=\"\",\"\",'請求書（請求者控）'!BD30)","v":""},{"$f":"IF('請求書（請求者控）'!BE30=\"\",\"\",'請求書（請求者控）'!BE30)","v":""},{"$f":"IF('請求書（請求者控）'!BF30=\"\",\"\",'請求書（請求者控）'!BF30)","v":""},{"$f":"IF('請求書（請求者控）'!BG30=\"\",\"\",'請求書（請求者控）'!BG30)","v":""},{"$f":"IF('請求書（請求者控）'!BH30=\"\",\"\",'請求書（請求者控）'!BH30)","v":""},{"$f":"IF('請求書（請求者控）'!BI30=\"\",\"\",'請求書（請求者控）'!BI30)","v":""},{"$f":"IF('請求書（請求者控）'!BJ30=\"\",\"\",'請求書（請求者控）'!BJ30)","v":""},{"$f":"IF('請求書（請求者控）'!BK30=\"\",\"\",'請求書（請求者控）'!BK30)","v":""},{"$f":"IF('請求書（請求者控）'!BL30=\"\",\"\",'請求書（請求者控）'!BL30)","v":""},{"$f":"IF('請求書（請求者控）'!BM30=\"\",\"\",'請求書（請求者控）'!BM30)","v":""},{"$f":"IF('請求書（請求者控）'!BN30=\"\",\"\",'請求書（請求者控）'!BN30)","v":""},{"$f":"IF('請求書（請求者控）'!BO30=\"\",\"\",'請求書（請求者控）'!BO30)","v":""},{"$f":"IF('請求書（請求者控）'!BP30=\"\",\"\",'請求書（請求者控）'!BP30)","v":""},{"$f":"IF('請求書（請求者控）'!BQ30=\"\",\"\",'請求書（請求者控）'!BQ30)","v":""},{"$f":"IF('請求書（請求者控）'!BR30=\"\",\"\",'請求書（請求者控）'!BR30)","v":""},{"$f":"IF('請求書（請求者控）'!BS30=\"\",\"\",'請求書（請求者控）'!BS30)","v":""},{"$f":"IF('請求書（請求者控）'!BT30=\"\",\"\",'請求書（請求者控）'!BT30)","v":""},{"$f":"IF('請求書（請求者控）'!BU30=\"\",\"\",'請求書（請求者控）'!BU30)","v":""},{"$f":"IF('請求書（請求者控）'!BV30=\"\",\"\",'請求書（請求者控）'!BV30)","v":""},{"$f":"IF('請求書（請求者控）'!BW30=\"\",\"\",'請求書（請求者控）'!BW30)","v":""},{"$f":"IF('請求書（請求者控）'!BX30=\"\",\"\",'請求書（請求者控）'!BX30)","v":""},{"$f":"IF('請求書（請求者控）'!BY30=\"\",\"\",'請求書（請求者控）'!BY30)","v":""},{"$f":"IF('請求書（請求者控）'!BZ30=\"\",\"\",'請求書（請求者控）'!BZ30)","v":""},{"$f":"IF('請求書（請求者控）'!CA30=\"\",\"\",'請求書（請求者控）'!CA30)","v":""},{"$f":"IF('請求書（請求者控）'!CB30=\"\",\"\",'請求書（請求者控）'!CB30)","v":""},{"$f":"IF('請求書（請求者控）'!CC30=\"\",\"\",'請求書（請求者控）'!CC30)","v":""},{"$f":"IF('請求書（請求者控）'!CD30=\"\",\"\",'請求書（請求者控）'!CD30)","v":""},{"$f":"IF('請求書（請求者控）'!CE30=\"\",\"\",'請求書（請求者控）'!CE30)","v":""},{"$f":"IF('請求書（請求者控）'!CF30=\"\",\"\",'請求書（請求者控）'!CF30)","v":""},{"$f":"IF('請求書（請求者控）'!CG30=\"\",\"\",'請求書（請求者控）'!CG30)","v":""},{"$f":"IF('請求書（請求者控）'!CH30=\"\",\"\",'請求書（請求者控）'!CH30)","v":""},{"$f":"IF('請求書（請求者控）'!CI30=\"\",\"\",'請求書（請求者控）'!CI30)","v":""},{"$f":"IF('請求書（請求者控）'!CJ30=\"\",\"\",'請求書（請求者控）'!CJ30)","v":""},{"$f":"IF('請求書（請求者控）'!CK30=\"\",\"\",'請求書（請求者控）'!CK30)","v":""},{"$f":"IF('請求書（請求者控）'!CL30=\"\",\"\",'請求書（請求者控）'!CL30)","v":""},{"$f":"IF('請求書（請求者控）'!CM30=\"\",\"\",'請求書（請求者控）'!CM30)","v":""}]
[]
[null,4,{"$nulls":32},{"$f":"IF('請求書（請求者控）'!AI32=\"\",\"\",'請求書（請求者控）'!AI32)","v":""},{"$f":"IF('請求書（請求者控）'!AJ32=\"\",\"\",'請求書（請求者控）'!AJ32)","v":""},{"$f":"IF('請求書（請求者控）'!AK32=\"\",\"\",'請求書（請求者控）'!AK32)","v":""},{"$f":"IF('請求書（請求者控）'!AL32=\"\",\"\",'請求書（請求者控）'!AL32)","v":""},{"$f":"IF('請求書（請求者控）'!AM32=\"\",\"\",'請求書（請求者控）'!AM32)","v":""},{"$f":"IF('請求書（請求者控）'!AN32=\"\",\"\",'請求書（請求者控）'!AN32)","v":""},{"$f":"IF('請求書（請求者控）'!AO32=\"\",\"\",'請求書（請求者控）'!AO32)","v":""},{"$f":"IF('請求書（請求者控）'!AP32=\"\",\"\",'請求書（請求者控）'!AP32)","v":""},null,{"$f":"IF('請求書（請求者控）'!AR32=\"\",\"\",'請求書（請求者控）'!AR32)","v":""},{"$f":"IF('請求書（請求者控）'!AS32=\"\",\"\",'請求書（請求者控）'!AS32)","v":""},{"$f":"IF('請求書（請求者控）'!AT32=\"\",\"\",'請求書（請求者控）'!AT32)","v":""},{"$f":"IF('請求書（請求者控）'!AU32=\"\",\"\",'請求書（請求者控）'!AU32)","v":""},{"$f":"IF('請求書（請求者控）'!AV32=\"\",\"\",'請求書（請求者控）'!AV32)","v":""},{"$f":"IF('請求書（請求者控）'!AW32=\"\",\"\",'請求書（請求者控）'!AW32)","v":""},{"$f":"IF('請求書（請求者控）'!AX32=\"\",\"\",'請求書（請求者控）'!AX32)","v":""},{"$f":"IF('請求書（請求者控）'!AY32=\"\",\"\",'請求書（請求者控）'!AY32)","v":""},{"$f":"IF('請求書（請求者控）'!AZ32=\"\",\"\",'請求書（請求者控）'!AZ32)","v":""},null,{"$f":"IF('請求書（請求者控）'!BB32=\"\",\"\",'請求書（請求者控）'!BB32)","v":""},{"$f":"IF('請求書（請求者控）'!BC32=\"\",\"\",'請求書（請求者控）'!BC32)","v":""},{"$f":"IF('請求書（請求者控）'!BD32=\"\",\"\",'請求書（請求者控）'!BD32)","v":""},{"$f":"IF('請求書（請求者控）'!BE32=\"\",\"\",'請求書（請求者控）'!BE32)","v":""},{"$f":"IF('請求書（請求者控）'!BF32=\"\",\"\",'請求書（請求者控）'!BF32)","v":""},{"$f":"IF('請求書（請求者控）'!BG32=\"\",\"\",'請求書（請求者控）'!BG32)","v":""},{"$f":"IF('請求書（請求者控）'!BH32=\"\",\"\",'請求書（請求者控）'!BH32)","v":""},{"$f":"IF('請求書（請求者控）'!BI32=\"\",\"\",'請求書（請求者控）'!BI32)","v":""},{"$f":"IF('請求書（請求者控）'!BJ32=\"\",\"\",'請求書（請求者控）'!BJ32)","v":""},null,{"$f":"IF('請求書（請求者控）'!BL32=\"\",\"\",'請求書（請求者控）'!BL32)","v":""},{"$f":"IF('請求書（請求者控）'!BM32=\"\",\"\",'請求書（請求者控）'!BM32)","v":""},{"$f":"IF('請求書（請求者控）'!BN32=\"\",\"\",'請求書（請求者控）'!BN32)","v":""},{"$f":"IF('請求書（請求者控）'!BO32=\"\",\"\",'請求書（請求者控）'!BO32)","v":""},{"$f":"IF('請求書（請求者控）'!BP32=\"\",\"\",'請求書（請求者控）'!BP32)","v":""},{"$f":"IF('請求書（請求者控）'!BQ32=\"\",\"\",'請求書（請求者控）'!BQ32)","v":""},{"$f":"IF('請求書（請求者控）'!BR32=\"\",\"\",'請求書（請求者控）'!BR32)","v":""},{"$f":"IF('請求書（請求者控）'!BS32=\"\",\"\",'請求書（請求者控）'!BS32)","v":""},{"$f":"IF('請求書（請求者控）'!BT32=\"\",\"\",'請求書（請求者控）'!BT32)","v":""},{"$f":"IF('請求書（請求者控）'!BU32=\"\",\"\",'請求書（請求者控）'!BU32)","v":""},null,{"$f":"IF('請求書（請求者控）'!BW32=\"\",\"\",'請求書（請求者控）'!BW32)","v":""},{"$f":"IF('請求書（請求者控）'!BX32=\"\",\"\",'請求書（請求者控）'!BX32)","v":""},{"$f":"IF('請求書（請求者控）'!BY32=\"\",\"\",'請求書（請求者控）'!BY32)","v":""},{"$f":"IF('請求書（請求者控）'!BZ32=\"\",\"\",'請求書（請求者控）'!BZ32)","v":""},{"$f":"IF('請求書（請求者控）'!CA32=\"\",\"\",'請求書（請求者控）'!CA32)","v":""},{"$f":"IF('請求書（請求者控）'!CB32=\"\",\"\",'請求書（請求者控）'!CB32)","v":""},{"$f":"IF('請求書（請求者控）'!CC32=\"\",\"\",'請求書（請求者控）'!CC32)","v":""},{"$f":"IF('請求書（請求者控）'!CD32=\"\",\"\",'請求書（請求者控）'!CD32)","v":""},{"$f":"IF('請求書（請求者控）'!CE32=\"\",\"\",'請求書（請求者控）'!CE32)","v":""}]
[]
[{"$nulls":43},{"$f":"IF('請求書（請求者控）'!AR34=\"\",\"\",'請求書（請求者控）'!AR34)","v":""},{"$f":"IF('請求書（請求者控）'!AS34=\"\",\"\",'請求書（請求者控）'!AS34)","v":""},{"$f":"IF('請求書（請求者控）'!AT34=\"\",\"\",'請求書（請求者控）'!AT34)","v":""},{"$f":"IF('請求書（請求者控）'!AU34=\"\",\"\",'請求書（請求者控）'!AU34)","v":""},{"$f":"IF('請求書（請求者控）'!AV34=\"\",\"\",'請求書（請求者控）'!AV34)","v":""},{"$f":"IF('請求書（請求者控）'!AW34=\"\",\"\",'請求書（請求者控）'!AW34)","v":""},{"$f":"IF('請求書（請求者控）'!AX34=\"\",\"\",'請求書（請求者控）'!AX34)","v":""},{"$f":"IF('請求書（請求者控）'!AY34=\"\",\"\",'請求書（請求者控）'!AY34)","v":""},{"$f":"IF('請求書（請求者控）'!AZ34=\"\",\"\",'請求書（請求者控）'!AZ34)","v":""},{"$f":"IF('請求書（請求者控）'!BA34=\"\",\"\",'請求書（請求者控）'!BA34)","v":""},{"$f":"IF('請求書（請求者控）'!BB34=\"\",\"\",'請求書（請求者控）'!BB34)","v":""},{"$f":"IF('請求書（請求者控）'!BC34=\"\",\"\",'請求書（請求者控）'!BC34)","v":""},{"$f":"IF('請求書（請求者控）'!BD34=\"\",\"\",'請求書（請求者控）'!BD34)","v":""},{"$f":"IF('請求書（請求者控）'!BE34=\"\",\"\",'請求書（請求者控）'!BE34)","v":""},{"$f":"IF('請求書（請求者控）'!BF34=\"\",\"\",'請求書（請求者控）'!BF34)","v":""},{"$f":"IF('請求書（請求者控）'!BG34=\"\",\"\",'請求書（請求者控）'!BG34)","v":""},{"$f":"IF('請求書（請求者控）'!BH34=\"\",\"\",'請求書（請求者控）'!BH34)","v":""},{"$f":"IF('請求書（請求者控）'!BI34=\"\",\"\",'請求書（請求者控）'!BI34)","v":""},{"$f":"IF('請求書（請求者控）'!BJ34=\"\",\"\",'請求書（請求者控）'!BJ34)","v":""},{"$f":"IF('請求書（請求者控）'!BK34=\"\",\"\",'請求書（請求者控）'!BK34)","v":""},{"$f":"IF('請求書（請求者控）'!BL34=\"\",\"\",'請求書（請求者控）'!BL34)","v":""},{"$f":"IF('請求書（請求者控）'!BM34=\"\",\"\",'請求書（請求者控）'!BM34)","v":""},{"$f":"IF('請求書（請求者控）'!BN34=\"\",\"\",'請求書（請求者控）'!BN34)","v":""},{"$f":"IF('請求書（請求者控）'!BO34=\"\",\"\",'請求書（請求者控）'!BO34)","v":""},{"$f":"IF('請求書（請求者控）'!BP34=\"\",\"\",'請求書（請求者控）'!BP34)","v":""},{"$f":"IF('請求書（請求者控）'!BQ34=\"\",\"\",'請求書（請求者控）'!BQ34)","v":""},{"$f":"IF('請求書（請求者控）'!BR34=\"\",\"\",'請求書（請求者控）'!BR34)","v":""},{"$f":"IF('請求書（請求者控）'!BS34=\"\",\"\",'請求書（請求者控）'!BS34)","v":""},{"$f":"IF('請求書（請求者控）'!BT34=\"\",\"\",'請求書（請求者控）'!BT34)","v":""},{"$f":"IF('請求書（請求者控）'!BU34=\"\",\"\",'請求書（請求者控）'!BU34)","v":""},{"$f":"IF('請求書（請求者控）'!BV34=\"\",\"\",'請求書（請求者控）'!BV34)","v":""},{"$f":"IF('請求書（請求者控）'!BW34=\"\",\"\",'請求書（請求者控）'!BW34)","v":""},{"$f":"IF('請求書（請求者控）'!BX34=\"\",\"\",'請求書（請求者控）'!BX34)","v":""},{"$f":"IF('請求書（請求者控）'!BY34=\"\",\"\",'請求書（請求者控）'!BY34)","v":""},{"$f":"IF('請求書（請求者控）'!BZ34=\"\",\"\",'請求書（請求者控）'!BZ34)","v":""},{"$f":"IF('請求書（請求者控）'!CA34=\"\",\"\",'請求書（請求者控）'!CA34)","v":""},{"$f":"IF('請求書（請求者控）'!CB34=\"\",\"\",'請求書（請求者控）'!CB34)","v":""},{"$f":"IF('請求書（請求者控）'!CC34=\"\",\"\",'請求書（請求者控）'!CC34)","v":""},{"$f":"IF('請求書（請求者控）'!CD34=\"\",\"\",'請求書（請求者控）'!CD34)","v":""},{"$f":"IF('請求書（請求者控）'!CE34=\"\",\"\",'請求書（請求者控）'!CE34)","v":""},{"$f":"IF('請求書（請求者控）'!CF34=\"\",\"\",'請求書（請求者控）'!CF34)","v":""},{"$f":"IF('請求書（請求者控）'!CG34=\"\",\"\",'請求書（請求者控）'!CG34)","v":""},{"$f":"IF('請求書（請求者控）'!CH34=\"\",\"\",'請求書（請求者控）'!CH34)","v":""},{"$f":"IF('請求書（請求者控）'!CI34=\"\",\"\",'請求書（請求者控）'!CI34)","v":""},{"$f":"IF('請求書（請求者控）'!CJ34=\"\",\"\",'請求書（請求者控）'!CJ34)","v":""},{"$f":"IF('請求書（請求者控）'!CK34=\"\",\"\",'請求書（請求者控）'!CK34)","v":""},{"$f":"IF('請求書（請求者控）'!CL34=\"\",\"\",'請求書（請求者控）'!CL34)","v":""},{"$f":"IF('請求書（請求者控）'!CM34=\"\",\"\",'請求書（請求者控）'!CM34)","v":""}]
[]
[null,5,{"$nulls":32},{"$f":"IF('請求書（請求者控）'!AI36=\"\",\"\",'請求書（請求者控）'!AI36)","v":""},{"$f":"IF('請求書（請求者控）'!AJ36=\"\",\"\",'請求書（請求者控）'!AJ36)","v":""},{"$f":"IF('請求書（請求者控）'!AK36=\"\",\"\",'請求書（請求者控）'!AK36)","v":""},{"$f":"IF('請求書（請求者控）'!AL36=\"\",\"\",'請求書（請求者控）'!AL36)","v":""},{"$f":"IF('請求書（請求者控）'!AM36=\"\",\"\",'請求書（請求者控）'!AM36)","v":""},{"$f":"IF('請求書（請求者控）'!AN36=\"\",\"\",'請求書（請求者控）'!AN36)","v":""},{"$f":"IF('請求書（請求者控）'!AO36=\"\",\"\",'請求書（請求者控）'!AO36)","v":""},{"$f":"IF('請求書（請求者控）'!AP36=\"\",\"\",'請求書（請求者控）'!AP36)","v":""},null,{"$f":"IF('請求書（請求者控）'!AR36=\"\",\"\",'請求書（請求者控）'!AR36)","v":""},{"$f":"IF('請求書（請求者控）'!AS36=\"\",\"\",'請求書（請求者控）'!AS36)","v":""},{"$f":"IF('請求書（請求者控）'!AT36=\"\",\"\",'請求書（請求者控）'!AT36)","v":""},{"$f":"IF('請求書（請求者控）'!AU36=\"\",\"\",'請求書（請求者控）'!AU36)","v":""},{"$f":"IF('請求書（請求者控）'!AV36=\"\",\"\",'請求書（請求者控）'!AV36)","v":""},{"$f":"IF('請求書（請求者控）'!AW36=\"\",\"\",'請求書（請求者控）'!AW36)","v":""},{"$f":"IF('請求書（請求者控）'!AX36=\"\",\"\",'請求書（請求者控）'!AX36)","v":""},{"$f":"IF('請求書（請求者控）'!AY36=\"\",\"\",'請求書（請求者控）'!AY36)","v":""},{"$f":"IF('請求書（請求者控）'!AZ36=\"\",\"\",'請求書（請求者控）'!AZ36)","v":""},null,{"$f":"IF('請求書（請求者控）'!BB36=\"\",\"\",'請求書（請求者控）'!BB36)","v":""},{"$f":"IF('請求書（請求者控）'!BC36=\"\",\"\",'請求書（請求者控）'!BC36)","v":""},{"$f":"IF('請求書（請求者控）'!BD36=\"\",\"\",'請求書（請求者控）'!BD36)","v":""},{"$f":"IF('請求書（請求者控）'!BE36=\"\",\"\",'請求書（請求者控）'!BE36)","v":""},{"$f":"IF('請求書（請求者控）'!BF36=\"\",\"\",'請求書（請求者控）'!BF36)","v":""},{"$f":"IF('請求書（請求者控）'!BG36=\"\",\"\",'請求書（請求者控）'!BG36)","v":""},{"$f":"IF('請求書（請求者控）'!BH36=\"\",\"\",'請求書（請求者控）'!BH36)","v":""},{"$f":"IF('請求書（請求者控）'!BI36=\"\",\"\",'請求書（請求者控）'!BI36)","v":""},{"$f":"IF('請求書（請求者控）'!BJ36=\"\",\"\",'請求書（請求者控）'!BJ36)","v":""},null,{"$f":"IF('請求書（請求者控）'!BL36=\"\",\"\",'請求書（請求者控）'!BL36)","v":""},{"$f":"IF('請求書（請求者控）'!BM36=\"\",\"\",'請求書（請求者控）'!BM36)","v":""},{"$f":"IF('請求書（請求者控）'!BN36=\"\",\"\",'請求書（請求者控）'!BN36)","v":""},{"$f":"IF('請求書（請求者控）'!BO36=\"\",\"\",'請求書（請求者控）'!BO36)","v":""},{"$f":"IF('請求書（請求者控）'!BP36=\"\",\"\",'請求書（請求者控）'!BP36)","v":""},{"$f":"IF('請求書（請求者控）'!BQ36=\"\",\"\",'請求書（請求者控）'!BQ36)","v":""},{"$f":"IF('請求書（請求者控）'!BR36=\"\",\"\",'請求書（請求者控）'!BR36)","v":""},{"$f":"IF('請求書（請求者控）'!BS36=\"\",\"\",'請求書（請求者控）'!BS36)","v":""},{"$f":"IF('請求書（請求者控）'!BT36=\"\",\"\",'請求書（請求者控）'!BT36)","v":""},{"$f":"IF('請求書（請求者控）'!BU36=\"\",\"\",'請求書（請求者控）'!BU36)","v":""},null,{"$f":"IF('請求書（請求者控）'!BW36=\"\",\"\",'請求書（請求者控）'!BW36)","v":""},{"$f":"IF('請求書（請求者控）'!BX36=\"\",\"\",'請求書（請求者控）'!BX36)","v":""},{"$f":"IF('請求書（請求者控）'!BY36=\"\",\"\",'請求書（請求者控）'!BY36)","v":""},{"$f":"IF('請求書（請求者控）'!BZ36=\"\",\"\",'請求書（請求者控）'!BZ36)","v":""},{"$f":"IF('請求書（請求者控）'!CA36=\"\",\"\",'請求書（請求者控）'!CA36)","v":""},{"$f":"IF('請求書（請求者控）'!CB36=\"\",\"\",'請求書（請求者控）'!CB36)","v":""},{"$f":"IF('請求書（請求者控）'!CC36=\"\",\"\",'請求書（請求者控）'!CC36)","v":""},{"$f":"IF('請求書（請求者控）'!CD36=\"\",\"\",'請求書（請求者控）'!CD36)","v":""},{"$f":"IF('請求書（請求者控）'!CE36=\"\",\"\",'請求書（請求者控）'!CE36)","v":""}]
[]
[{"$nulls":43},{"$f":"IF('請求書（請求者控）'!AR38=\"\",\"\",'請求書（請求者控）'!AR38)","v":""},{"$f":"IF('請求書（請求者控）'!AS38=\"\",\"\",'請求書（請求者控）'!AS38)","v":""},{"$f":"IF('請求書（請求者控）'!AT38=\"\",\"\",'請求書（請求者控）'!AT38)","v":""},{"$f":"IF('請求書（請求者控）'!AU38=\"\",\"\",'請求書（請求者控）'!AU38)","v":""},{"$f":"IF('請求書（請求者控）'!AV38=\"\",\"\",'請求書（請求者控）'!AV38)","v":""},{"$f":"IF('請求書（請求者控）'!AW38=\"\",\"\",'請求書（請求者控）'!AW38)","v":""},{"$f":"IF('請求書（請求者控）'!AX38=\"\",\"\",'請求書（請求者控）'!AX38)","v":""},{"$f":"IF('請求書（請求者控）'!AY38=\"\",\"\",'請求書（請求者控）'!AY38)","v":""},{"$f":"IF('請求書（請求者控）'!AZ38=\"\",\"\",'請求書（請求者控）'!AZ38)","v":""},{"$f":"IF('請求書（請求者控）'!BA38=\"\",\"\",'請求書（請求者控）'!BA38)","v":""},{"$f":"IF('請求書（請求者控）'!BB38=\"\",\"\",'請求書（請求者控）'!BB38)","v":""},{"$f":"IF('請求書（請求者控）'!BC38=\"\",\"\",'請求書（請求者控）'!BC38)","v":""},{"$f":"IF('請求書（請求者控）'!BD38=\"\",\"\",'請求書（請求者控）'!BD38)","v":""},{"$f":"IF('請求書（請求者控）'!BE38=\"\",\"\",'請求書（請求者控）'!BE38)","v":""},{"$f":"IF('請求書（請求者控）'!BF38=\"\",\"\",'請求書（請求者控）'!BF38)","v":""},{"$f":"IF('請求書（請求者控）'!BG38=\"\",\"\",'請求書（請求者控）'!BG38)","v":""},{"$f":"IF('請求書（請求者控）'!BH38=\"\",\"\",'請求書（請求者控）'!BH38)","v":""},{"$f":"IF('請求書（請求者控）'!BI38=\"\",\"\",'請求書（請求者控）'!BI38)","v":""},{"$f":"IF('請求書（請求者控）'!BJ38=\"\",\"\",'請求書（請求者控）'!BJ38)","v":""},{"$f":"IF('請求書（請求者控）'!BK38=\"\",\"\",'請求書（請求者控）'!BK38)","v":""},{"$f":"IF('請求書（請求者控）'!BL38=\"\",\"\",'請求書（請求者控）'!BL38)","v":""},{"$f":"IF('請求書（請求者控）'!BM38=\"\",\"\",'請求書（請求者控）'!BM38)","v":""},{"$f":"IF('請求書（請求者控）'!BN38=\"\",\"\",'請求書（請求者控）'!BN38)","v":""},{"$f":"IF('請求書（請求者控）'!BO38=\"\",\"\",'請求書（請求者控）'!BO38)","v":""},{"$f":"IF('請求書（請求者控）'!BP38=\"\",\"\",'請求書（請求者控）'!BP38)","v":""},{"$f":"IF('請求書（請求者控）'!BQ38=\"\",\"\",'請求書（請求者控）'!BQ38)","v":""},{"$f":"IF('請求書（請求者控）'!BR38=\"\",\"\",'請求書（請求者控）'!BR38)","v":""},{"$f":"IF('請求書（請求者控）'!BS38=\"\",\"\",'請求書（請求者控）'!BS38)","v":""},{"$f":"IF('請求書（請求者控）'!BT38=\"\",\"\",'請求書（請求者控）'!BT38)","v":""},{"$f":"IF('請求書（請求者控）'!BU38=\"\",\"\",'請求書（請求者控）'!BU38)","v":""},{"$f":"IF('請求書（請求者控）'!BV38=\"\",\"\",'請求書（請求者控）'!BV38)","v":""},{"$f":"IF('請求書（請求者控）'!BW38=\"\",\"\",'請求書（請求者控）'!BW38)","v":""},{"$f":"IF('請求書（請求者控）'!BX38=\"\",\"\",'請求書（請求者控）'!BX38)","v":""},{"$f":"IF('請求書（請求者控）'!BY38=\"\",\"\",'請求書（請求者控）'!BY38)","v":""},{"$f":"IF('請求書（請求者控）'!BZ38=\"\",\"\",'請求書（請求者控）'!BZ38)","v":""},{"$f":"IF('請求書（請求者控）'!CA38=\"\",\"\",'請求書（請求者控）'!CA38)","v":""},{"$f":"IF('請求書（請求者控）'!CB38=\"\",\"\",'請求書（請求者控）'!CB38)","v":""},{"$f":"IF('請求書（請求者控）'!CC38=\"\",\"\",'請求書（請求者控）'!CC38)","v":""},{"$f":"IF('請求書（請求者控）'!CD38=\"\",\"\",'請求書（請求者控）'!CD38)","v":""},{"$f":"IF('請求書（請求者控）'!CE38=\"\",\"\",'請求書（請求者控）'!CE38)","v":""},{"$f":"IF('請求書（請求者控）'!CF38=\"\",\"\",'請求書（請求者控）'!CF38)","v":""},{"$f":"IF('請求書（請求者控）'!CG38=\"\",\"\",'請求書（請求者控）'!CG38)","v":""},{"$f":"IF('請求書（請求者控）'!CH38=\"\",\"\",'請求書（請求者控）'!CH38)","v":""},{"$f":"IF('請求書（請求者控）'!CI38=\"\",\"\",'請求書（請求者控）'!CI38)","v":""},{"$f":"IF('請求書（請求者控）'!CJ38=\"\",\"\",'請求書（請求者控）'!CJ38)","v":""},{"$f":"IF('請求書（請求者控）'!CK38=\"\",\"\",'請求書（請求者控）'!CK38)","v":""},{"$f":"IF('請求書（請求者控）'!CL38=\"\",\"\",'請求書（請求者控）'!CL38)","v":""},{"$f":"IF('請求書（請求者控）'!CM38=\"\",\"\",'請求書（請求者控）'!CM38)","v":""}]
[]
[null,6,{"$nulls":32},{"$f":"IF('請求書（請求者控）'!AI40=\"\",\"\",'請求書（請求者控）'!AI40)","v":""},{"$f":"IF('請求書（請求者控）'!AJ40=\"\",\"\",'請求書（請求者控）'!AJ40)","v":""},{"$f":"IF('請求書（請求者控）'!AK40=\"\",\"\",'請求書（請求者控）'!AK40)","v":""},{"$f":"IF('請求書（請求者控）'!AL40=\"\",\"\",'請求書（請求者控）'!AL40)","v":""},{"$f":"IF('請求書（請求者控）'!AM40=\"\",\"\",'請求書（請求者控）'!AM40)","v":""},{"$f":"IF('請求書（請求者控）'!AN40=\"\",\"\",'請求書（請求者控）'!AN40)","v":""},{"$f":"IF('請求書（請求者控）'!AO40=\"\",\"\",'請求書（請求者控）'!AO40)","v":""},{"$f":"IF('請求書（請求者控）'!AP40=\"\",\"\",'請求書（請求者控）'!AP40)","v":""},null,{"$f":"IF('請求書（請求者控）'!AR40=\"\",\"\",'請求書（請求者控）'!AR40)","v":""},{"$f":"IF('請求書（請求者控）'!AS40=\"\",\"\",'請求書（請求者控）'!AS40)","v":""},{"$f":"IF('請求書（請求者控）'!AT40=\"\",\"\",'請求書（請求者控）'!AT40)","v":""},{"$f":"IF('請求書（請求者控）'!AU40=\"\",\"\",'請求書（請求者控）'!AU40)","v":""},{"$f":"IF('請求書（請求者控）'!AV40=\"\",\"\",'請求書（請求者控）'!AV40)","v":""},{"$f":"IF('請求書（請求者控）'!AW40=\"\",\"\",'請求書（請求者控）'!AW40)","v":""},{"$f":"IF('請求書（請求者控）'!AX40=\"\",\"\",'請求書（請求者控）'!AX40)","v":""},{"$f":"IF('請求書（請求者控）'!AY40=\"\",\"\",'請求書（請求者控）'!AY40)","v":""},{"$f":"IF('請求書（請求者控）'!AZ40=\"\",\"\",'請求書（請求者控）'!AZ40)","v":""},null,{"$f":"IF('請求書（請求者控）'!BB40=\"\",\"\",'請求書（請求者控）'!BB40)","v":""},{"$f":"IF('請求書（請求者控）'!BC40=\"\",\"\",'請求書（請求者控）'!BC40)","v":""},{"$f":"IF('請求書（請求者控）'!BD40=\"\",\"\",'請求書（請求者控）'!BD40)","v":""},{"$f":"IF('請求書（請求者控）'!BE40=\"\",\"\",'請求書（請求者控）'!BE40)","v":""},{"$f":"IF('請求書（請求者控）'!BF40=\"\",\"\",'請求書（請求者控）'!BF40)","v":""},{"$f":"IF('請求書（請求者控）'!BG40=\"\",\"\",'請求書（請求者控）'!BG40)","v":""},{"$f":"IF('請求書（請求者控）'!BH40=\"\",\"\",'請求書（請求者控）'!BH40)","v":""},{"$f":"IF('請求書（請求者控）'!BI40=\"\",\"\",'請求書（請求者控）'!BI40)","v":""},{"$f":"IF('請求書（請求者控）'!BJ40=\"\",\"\",'請求書（請求者控）'!BJ40)","v":""},null,{"$f":"IF('請求書（請求者控）'!BL40=\"\",\"\",'請求書（請求者控）'!BL40)","v":""},{"$f":"IF('請求書（請求者控）'!BM40=\"\",\"\",'請求書（請求者控）'!BM40)","v":""},{"$f":"IF('請求書（請求者控）'!BN40=\"\",\"\",'請求書（請求者控）'!BN40)","v":""},{"$f":"IF('請求書（請求者控）'!BO40=\"\",\"\",'請求書（請求者控）'!BO40)","v":""},{"$f":"IF('請求書（請求者控）'!BP40=\"\",\"\",'請求書（請求者控）'!BP40)","v":""},{"$f":"IF('請求書（請求者控）'!BQ40=\"\",\"\",'請求書（請求者控）'!BQ40)","v":""},{"$f":"IF('請求書（請求者控）'!BR40=\"\",\"\",'請求書（請求者控）'!BR40)","v":""},{"$f":"IF('請求書（請求者控）'!BS40=\"\",\"\",'請求書（請求者控）'!BS40)","v":""},{"$f":"IF('請求書（請求者控）'!BT40=\"\",\"\",'請求書（請求者控）'!BT40)","v":""},{"$f":"IF('請求書（請求者控）'!BU40=\"\",\"\",'請求書（請求者控）'!BU40)","v":""},null,{"$f":"IF('請求書（請求者控）'!BW40=\"\",\"\",'請求書（請求者控）'!BW40)","v":""},{"$f":"IF('請求書（請求者控）'!BX40=\"\",\"\",'請求書（請求者控）'!BX40)","v":""},{"$f":"IF('請求書（請求者控）'!BY40=\"\",\"\",'請求書（請求者控）'!BY40)","v":""},{"$f":"IF('請求書（請求者控）'!BZ40=\"\",\"\",'請求書（請求者控）'!BZ40)","v":""},{"$f":"IF('請求書（請求者控）'!CA40=\"\",\"\",'請求書（請求者控）'!CA40)","v":""},{"$f":"IF('請求書（請求者控）'!CB40=\"\",\"\",'請求書（請求者控）'!CB40)","v":""},{"$f":"IF('請求書（請求者控）'!CC40=\"\",\"\",'請求書（請求者控）'!CC40)","v":""},{"$f":"IF('請求書（請求者控）'!CD40=\"\",\"\",'請求書（請求者控）'!CD40)","v":""},{"$f":"IF('請求書（請求者控）'!CE40=\"\",\"\",'請求書（請求者控）'!CE40)","v":""}]
[]
[{"$nulls":43},{"$f":"IF('請求書（請求者控）'!AR42=\"\",\"\",'請求書（請求者控）'!AR42)","v":""},{"$f":"IF('請求書（請求者控）'!AS42=\"\",\"\",'請求書（請求者控）'!AS42)","v":""},{"$f":"IF('請求書（請求者控）'!AT42=\"\",\"\",'請求書（請求者控）'!AT42)","v":""},{"$f":"IF('請求書（請求者控）'!AU42=\"\",\"\",'請求書（請求者控）'!AU42)","v":""},{"$f":"IF('請求書（請求者控）'!AV42=\"\",\"\",'請求書（請求者控）'!AV42)","v":""},{"$f":"IF('請求書（請求者控）'!AW42=\"\",\"\",'請求書（請求者控）'!AW42)","v":""},{"$f":"IF('請求書（請求者控）'!AX42=\"\",\"\",'請求書（請求者控）'!AX42)","v":""},{"$f":"IF('請求書（請求者控）'!AY42=\"\",\"\",'請求書（請求者控）'!AY42)","v":""},{"$f":"IF('請求書（請求者控）'!AZ42=\"\",\"\",'請求書（請求者控）'!AZ42)","v":""},{"$f":"IF('請求書（請求者控）'!BA42=\"\",\"\",'請求書（請求者控）'!BA42)","v":""},{"$f":"IF('請求書（請求者控）'!BB42=\"\",\"\",'請求書（請求者控）'!BB42)","v":""},{"$f":"IF('請求書（請求者控）'!BC42=\"\",\"\",'請求書（請求者控）'!BC42)","v":""},{"$f":"IF('請求書（請求者控）'!BD42=\"\",\"\",'請求書（請求者控）'!BD42)","v":""},{"$f":"IF('請求書（請求者控）'!BE42=\"\",\"\",'請求書（請求者控）'!BE42)","v":""},{"$f":"IF('請求書（請求者控）'!BF42=\"\",\"\",'請求書（請求者控）'!BF42)","v":""},{"$f":"IF('請求書（請求者控）'!BG42=\"\",\"\",'請求書（請求者控）'!BG42)","v":""},{"$f":"IF('請求書（請求者控）'!BH42=\"\",\"\",'請求書（請求者控）'!BH42)","v":""},{"$f":"IF('請求書（請求者控）'!BI42=\"\",\"\",'請求書（請求者控）'!BI42)","v":""},{"$f":"IF('請求書（請求者控）'!BJ42=\"\",\"\",'請求書（請求者控）'!BJ42)","v":""},{"$f":"IF('請求書（請求者控）'!BK42=\"\",\"\",'請求書（請求者控）'!BK42)","v":""},{"$f":"IF('請求書（請求者控）'!BL42=\"\",\"\",'請求書（請求者控）'!BL42)","v":""},{"$f":"IF('請求書（請求者控）'!BM42=\"\",\"\",'請求書（請求者控）'!BM42)","v":""},{"$f":"IF('請求書（請求者控）'!BN42=\"\",\"\",'請求書（請求者控）'!BN42)","v":""},{"$f":"IF('請求書（請求者控）'!BO42=\"\",\"\",'請求書（請求者控）'!BO42)","v":""},{"$f":"IF('請求書（請求者控）'!BP42=\"\",\"\",'請求書（請求者控）'!BP42)","v":""},{"$f":"IF('請求書（請求者控）'!BQ42=\"\",\"\",'請求書（請求者控）'!BQ42)","v":""},{"$f":"IF('請求書（請求者控）'!BR42=\"\",\"\",'請求書（請求者控）'!BR42)","v":""},{"$f":"IF('請求書（請求者控）'!BS42=\"\",\"\",'請求書（請求者控）'!BS42)","v":""},{"$f":"IF('請求書（請求者控）'!BT42=\"\",\"\",'請求書（請求者控）'!BT42)","v":""},{"$f":"IF('請求書（請求者控）'!BU42=\"\",\"\",'請求書（請求者控）'!BU42)","v":""},{"$f":"IF('請求書（請求者控）'!BV42=\"\",\"\",'請求書（請求者控）'!BV42)","v":""},{"$f":"IF('請求書（請求者控）'!BW42=\"\",\"\",'請求書（請求者控）'!BW42)","v":""},{"$f":"IF('請求書（請求者控）'!BX42=\"\",\"\",'請求書（請求者控）'!BX42)","v":""},{"$f":"IF('請求書（請求者控）'!BY42=\"\",\"\",'請求書（請求者控）'!BY42)","v":""},{"$f":"IF('請求書（請求者控）'!BZ42=\"\",\"\",'請求書（請求者控）'!BZ42)","v":""},{"$f":"IF('請求書（請求者控）'!CA42=\"\",\"\",'請求書（請求者控）'!CA42)","v":""},{"$f":"IF('請求書（請求者控）'!CB42=\"\",\"\",'請求書（請求者控）'!CB42)","v":""},{"$f":"IF('請求書（請求者控）'!CC42=\"\",\"\",'請求書（請求者控）'!CC42)","v":""},{"$f":"IF('請求書（請求者控）'!CD42=\"\",\"\",'請求書（請求者控）'!CD42)","v":""},{"$f":"IF('請求書（請求者控）'!CE42=\"\",\"\",'請求書（請求者控）'!CE42)","v":""},{"$f":"IF('請求書（請求者控）'!CF42=\"\",\"\",'請求書（請求者控）'!CF42)","v":""},{"$f":"IF('請求書（請求者控）'!CG42=\"\",\"\",'請求書（請求者控）'!CG42)","v":""},{"$f":"IF('請求書（請求者控）'!CH42=\"\",\"\",'請求書（請求者控）'!CH42)","v":""},{"$f":"IF('請求書（請求者控）'!CI42=\"\",\"\",'請求書（請求者控）'!CI42)","v":""},{"$f":"IF('請求書（請求者控）'!CJ42=\"\",\"\",'請求書（請求者控）'!CJ42)","v":""},{"$f":"IF('請求書（請求者控）'!CK42=\"\",\"\",'請求書（請求者控）'!CK42)","v":""},{"$f":"IF('請求書（請求者控）'!CL42=\"\",\"\",'請求書（請求者控）'!CL42)","v":""},{"$f":"IF('請求書（請求者控）'!CM42=\"\",\"\",'請求書（請求者控）'!CM42)","v":""}]
[]
[{"$nulls":56},"10％対象計",{"$nulls":6},{"$f":"IF('請求書（請求者控）'!BL44=\"\",\"\",'請求書（請求者控）'!BL44)","v":{"v":0,"d":"0 "}},{"$f":"IF('請求書（請求者控）'!BM44=\"\",\"\",'請求書（請求者控）'!BM44)","v":""},{"$f":"IF('請求書（請求者控）'!BN44=\"\",\"\",'請求書（請求者控）'!BN44)","v":""},{"$f":"IF('請求書（請求者控）'!BO44=\"\",\"\",'請求書（請求者控）'!BO44)","v":""},{"$f":"IF('請求書（請求者控）'!BP44=\"\",\"\",'請求書（請求者控）'!BP44)","v":""},{"$f":"IF('請求書（請求者控）'!BQ44=\"\",\"\",'請求書（請求者控）'!BQ44)","v":""},{"$f":"IF('請求書（請求者控）'!BR44=\"\",\"\",'請求書（請求者控）'!BR44)","v":""},{"$f":"IF('請求書（請求者控）'!BS44=\"\",\"\",'請求書（請求者控）'!BS44)","v":""},{"$f":"IF('請求書（請求者控）'!BT44=\"\",\"\",'請求書（請求者控）'!BT44)","v":""},{"$f":"IF('請求書（請求者控）'!BU44=\"\",\"\",'請求書（請求者控）'!BU44)","v":""},null,{"$f":"IF('請求書（請求者控）'!BW44=\"\",\"\",'請求書（請求者控）'!BW44)","v":{"v":0,"d":"0 "}},{"$f":"IF('請求書（請求者控）'!BX44=\"\",\"\",'請求書（請求者控）'!BX44)","v":""},{"$f":"IF('請求書（請求者控）'!BY44=\"\",\"\",'請求書（請求者控）'!BY44)","v":""},{"$f":"IF('請求書（請求者控）'!BZ44=\"\",\"\",'請求書（請求者控）'!BZ44)","v":""},{"$f":"IF('請求書（請求者控）'!CA44=\"\",\"\",'請求書（請求者控）'!CA44)","v":""},{"$f":"IF('請求書（請求者控）'!CB44=\"\",\"\",'請求書（請求者控）'!CB44)","v":""},{"$f":"IF('請求書（請求者控）'!CC44=\"\",\"\",'請求書（請求者控）'!CC44)","v":""},{"$f":"IF('請求書（請求者控）'!CD44=\"\",\"\",'請求書（請求者控）'!CD44)","v":""},{"$f":"IF('請求書（請求者控）'!CE44=\"\",\"\",'請求書（請求者控）'!CE44)","v":""}]
[{"$nulls":20},"検 印",{"$nulls":42},{"$f":"IF('請求書（請求者控）'!BL45=\"\",\"\",'請求書（請求者控）'!BL45)","v":""},{"$f":"IF('請求書（請求者控）'!BM45=\"\",\"\",'請求書（請求者控）'!BM45)","v":""},{"$f":"IF('請求書（請求者控）'!BN45=\"\",\"\",'請求書（請求者控）'!BN45)","v":""},{"$f":"IF('請求書（請求者控）'!BO45=\"\",\"\",'請求書（請求者控）'!BO45)","v":""},{"$f":"IF('請求書（請求者控）'!BP45=\"\",\"\",'請求書（請求者控）'!BP45)","v":""},{"$f":"IF('請求書（請求者控）'!BQ45=\"\",\"\",'請求書（請求者控）'!BQ45)","v":""},{"$f":"IF('請求書（請求者控）'!BR45=\"\",\"\",'請求書（請求者控）'!BR45)","v":""},{"$f":"IF('請求書（請求者控）'!BS45=\"\",\"\",'請求書（請求者控）'!BS45)","v":""},{"$f":"IF('請求書（請求者控）'!BT45=\"\",\"\",'請求書（請求者控）'!BT45)","v":""},{"$f":"IF('請求書（請求者控）'!BU45=\"\",\"\",'請求書（請求者控）'!BU45)","v":""},null,{"$f":"IF('請求書（請求者控）'!BW45=\"\",\"\",'請求書（請求者控）'!BW45)","v":""},{"$f":"IF('請求書（請求者控）'!BX45=\"\",\"\",'請求書（請求者控）'!BX45)","v":""},{"$f":"IF('請求書（請求者控）'!BY45=\"\",\"\",'請求書（請求者控）'!BY45)","v":""},{"$f":"IF('請求書（請求者控）'!BZ45=\"\",\"\",'請求書（請求者控）'!BZ45)","v":""},{"$f":"IF('請求書（請求者控）'!CA45=\"\",\"\",'請求書（請求者控）'!CA45)","v":""},{"$f":"IF('請求書（請求者控）'!CB45=\"\",\"\",'請求書（請求者控）'!CB45)","v":""},{"$f":"IF('請求書（請求者控）'!CC45=\"\",\"\",'請求書（請求者控）'!CC45)","v":""},{"$f":"IF('請求書（請求者控）'!CD45=\"\",\"\",'請求書（請求者控）'!CD45)","v":""},{"$f":"IF('請求書（請求者控）'!CE45=\"\",\"\",'請求書（請求者控）'!CE45)","v":""}]
[]
[{"$nulls":56},"８％対象計",{"$nulls":6},{"$f":"IF('請求書（請求者控）'!BL47=\"\",\"\",'請求書（請求者控）'!BL47)","v":{"v":0,"d":"0 "}},{"$f":"IF('請求書（請求者控）'!BM47=\"\",\"\",'請求書（請求者控）'!BM47)","v":""},{"$f":"IF('請求書（請求者控）'!BN47=\"\",\"\",'請求書（請求者控）'!BN47)","v":""},{"$f":"IF('請求書（請求者控）'!BO47=\"\",\"\",'請求書（請求者控）'!BO47)","v":""},{"$f":"IF('請求書（請求者控）'!BP47=\"\",\"\",'請求書（請求者控）'!BP47)","v":""},{"$f":"IF('請求書（請求者控）'!BQ47=\"\",\"\",'請求書（請求者控）'!BQ47)","v":""},{"$f":"IF('請求書（請求者控）'!BR47=\"\",\"\",'請求書（請求者控）'!BR47)","v":""},{"$f":"IF('請求書（請求者控）'!BS47=\"\",\"\",'請求書（請求者控）'!BS47)","v":""},{"$f":"IF('請求書（請求者控）'!BT47=\"\",\"\",'請求書（請求者控）'!BT47)","v":""},{"$f":"IF('請求書（請求者控）'!BU47=\"\",\"\",'請求書（請求者控）'!BU47)","v":""},null,{"$f":"IF('請求書（請求者控）'!BW47=\"\",\"\",'請求書（請求者控）'!BW47)","v":{"v":0,"d":"0 "}},{"$f":"IF('請求書（請求者控）'!BX47=\"\",\"\",'請求書（請求者控）'!BX47)","v":""},{"$f":"IF('請求書（請求者控）'!BY47=\"\",\"\",'請求書（請求者控）'!BY47)","v":""},{"$f":"IF('請求書（請求者控）'!BZ47=\"\",\"\",'請求書（請求者控）'!BZ47)","v":""},{"$f":"IF('請求書（請求者控）'!CA47=\"\",\"\",'請求書（請求者控）'!CA47)","v":""},{"$f":"IF('請求書（請求者控）'!CB47=\"\",\"\",'請求書（請求者控）'!CB47)","v":""},{"$f":"IF('請求書（請求者控）'!CC47=\"\",\"\",'請求書（請求者控）'!CC47)","v":""},{"$f":"IF('請求書（請求者控）'!CD47=\"\",\"\",'請求書（請求者控）'!CD47)","v":""},{"$f":"IF('請求書（請求者控）'!CE47=\"\",\"\",'請求書（請求者控）'!CE47)","v":""}]
[{"$nulls":63},{"$f":"IF('請求書（請求者控）'!BL48=\"\",\"\",'請求書（請求者控）'!BL48)","v":""},{"$f":"IF('請求書（請求者控）'!BM48=\"\",\"\",'請求書（請求者控）'!BM48)","v":""},{"$f":"IF('請求書（請求者控）'!BN48=\"\",\"\",'請求書（請求者控）'!BN48)","v":""},{"$f":"IF('請求書（請求者控）'!BO48=\"\",\"\",'請求書（請求者控）'!BO48)","v":""},{"$f":"IF('請求書（請求者控）'!BP48=\"\",\"\",'請求書（請求者控）'!BP48)","v":""},{"$f":"IF('請求書（請求者控）'!BQ48=\"\",\"\",'請求書（請求者控）'!BQ48)","v":""},{"$f":"IF('請求書（請求者控）'!BR48=\"\",\"\",'請求書（請求者控）'!BR48)","v":""},{"$f":"IF('請求書（請求者控）'!BS48=\"\",\"\",'請求書（請求者控）'!BS48)","v":""},{"$f":"IF('請求書（請求者控）'!BT48=\"\",\"\",'請求書（請求者控）'!BT48)","v":""},{"$f":"IF('請求書（請求者控）'!BU48=\"\",\"\",'請求書（請求者控）'!BU48)","v":""},null,{"$f":"IF('請求書（請求者控）'!BW48=\"\",\"\",'請求書（請求者控）'!BW48)","v":""},{"$f":"IF('請求書（請求者控）'!BX48=\"\",\"\",'請求書（請求者控）'!BX48)","v":""},{"$f":"IF('請求書（請求者控）'!BY48=\"\",\"\",'請求書（請求者控）'!BY48)","v":""},{"$f":"IF('請求書（請求者控）'!BZ48=\"\",\"\",'請求書（請求者控）'!BZ48)","v":""},{"$f":"IF('請求書（請求者控）'!CA48=\"\",\"\",'請求書（請求者控）'!CA48)","v":""},{"$f":"IF('請求書（請求者控）'!CB48=\"\",\"\",'請求書（請求者控）'!CB48)","v":""},{"$f":"IF('請求書（請求者控）'!CC48=\"\",\"\",'請求書（請求者控）'!CC48)","v":""},{"$f":"IF('請求書（請求者控）'!CD48=\"\",\"\",'請求書（請求者控）'!CD48)","v":""},{"$f":"IF('請求書（請求者控）'!CE48=\"\",\"\",'請求書（請求者控）'!CE48)","v":""}]
[]
[{"$nulls":63},{"$f":"IF('請求書（請求者控）'!BL50=\"\",\"\",'請求書（請求者控）'!BL50)","v":{"v":0,"d":"0 "}},{"$f":"IF('請求書（請求者控）'!BM50=\"\",\"\",'請求書（請求者控）'!BM50)","v":""},{"$f":"IF('請求書（請求者控）'!BN50=\"\",\"\",'請求書（請求者控）'!BN50)","v":""},{"$f":"IF('請求書（請求者控）'!BO50=\"\",\"\",'請求書（請求者控）'!BO50)","v":""},{"$f":"IF('請求書（請求者控）'!BP50=\"\",\"\",'請求書（請求者控）'!BP50)","v":""},{"$f":"IF('請求書（請求者控）'!BQ50=\"\",\"\",'請求書（請求者控）'!BQ50)","v":""},{"$f":"IF('請求書（請求者控）'!BR50=\"\",\"\",'請求書（請求者控）'!BR50)","v":""},{"$f":"IF('請求書（請求者控）'!BS50=\"\",\"\",'請求書（請求者控）'!BS50)","v":""},{"$f":"IF('請求書（請求者控）'!BT50=\"\",\"\",'請求書（請求者控）'!BT50)","v":""},{"$f":"IF('請求書（請求者控）'!BU50=\"\",\"\",'請求書（請求者控）'!BU50)","v":""},null,"合計",{"$nulls":4},{"$f":"IF('請求書（請求者控）'!CB50=\"\",\"\",'請求書（請求者控）'!CB50)","v":{"v":0,"d":"0 "}},{"$f":"IF('請求書（請求者控）'!CC50=\"\",\"\",'請求書（請求者控）'!CC50)","v":""},{"$f":"IF('請求書（請求者控）'!CD50=\"\",\"\",'請求書（請求者控）'!CD50)","v":""},{"$f":"IF('請求書（請求者控）'!CE50=\"\",\"\",'請求書（請求者控）'!CE50)","v":""},{"$f":"IF('請求書（請求者控）'!CF50=\"\",\"\",'請求書（請求者控）'!CF50)","v":""},{"$f":"IF('請求書（請求者控）'!CG50=\"\",\"\",'請求書（請求者控）'!CG50)","v":""},{"$f":"IF('請求書（請求者控）'!CH50=\"\",\"\",'請求書（請求者控）'!CH50)","v":""},{"$f":"IF('請求書（請求者控）'!CI50=\"\",\"\",'請求書（請求者控）'!CI50)","v":""},{"$f":"IF('請求書（請求者控）'!CJ50=\"\",\"\",'請求書（請求者控）'!CJ50)","v":""},{"$f":"IF('請求書（請求者控）'!CK50=\"\",\"\",'請求書（請求者控）'!CK50)","v":""},{"$f":"IF('請求書（請求者控）'!CL50=\"\",\"\",'請求書（請求者控）'!CL50)","v":""},{"$f":"IF('請求書（請求者控）'!CM50=\"\",\"\",'請求書（請求者控）'!CM50)","v":""}]
[{"$nulls":63},{"$f":"IF('請求書（請求者控）'!BL51=\"\",\"\",'請求書（請求者控）'!BL51)","v":""},{"$f":"IF('請求書（請求者控）'!BM51=\"\",\"\",'請求書（請求者控）'!BM51)","v":""},{"$f":"IF('請求書（請求者控）'!BN51=\"\",\"\",'請求書（請求者控）'!BN51)","v":""},{"$f":"IF('請求書（請求者控）'!BO51=\"\",\"\",'請求書（請求者控）'!BO51)","v":""},{"$f":"IF('請求書（請求者控）'!BP51=\"\",\"\",'請求書（請求者控）'!BP51)","v":""},{"$f":"IF('請求書（請求者控）'!BQ51=\"\",\"\",'請求書（請求者控）'!BQ51)","v":""},{"$f":"IF('請求書（請求者控）'!BR51=\"\",\"\",'請求書（請求者控）'!BR51)","v":""},{"$f":"IF('請求書（請求者控）'!BS51=\"\",\"\",'請求書（請求者控）'!BS51)","v":""},{"$f":"IF('請求書（請求者控）'!BT51=\"\",\"\",'請求書（請求者控）'!BT51)","v":""},{"$f":"IF('請求書（請求者控）'!BU51=\"\",\"\",'請求書（請求者控）'!BU51)","v":""},{"$nulls":6},{"$f":"IF('請求書（請求者控）'!CB51=\"\",\"\",'請求書（請求者控）'!CB51)","v":""},{"$f":"IF('請求書（請求者控）'!CC51=\"\",\"\",'請求書（請求者控）'!CC51)","v":""},{"$f":"IF('請求書（請求者控）'!CD51=\"\",\"\",'請求書（請求者控）'!CD51)","v":""},{"$f":"IF('請求書（請求者控）'!CE51=\"\",\"\",'請求書（請求者控）'!CE51)","v":""},{"$f":"IF('請求書（請求者控）'!CF51=\"\",\"\",'請求書（請求者控）'!CF51)","v":""},{"$f":"IF('請求書（請求者控）'!CG51=\"\",\"\",'請求書（請求者控）'!CG51)","v":""},{"$f":"IF('請求書（請求者控）'!CH51=\"\",\"\",'請求書（請求者控）'!CH51)","v":""},{"$f":"IF('請求書（請求者控）'!CI51=\"\",\"\",'請求書（請求者控）'!CI51)","v":""},{"$f":"IF('請求書（請求者控）'!CJ51=\"\",\"\",'請求書（請求者控）'!CJ51)","v":""},{"$f":"IF('請求書（請求者控）'!CK51=\"\",\"\",'請求書（請求者控）'!CK51)","v":""},{"$f":"IF('請求書（請求者控）'!CL51=\"\",\"\",'請求書（請求者控）'!CL51)","v":""},{"$f":"IF('請求書（請求者控）'!CM51=\"\",\"\",'請求書（請求者控）'!CM51)","v":""}]